Workbook

Sheet Chinook Summary
A1: File Organization: sheet tabs are color-coded - see below for descriptions
A3: Yellow | B3: this summary tab lists the species life stages and the candidate HSC curves proposed for consideration (see table below)
A4: Lt Blue | B4: NEW: Adult chinook holding curves from 3 sources
A5: Red | B5: proposed candidate HSC curves - "info" table lists metadata for all available curves (candidates highlighted in yellow), figures show proposed candidate HSC curves by lifestage for depth or velocity
B6: the chinook fry rearing figures also show available RMT site-specific data that is overlaid with candidate curves to help with curve selection
B7: the "Yuba new" datapoint and table on each curve figure is a placeholder in the event that we want to create and overlay a new curve with the existing curves
A8: Green | B8: fry vs juvenile comparison curves - are intended to show if specific curve-sets reflect increased suitability of deeper/faster water as fish grow
A9: Blue | B9: ALL HSC curves are plotted together (candidate and non-candidate) - very busy!
A10: Brown | B10: supporting data for figures
A12: Lifestage | B12: Variable | C12: Proposed HSC | D12: Alternate HSC1 | E12: Alternate HSC1
A13: Adult | B13: Velocity | C13: TBD | D13: Stanislaus | E13: Wind
B14: Depth | C14: TBD | D14: Stanislaus | E14: Wind
A15: Spawning | B15: Velocity | C15: Yuba Beak2 | D15: Yuba FWS | E15: Tuol TRTAC
B16: Depth | C16: Yuba Beak2 | D16: Yuba FWS | E16: Tuol TRTAC
B17: Substrate | C17: RMT Site-Spec3 | D17: Yuba FWS | E17: Tuol TRTAC
B18: Cover | C18: N/A4
A20: Fry | B20: Velocity | C20: Yuba Beak | D20: Yuba FWS | E20: Tuol TRTAC5
B21: Depth | C21: Yuba Beak | D21: Yuba FWS | E21: Tuol TRTAC6
B22: Substrate | C22: N/A4
B23: Cover | C23: TBD7 | D23: Yuba FWS7
B24: Adj Velocity | C24: TBD7 | D24: Yuba FWS7
A26: Juvenile | B26: Velocity | C26: Yuba Beak | D26: Yuba FWS8 | E26: Tuol TRTAC10
B27: Depth | C27: Yuba Beak | D27: Yuba FWS9 | E27: Tuol TRTAC11
B28: Substrate | C28: N/A4
B29: Cover | C29: TBD7 | D29: Yuba FWS7
B30: Adj Velocity | C30: TBD7 | D30: Yuba FWS7
A31: Notes:
A32: 1 | B32: alternate HSC curve sets not in any specific order of preference
A33: 2 | B33: HSC curves successfully biovalidated in Yuba River by RMT
A34: 3 | B34: simplified substrate HSC (binary w suit for particles 32-90mm?), as biovalidated in Yuba by RMT
A35: 4 | B35: not proposed for use - fry and juvenile expected to select microhabitat independent of substrate
A36: 5 | B36: based on Yuba FWS, Stanislaus, and Tuolumne DFG curves
A37: 6 | B37: same as above, but concensus was not final on depth curve as of Feb 2011
A38: 7 | B38: use of cover and/or adjacent velocity HSC to be discussed
A39: 8 | B39: velocity based on STH fry curve, also used to represent STH juvenile
A40: 9 | B40: depth based on 39 CHS juveniles
A41: 10 | B41: velocity uses Stanislaus FWS curve, depth is modification thereof
A42: 11 | B42: depth based on modified Stanislaus FWS curve

Sheet chsadult.info
B1: CHINOOK SALMON ADLT HOLDING
G2: cm | H2: cm | N2: ft msl | O2: ft msl | P2: N / W Deg Min.min | R2: ft | S2: ft | T2: ft | U2: cfs | V2: cfs | W2: cfs | X2: % | Y2: oC | Z2: oC | AA2: oC
B3: Curve ID | D3: Fish Characteristics | I3: Sample Size1 | K3: Stream Location | R3: Stream Characteristics 2 | AC3: Sampling Info | AI3: Available HSC Data
F4: Life- | G4: Length | I4: No. HSC | J4: No. | N4: Elevation | P4: GPS Coordinates | S4: Width | V4: Streamflow | X4: Mean | Z4: Water Temperature | AB4: Species | AC4: Site - | AD4: Sampling | AE4: Survey | AF4: Observ | AG4: Curve | AH4: Curve | AI4: Total | AJ4: Velocity | AM4: Sub-
A5: Plot? | B5: No. | C5: Name | D5: Species | E5: Race | F5: stage | G5: Min | H5: Max | I5: Obs | J5: Fish | K5: Country | L5: State | M5: River | N5: Min | O5: Max | P5: Downstream | Q5: Upstream | R5: Mean | S5: Min | T5: Max | U5: Mean | V5: Min | W5: Max | X5: Slope | Y5: Mean | Z5: Min | AA5: Max | AB5: Composition3 | AC5: Specific? | AD5: Season | AE5: Design4 | AF5: Method5 | AG5: Type6 | AH5: Smoothing7 | AI5: Depth | AJ5: Mean Col | AK5: Focal | AL5: Cover8 | AM5: strate8 | AN5: Other | AO5: Notes | AP5: Reference
A6: Y | B6: 1 | C6: Stanislaus | D6: chinook | E6: fall | F6: adult | I6: 205 | K6: USA | L6: CA | M6: Stanislaus | U6: 400 | AC6: Y | AD6: fall | AE6: reaches | AF6: DO uw | AG6: III? | AH6: RM or NPTL? | AI6: Y | AJ6: Y | AK6: Y | AL6: Y | AM6: Y | AN6: fines | AO6: 1 | AP6: Aceituno, M.E. 1990. Habitat preference criteria for fall-run chinook salmon holding, spawning, and rearing in the Stanislaus River, California. U.S. Fish and Wildlife Service Report. Sacramento, CA.
A7: Y | B7: 2 | C7: Wind U/A | D7: chinook | E7: spring | F7: adult | G7: avg 76-98cm | I7: 537 | K7: USA | L7: WA | M7: Wind | AC7: Y | AE7: reaches | AF7: DO uw | AG7: III | AH7: judgement | AI7: Y | AJ7: Y | AK7: Y | AL7: Y | AM7: Y | AN7: shade | AO7: 2,3 | AP7: Wampler, P.L. 1986. Development of habitat preference criteria for holding adult spring Chinook salmon. U.S. Fish & Wildlife Service, Olympia, WA.
A8: Y | B8: 3 | C8: Wind Use | D8: chinook | E8: spring | F8: adult | G8: avg 76-98cm | I8: 537 | K8: USA | L8: WA | M8: Wind | AC8: Y | AE8: reaches | AF8: DO uw | AG8: II | AH8: none | AI8: Y | AJ8: Y | AK8: Y | AL8: Y | AM8: Y | AN8: shade | AO8: 2,3 | AP8: Wampler, P.L. 1986. Development of habitat preference criteria for holding adult spring Chinook salmon. U.S. Fish & Wildlife Service, Olympia, WA.
A9: Y | B9: 4 | C9: Yakima delphi | D9: chinook | E9: spring | F9: adult | K9: USA | L9: WA | M9: Yakima Basin | AC9: N | AG9: I delphi | AI9: Y | AJ9: Y | AO9: 4 | AP9: Yakima river Decision support system, Delphi round 4 results
B13: Keys:
B14: 1 | C14: # HSC observations is number of independent measurements at fish positions, # fish is total number of fish seen at the measurement locations
B15: 2 | C15: stream habitat characteristics DURING THE PERIOD OF SAMPLING FOR HSC
B16: 3 | C16: species abbreviations: chs=chinook salmon, coh=coho salmon, sth=steelhead, rbt=rainbow trout (resident), brn=brown trout, brk=brook trout, bul=bull trout, cut=cutthroat trout, wtf=whitefish, skr=suckers, scp=sculpin, pkm=pikeminnow, hdh=hardhead, dac=dace
B17: 4 | C17: survey design: sampling design used to collect hsc data, i.e. reaches - samples collected in representative reach(es), proportional - samples collected within mesohabitat types with effort in proportion to availability, equal-area - samples collected wit
B18: 5 | C18: observation method: DOuw-direct observation underwater (snorkeling/scuba), DOow-direct observation out-of-water (wading, boat, or bank observation), EF-electrofishing, VID-underwater video, NET-seining or other net capture, Other (see comments)
B19: 6 | C19: curve type: Cat I - hand-drawn or a composite of various curves based on professional judgment, Cat II - based on habitat use data, Cat III - based on habitat use data adjusted by habitat availability data, Bio - bioenergetics hsc
B20: 7 | C20: curve smoothing: method used (if any) to smooth raw observation or frequency histogram data
B21: 8 | C21: see hsc data sets for cover and substrate coding details
B23: Comments:
B24: 1 | C24: report states U/A curves based first on RM, then NPTL applied (but curve shape does not appear consistent with this description)
B25: 2 | C25: final depth curve showed discrpancy between plot and curve-pts, this file used the plotted curve
B26: 3 | C26: availability of deep water subjectively estimated
B27: 4 | C27: binary curves for "suitable" range based on 25th percentile for depth/velocity minimums, and 75th percentile for D/V maximums

Sheet chsadlt.vel ALL
P1: New HSC Curve:
P2: Veloc | Q2: Yuba New
P3: 0 | Q3: 0
P4: 0 | Q4: 0
P5: 0 | Q5: 0
P6: 0 | Q6: 0
P7: 0 | Q7: 0

Sheet chsadlt.dep ALL
P1: New HSC Curve:
P2: Depth | Q2: Yuba New
P3: 0 | Q3: 0
P4: 0 | Q4: 0
P5: 0 | Q5: 0
P6: 0 | Q6: 0
P7: 0 | Q7: 0

Sheet chsspwn.info
B1: CHINOOK SALMON SPAWNING
G2: cm | H2: cm | N2: ft msl | O2: ft msl | P2: N / W Deg Min.min | R2: ft | S2: ft | T2: ft | U2: cfs | V2: cfs | W2: cfs | X2: % | Y2: oC | Z2: oC | AA2: oC
B3: Curve ID | D3: Fish Characteristics | I3: Sample Size1 | K3: Stream Location | R3: Stream Characteristics 2 | AC3: Sampling Info | AI3: Available HSC Data
F4: Life- | G4: Length | I4: No. HSC | J4: No. | N4: Elevation | P4: GPS Coordinates | S4: Width | V4: Streamflow | X4: Mean | Z4: Water Temperature | AB4: Species | AC4: Site - | AD4: Sampling | AE4: Survey | AF4: Observ | AG4: Curve | AH4: Curve | AI4: Total | AJ4: Velocity | AM4: Sub-
A5: Plot? | B5: No. | C5: Name | D5: Species | E5: Race | F5: stage | G5: Min | H5: Max | I5: Obs | J5: Fish | K5: Country | L5: State | M5: River | N5: Min | O5: Max | P5: Downstream | Q5: Upstream | R5: Mean | S5: Min | T5: Max | U5: Mean | V5: Low | W5: High | X5: Slope | Y5: Mean | Z5: Min | AA5: Max | AB5: Composition3 | AC5: Specific? | AD5: Season | AE5: Design4 | AF5: Method5 | AG5: Type6 | AH5: Smoothing7 | AI5: Depth | AJ5: Mean Col | AK5: Focal | AL5: Cover8 | AM5: strate8 | AN5: Other | AO5: Comments | AP5: Reference
A6: Y | B6: 1 | C6: BoveeF | D6: chinook | E6: fall | F6: spwning | K6: USA | L6: OR,ID | M6: various | AC6: N | AG6: Cat I | AI6: Y | AJ6: Y | AM6: Y | AP6: Bovee, K.D. 1978. Probability-of-use criteria for the family Salmonidae. Instream Flow Information Paper No. 4. Cooperative Instream Flow Service Group, U.S. fish & Wildlife Service, Fort Collins, CO.
A7: Y | B7: 2 | C7: BoveeS | D7: chinook | E7: spring | F7: spwning | K7: USA | L7: OR | M7: various | AC7: N | AG7: Cat I | AI7: Y | AJ7: Y | AM7: Y | AP7: Bovee, K.D. 1978. Probability-of-use criteria for the family Salmonidae. Instream Flow Information Paper No. 4. Cooperative Instream Flow Service Group, U.S. fish & Wildlife Service, Fort Collins, CO.
A8: Y | B8: 3 | C8: Raleigh | D8: chinook | E8: fall+spring | F8: spwning | K8: USA,NZ | L8: AL,WA,CA | M8: various | AC8: N | AG8: Cat I | AI8: Y | AJ8: Y | AM8: Y | AP8: Raleigh, R.F., W.J. Miller, and P.C. Nelson. 1986. Habitat suitability index models and instream flow suitability curves: Chinook salmon. United States Fish and Wildlife Service, Biological Report 82(10.122). 64pp.
A9: Y | B9: 4 | C9: Yakima2 | D9: chinook | E9: spring | F9: spwning | I9: 118 | K9: USA | L9: WA | M9: Yakima/American | U9: 250 | AC9: Y | AG9: Cat II | AI9: Y | AJ9: Y | AP9: Stempel, J. M. 1984. Development of fish preference curves for spring chinook and rainbow trout in the Yakima River Basin. U.S. fish & Wildlife Service, Moses Lake, WA.
A10: Y | B10: 5 | C10: TrinityU | D10: chinook | E10: fall | F10: spwning | I10: 311 | K10: USA | L10: CA | M10: Trinity | V10: 300 | W10: 450 | AC10: Y | AG10: Cat II | AH10: 3-pt running means | AI10: Y | AJ10: Y | AP10: Hampton, M. 1997. Microhabitat suitability criteria for anadromous salmonids of the Trinity River. U.S. Fish & Wildlife Service, Arcata, CA.
A11: Y | B11: 6 | C11: KlamathSS | D11: chinook | E11: fall | F11: spwning | I11: 290 | K11: USA | L11: CA | M11: Klamath | V11: 1385 | W11: 1825 | AC11: Y | AD11: Oct | AG11: Cat II | AH11: NPTL | AI11: Y | AJ11: Y | AK11: Y | AN11: % fines | AP11: Hardin-Davis Inc., RTG Fishery Research & Photography, Terraqua Inc., and CDFG. 2002 DRAFT. Habitat suitability criteria for anadromous salmonids in the Klamath River, Iron Gate Dam to Scott River, California. California Department of Fish & Game Stream Evaluation Report 01-1, 2001.
A12: Y | B12: 7 | C12: Feather (DWR) | D12: chinook | E12: fall | F12: spwning | I12: 417 | K12: USA | L12: CA | M12: Feather | V12: 600 | W12: 2500 | AC12: Y | AD12: Oct-Dec | AG12: Cat II | AH12: NPTL / binary | AI12: Y | AJ12: Y | AM12: Y | AO12: cite for binary: | AP12: Sommer, T., D. McEwan, and R. Brown. 2001. Factors affecting chinook salmon spawning in the lower Feather River. Pages 269-297 in R.L. Brown, editor. Contributions to the biology of Central Valley salmonids. California Department of Fish and Game Fish Bulletin 179.
A13: Y | B13: 8 | C13: SacF | D13: chinook | E13: fall | F13: spwning | I13: 437 | K13: USA | L13: CA | M13: Sacramento | V13: 3000 | W13: 15000 | AC13: Y | AD13: Feb-Nov | AG13: Cat II | AM13: Y | AO13: 1 | AP13: USFWS. 2003. Flow-habitat relationships for steelhead and fall, late-fall and winter-run chinook salmon spawning in the Sacramento River between Keswick Dam and Battle Creek. U.S. Fish & Wildlife Service, Sacramento Fish & Wildlife Office, Sacramento, CA.79 pp.
A14: Y | B14: 9 | C14: SacLF | D14: chinook | E14: late-fall | F14: spwning | I14: 156 | K14: USA | L14: CA | M14: Sacramento | V14: 3000 | W14: 15000 | AC14: Y | AD14: Feb-Nov | AG14: Cat II | AM14: Y | AO14: 1 | AP14: USFWS. 2003. Flow-habitat relationships for steelhead and fall, late-fall and winter-run chinook salmon spawning in the Sacramento River between Keswick Dam and Battle Creek. U.S. Fish & Wildlife Service, Sacramento Fish & Wildlife Office, Sacramento, CA.79 pp.
A15: Y | B15: 10 | C15: SacW | D15: chinook | E15: winter | F15: spwning | I15: 227 | K15: USA | L15: CA | M15: Sacramento | V15: 3000 | W15: 15000 | AC15: Y | AD15: Feb-Nov | AG15: Cat II | AM15: Y | AO15: 1 | AP15: USFWS. 2003. Flow-habitat relationships for steelhead and fall, late-fall and winter-run chinook salmon spawning in the Sacramento River between Keswick Dam and Battle Creek. U.S. Fish & Wildlife Service, Sacramento Fish & Wildlife Office, Sacramento, CA.79 pp.
A16: Y | B16: 11 | C16: BattleV | D16: chinook | E16: fall | F16: spwning | I16: 216 | K16: USA | L16: CA | M16: Battle | AC16: Y | AD16: Oct | AI16: Y | AK16: Y | AP16: Vogel, D.A. 1982. Preferred spawning velocities, depths, and substrates for fall chinook salmon in Battle Creek, California. U.S. Fish & Wildlife Service, Red bluff, California.
A17: Y | B17: 12 | C17: Eel | D17: chinook | E17: fall | F17: spwning | I17: 399 | K17: USA | L17: CA | M17: Eel | V17: 20 | W17: 285 | AC17: Y | AD17: Nov-Dec | AE17: reaches | AG17: Cat II | AH17: polynomial regr | AI17: Y | AJ17: Y | AO17: 6 | AP17: Steiner Environmental Consulting. 1990. Potter Valley Project monitoring program (FERC No. 77, Article 39). Effects of operations on upper Eel River anadromous salmonids. 1988-89 progress report. Report prepared for Pacific Gas and Electric Company, San Ramon, CA.
A18: Y | B18: 13 | C18: Merced | D18: chinook | E18: fall | F18: spwning | I18: 186 | K18: USA | L18: CA | M18: Merced | AP18: United States Fish and Wildlife Service. 1997. Identification of the instream flow requirements for fall-run Chinook salmon spawning in the Merced River. Final Report, USFWS, Energy Planning and Instream Flow Branch, Sacramento, California. 66pp.
A19: Y | B19: 14 | C19: American | D19: chinook | E19: fall | F19: spwning | I19: 218 | K19: USA | L19: CA | M19: American | AP19: United States Fish and Wildlife Service. 1997. Supplimental report on the instream flow requirements for fall-run Chinook salmon spawning in the lower American River. USFWS, Energy Planning and Instream Flow Branch, Sacramento, California.
A20: Y | B20: 15 | C20: Clearwater | D20: chinook | F20: spwning | K20: USA | L20: ID | M20: Clearwater | AP20: Arnsberg, B.D., W.P. Connor, and E. Connor. 1992. Mainsten Clearwater River study: assessment for salmonid spawning, incubation, and rearing. Final Report. United States Department of Energy, Bonneville Power Administration, DOE/BP- 37474-3. 201pp.
A21: Y | B21: 16 | C21: OregonF | D21: chinook | E21: fall | F21: spwning | I21: 107 | K21: USA | L21: OR | M21: various | AP21: Sams, R.E., and L.S. Pearson. 1963. Methods for determining spawning flows for anadromous salmonids. Oregon Fish Commision Draft Report.
A22: Y | B22: 17 | C22: OregonS | D22: chinook | E22: spring | F22: spwning | I22: 252 | K22: USA | L22: OR | M22: various | V22: 25 | W22: 230 | AP22: Sams, R.E., and L.S. Pearson. 1963. Methods for determining spawning flows for anadromous salmonids. Oregon Fish Commision Draft Report.
A23: Y | B23: 18 | C23: Oregon2 | D23: chinook | F23: spwning | K23: USA | L23: OR | M23: various | AP23: Beak (possibly Sandy River data??)
A24: Y | B24: 19 | C24: Skagit | D24: chinook | F24: spwning | I24: 436 | K24: USA | L24: WA | M24: Skagit | V24: <2,000 | W24: <8,000 | AP24: Kurko, K.W. 1977. Investigations on the amount of potential spawning area available to chinook, pink, and chum salmon in the upper Skagit River, Washington. M.S. Thesis, University of Washington, Seattle, WA.
A25: Y | B25: 20 | C25: Nechacko | D25: chinook | F25: spwning | K25: CAN | L25: BC | M25: Nechacko | R25: 330 | U25: 1060 | AG25: Cat I | AH25: binary | AI25: Y | AJ25: Y | AM25: Y | AP25: Shirvell, C.S. 1989. Ability of PHABSIM to predict chinook salmon spawning habitat. Regulated Rivers: Research & Management 3:277-289.
A26: Y | B26: 21 | C26: Alaska1 | D26: chinook | F26: spwning | K26: USA | L26: AL | AP26: Estes
A27: Y | B27: 22 | C27: Alaska2 | D27: chinook | F27: spwning | I27: 262 | K27: USA | L27: AL | M27: Portage Cr & Indian R | V27: 100 | W27: 2000 | AC27: Y | AG27: Cat II | AH27: mod by prof judg | AI27: Y | AJ27: Y | AM27: Y | AO27: 7 | AP27: Vincent-Lang, D., A. Hoffman, A. Bingham, and C. Estes. 1984. Habitat suitability criteria for chinook, coho, and pink salmon spawning in tributaries of the Middle Susitna River. Chapter 9 In C.C. Estes and D.S. Vincent-Lang, editors. Aquatic habitat and instream flow investigations (May-October 1983). Alaska Department of Fish and Game, Susitna Hydro Aquatic Studies Report No. 3, Ancorage, AL.
A28: Y | B28: 23 | C28: SRBA | D28: chinook | F28: spwning | K28: USA | M28: various
A29: Y | B29: 24 | C29: Panther | D29: chinook | E29: spring | F29: spwning | I29: 150 | K29: USA | L29: ID | M29: Panther | AG29: Cat I/II | AI29: Y | AJ29: Y | AM29: Y | AO29: 4,5 | AP29: Reiser, D.W. 1985. Panther Creek, Idaho. Habitat rehabilitation - final report. Contract No. DE-AC79-84BP17449. Bonneville Power Administration, Portland, Oregon.
A30: Y | B30: 25 | C30: KlamathENV | D30: chinook | E30: fall | F30: spwning | K30: USA | L30: CA | M30: various | AG30: Cat I | AI30: Y | AJ30: Y | AP30: Hardy, T.B. and R.C. Addley. 2001. Evaluation of interim instream flow needs in the Klamath River. Phase II Final Report. Prepared for U.S. Department of the Interior by Institute for Natural Systems Engineering, Utah Water Research Laboratory, Utah State University, Logan, UT.
A31: Y | B31: 26 | C31: Yuba Beak | D31: chinook | E31: fall | F31: spwning | I31: 154 | K31: USA | L31: CA | M31: Yuba | N31: 45 | O31: 282 | V31: 616 | W31: 858 | AC31: Y | AD31: Nov | AE31: reaches | AF31: DO ow | AG31: Cat II | AH31: NPTL | AI31: Y | AJ31: Y | AM31: Y | AP31: Beak Consultants, Inc. 1988. Yuba River fisheries investigations, 1986-88. Appendix D: Evaluation of microhabitat utilzation for fall run chinook salmon (Oncorhynchus tshawytscha) in the lower Yuba River California. Final report prepared for California Department of Fish & Game, Sacramento, California.
A32: Y | B32: 27 | C32: Stanislaus | D32: chinook | E32: fall | F32: spwning | I32: 105 | K32: USA | L32: CA | M32: Stanislaus | N32: ~50 | O32: 300 | U32: 400 | AC32: Y | AD32: Nov | AE32: reaches | AF32: DO ow | AG32: Cat III ? | AH32: 3-pt running means | AI32: Y | AJ32: Y | AK32: Y | AL32: Y | AM32: Y | AN32: Y | AO32: 2 | AP32: Aceituno, M.E. 1990. Habitat preference criteria for fall-run chinook salmon holding, spawning, and rearing in the Stanislaus River, California. U.S. Fish and Wildlife Service Report. Sacramento, CA.
A33: Y | B33: 28 | C33: WDF-large | D33: chinook | E33: fall+spring | F33: spwning | K33: USA | L33: WA | M33: various | R33: >150 | V33: "Large" river HSC | AC33: N | AG33: Cat I | AI33: Y | AJ33: Y | AM33: Y | AO33: 3 | AP33: Washington Department of Fisheries. 1987. Documentation and rationale for preference curves used 1983-1987 for IFIM studies, Washington Department of Fisheries, Habitat Management. Draft report by J. Caldwell and B. Caldwell.
A34: Y | B34: 29 | C34: WDF-river | D34: chinook | E34: fall+spring | F34: spwning | K34: USA | L34: WA | M34: various | R34: 50-150 | V34: "River" HSC | AC34: N | AG34: Cat I | AI34: Y | AJ34: Y | AM34: Y | AO34: 3 | AP34: Washington Department of Fisheries. 1987. Documentation and rationale for preference curves used 1983-1987 for IFIM studies, Washington Department of Fisheries, Habitat Management. Draft report by J. Caldwell and B. Caldwell.
A35: Y | B35: 30 | C35: WDF-stream | D35: chinook | E35: fall+spring | F35: spwning | K35: USA | L35: WA | M35: various | R35: <50 | V35: "Stream" HSC | AC35: N | AG35: Cat I | AI35: Y | AJ35: Y | AM35: Y | AO35: 3 | AP35: Washington Department of Fisheries. 1987. Documentation and rationale for preference curves used 1983-1987 for IFIM studies, Washington Department of Fisheries, Habitat Management. Draft report by J. Caldwell and B. Caldwell.
A36: Y | B36: 31 | C36: Feather (TRPA) | D36: chinook | E36: fall | F36: spwning | I36: 417 | K36: USA | L36: CA | M36: Feather | V36: 600 | W36: 2500 | AC36: Y | AD36: Oct-Dec | AG36: Cat II | AH36: polynomial regr | AI36: Y | AJ36: Y | AP36: DWR. 2004. Phase 2 Report: Evaluation of project effects on instream flow and fish habitat SP F-16. Oroville facilities relicensing, FERC Project No. 2100.
A37: Y | B37: 32 | C37: Butte | D37: chinook | E37: spring | F37: spwning | I37: 792 | K37: USA | L37: CA | M37: Butte | V37: 45 | W37: 135 | AC37: Y | AE37: Sept-Oct | AF37: DO ow | AG37: Cat IV? | AH37: pres-abs | AI37: Y | AJ37: Y | AM37: Y | AP37: USFWS. 2003. Flow-habitat relationships for spring-run chinook salmon spawning in Butte Creek. U.S. Fish & Wildlife Service, Sacramento Fish & Wildlife Office, Sacramento, CA.85 pp.
A38: Y | B38: 33 | C38: Mokelumne | D38: chinook | E38: fall | F38: spwning | K38: USA | L38: CA | M38: Mokelumne | AC38: Y | AG38: Cat II? | AI38: Y | AJ38: Y | AO38: 4 | AP38: curves redrawn from Beak 1988, referenced as preliminary data from Envirosphere 1988 (but no full citation given)
A39: Y | B39: 34 | C39: Tuol TRTAC | D39: chinook | E39: fall? | F39: spwning | I39: 318 | K39: USA | L39: CA | M39: Tuolumne | AC39: Y | AG39: Cat II? | AI39: Y | AJ39: Y | AM39: Y | AO39: 8 | AP39: United States Fish and Wildlife Service. 1994. The relationship between instream flow and physical habitat availability for chinook salmon in the lower Tuolumne River, California. September 1994 draft report prepared by the Ecological Services Branch of the Sacramento Field Office for the Turlock and Modesto Irrigation Districts. 76pp.
A40: Y | B40: 35 | C40: Yuba FWS fall | D40: chinook | E40: fall | F40: spwning | I40: 870 | K40: USA | L40: CA | M40: Yuba | V40: 476 | W40: 911 | AC40: Y | AE40: reaches | AG40: Cat III ? | AH40: Pres-Abs, log regr | AI40: Y | AJ40: Y | AM40: Y | AP40: United States Fish and Wildlife Service. 2010. Flow-habitat relationships for spring and fall-run Chinook salmon and steelhead/rainbow trout spawning in the Yuba River. United States Fish and Wildlife Service, SFWO, Energy Planning and Instream Flow Branch, Sacramento, CA. 430pp.
...

Sheet chsspwn.vel Yuba
P1: New HSC Curve:
P2: MCVel | Q2: Yuba New
P3: 0 | Q3: 0
P4: 0 | Q4: 0
P5: 0 | Q5: 0
P6: 0 | Q6: 0
P7: 0 | Q7: 0

Sheet chsspwn.dep Yuba
P1: New HSC Curve:
P2: Depth | Q2: Yuba New
P3: 0 | Q3: 0
P4: 0 | Q4: 0
P5: 0 | Q5: 0
P6: 0 | Q6: 0
P7: 0 | Q7: 0

Sheet chsfry.info
B1: CHINOOK SALMON FRY
G2: cm | H2: cm | N2: ft msl | O2: ft msl | P2: N / W Deg Min.min | R2: ft | S2: ft | T2: ft | U2: cfs | V2: cfs | W2: cfs | X2: % | Y2: oC | Z2: oC | AA2: oC
B3: Curve ID | D3: Fish Characteristics | I3: Sample Size1 | K3: Stream Location | R3: Stream Characteristics 2 | AC3: Sampling Info | AI3: Available HSC Data
F4: Life- | G4: Length | I4: No. HSC | J4: No. | N4: Elevation | P4: GPS Coordinates | S4: Width | V4: Streamflow | X4: Mean | Z4: Water Temperature | AB4: Species | AC4: Site - | AD4: Sampling | AE4: Survey | AF4: Observ | AG4: Curve | AH4: Curve | AI4: Total | AJ4: Velocity | AM4: Sub-
A5: Plot? | B5: No. | C5: Name | D5: Species | E5: Race | F5: stage | G5: Min | H5: Max | I5: Obs | J5: Fish | K5: Country | L5: State | M5: River | N5: Min | O5: Max | P5: Downstream | Q5: Upstream | R5: Mean | S5: Min | T5: Max | U5: Mean | V5: Min | W5: Max | X5: Slope | Y5: Mean | Z5: Min | AA5: Max | AB5: Composition3 | AC5: Specific? | AD5: Season | AE5: Design4 | AF5: Method5 | AG5: Type6 | AH5: Smoothing7 | AI5: Depth | AJ5: Mean Col | AK5: Focal | AL5: Cover8 | AM5: strate8 | AN5: Other | AO5: Comments | AP5: Reference
A6: Y | B6: 1 | C6: Raleigh | D6: chinook | E6: fall+spring | K6: USA,NZ | L6: AL,WA,CA | M6: various | AC6: N | AG6: Cat I | AI6: Y | AJ6: Y | AP6: Raleigh, R.F., W.J. Miller, and P.C. Nelson. 1986. Habitat suitability index models and instream flow suitability curves: Chinook salmon. United States Fish and Wildlife Service, Biological Report 82(10.122). 64pp.
A7: Y | B7: 2 | C7: YakimaSP | D7: chinook | E7: spring | F7: fry | G7: 2 | H7: 4 | I7: 345 | K7: USA | L7: WA | M7: Yakima, Cle Elum | V7: 132 | W7: 483 | Z7: 5 | AA7: 8 | AB7: chs,sth,rbt,cut,bul,wtf,skr,pkm,scp,cyp | AC7: Y | AD7: April | AE7: equal-area | AF7: DO uw | AG7: Cat II | AH7: polynomial regr | AI7: Y | AJ7: Y | AM7: Y | AO7: 1 | AP7: Allen, M.A. 2000. Seasonal microhabitat use by juvenile spring chinook salmon in the Yakima River Basin, Washington. Rivers 7(4):314-332.
A8: Y | B8: 3 | C8: Trinity | D8: chinook | E8: fall+spring | F8: fry | H8: 5 | I8: 345 | J8: 5988 | K8: USA | L8: CA | M8: Trinity | AB8: chs,coh,sth,brn,skr,scp,dac | AC8: Y | AD8: spr,sum | AE8: reaches | AF8: DO uw | AG8: Cat II | AH8: 3pt running mean | AI8: Y | AJ8: Y | AO8: 2 | AP8: Hampton, M. 1997. Microhabitat suitability criteria for anadromous salmonids of the Trinity River. U.S. Fish & Wildlife Service, Arcata, CA.
A9: Y | B9: 4 | C9: NFLewis | D9: chinook | E9: fall | F9: fry | G9: 2.5 | H9: 5 | I9: 227 | J9: 1967 | K9: USA | L9: WA | M9: NF Lewis | V9: 2000 | W9: 6000 | Z9: 8 | AA9: 14 | AD9: May-July | AF9: DO uw | AG9: Cat II | AH9: histogram clustering | AI9: Y | AJ9: Y | AL9: Y | AM9: Y | AO9: 3 | AP9: NESCO. 1984. Verification of habitat utilization criteria for juvenile fall chinook salmon in the North Fork of the Lewis River, Washington. Report to Puget Power.
A10: Y | B10: 5 | C10: Battle | D10: chinook | E10: fall | F10: fry | G10: 2 | H10: 4 | I10: 353 | K10: USA | L10: CA | M10: Battle | R10: 72-194 | V10: 268 | W10: 823 | X10: 0.2-0.5 | Z10: 6 | AA10: 19 | AC10: Y | AD10: Feb-May | AE10: equal-area | AF10: DO uw | AG10: Cat II | AH10: polynomial regr | AI10: Y | AJ10: Y | AL10: Y | AO10: 4 | AP10: TRPA. 1998. Battle Creek fisheries studies. Task 2: habitat suitability criteria. Draft report to CDFG, Redding, CA.
A11: Y | B11: 6 | C11: KlamathENV | D11: chinook | E11: fall | F11: fry | H11: <5.5 | K11: USA | M11: various | AG11: Cat I | AI11: Y | AJ11: Y | AP11: Hardy, T.B. and R.C. Addley. 2001. Evaluation of interim instream flow needs in the Klamath River. Phase II Final Report. Prepared for U.S. Department of the Interior by Institute for Natural Systems Engineering, Utah Water Research Laboratory, Utah State University, Logan, UT.
A12: Y | B12: 7 | C12: American | D12: chinook | E12: fall | F12: fry | G12: 3.5 | H12: 5 | K12: USA | L12: CA | M12: American | AG12: Cat I | AI12: Y | AJ12: Y | AP12: United States Fish and Wildlife Service. 1985. Flow needs of chinook salmon in the lower American River. Final report on the 1981 lower American River flow study. Sacramento, California. 22pp.
A13: Y | B13: 8 | C13: Clearwater | D13: chinook | F13: fry | K13: USA | L13: ID | M13: Clearwater | AI13: Y | AJ13: Y | AP13: Arnsberg, B.D., W.P. Connor, and E. Connor. 1992. Mainsten Clearwater River study: assessment for salmonid spawning, incubation, and rearing. Final Report. United States Department of Energy, Bonneville Power Administration, DOE/BP- 37474-3. 201pp.
A14: Y | B14: 9 | C14: Alaska3 | D14: chinook | F14: fry | G14: 3.6 | H14: 5 | I14: 948 | K14: USA | L14: AL | M14: Kenai | AB14: coh,pnk,sok,dol,rbt,stk | AC14: Y | AD14: April-Oct | AF14: DO / EF | AG14: Cat II | AI14: N | AJ14: Y | AO14: 6 | AP14: Burger, C.V., D.B. Wangaard, R.L. Wilmot, and A.N. Palisano. 1982. Salmon investigations in the Kenai River, Alaska, 1979-81. U.s. Fish & Wildlife Service, National Fisheries Research Center, Seattle, Washington. 178pp.
A15: Y | B15: 10 | C15: Yuba Beak | D15: chinook | E15: fall | F15: fry | H15: <5 | I15: 180 | K15: USA | L15: CA | M15: Yuba | N15: 45 | O15: 282 | V15: 697 | W15: 697 | AC15: Y | AD15: Feb | AE15: reaches | AF15: DO uw | AG15: Cat II | AH15: NPTL | AI15: Y | AJ15: Y | AP15: Beak Consultants, Inc. 1989??. Yuba River fisheries investigations, 1986-88. Appendix D: Evaluation of microhabitat utilzation for fall run chinook salmon (Oncorhynchus tshawytscha) in the lower Yuba River California. Final report prepared for California Department of Fish & Game, Sacramento, California.
A16: Y | B16: 11 | C16: Stanislaus | D16: chinook | E16: fall | F16: fry | H16: <5 | I16: 417 | K16: USA | L16: CA | M16: Stanislaus | N16: ~50 | O16: 300 | V16: 125 | W16: 1250 | AC16: Y | AD16: Jan-April | AE16: reaches | AF16: DO uw | AG16: Cat III ? | AH16: 3pt running mean | AI16: Y | AJ16: Y | AK16: Y | AL16: Y | AM16: Y | AN16: %fines | AO16: 5 | AP16: Aceituno, M.E. 1990. Habitat preference criteria for chinook salmon of the Stanislaus River, California. USDI Fish & Wildlife Service, Sacramento, California. (as cited w curve pts in Aceituno 1993)
A17: Y | B17: 12 | C17: Feather | D17: chinook | E17: fall | F17: fry | H17: < 5 | I17: 369 | K17: USA | L17: CA | M17: Feather | AC17: Y | AD17: Jan-May | AE17: proportional | AF17: DO uw | AG17: Cat II | AH17: running means | AI17: Y | AJ17: Y | AP17: California Department of Water Resources. 2005. Addendum to Phase 2 report: Evaluation of project effects on instream flows and fish habitat SP F-16. Oroville Facilities Relicensing FERC Project No. 2100. Sacramento, California.
A18: Y | B18: 13 | C18: KlamathSS | D18: chinook | E18: fall | F18: fry | H18: <5.5 | J18: ~2500 | K18: USA | L18: CA | M18: Klamath | AC18: Y | AF18: EF | AG18: Cat II | AH18: none | AI18: Y | AJ18: Y | AL18: Y | AM18: Y | AN18: bank dist | AP18: Hardy, T.B. and R.C. Addley. 2001. Evaluation of interim instream flow needs in the Klamath River. Phase II Final Report. Prepared for U.S. Department of the Interior by Institute for Natural Systems Engineering, Utah Water Research Laboratory, Utah State University, Logan, UT.
A19: Y | B19: 14 | C19: SacF | D19: chinook | E19: fall | F19: fry | H19: 60 | I19: 408 | K19: USA | L19: CA | M19: Sacramento | V19: 4000 | W19: 14000 | AB19: chs,sth,pm,skr,… | AC19: Y | AD19: Dec-June | AE19: reaches | AF19: DO uw | AG19: Cat III ? | AH19: Pres-Abs, log regr | AI19: Y | AJ19: Y | AL19: Y | AN19: adj vel | AP19: United States Fish and Wildlife Service. 2005. Flow-habitat relationships for chinook salmon rearing in the Sacramento River between Keswick Dam and Battle Creek. Final report by Energy Planning and Instream Flow Branch, Sacramento, California. 242pp.
A20: Y | B20: 15 | C20: SacLF | D20: chinook | E20: late fall | F20: fry | H20: 60 | I20: 440 | K20: USA | L20: CA | M20: Sacramento | V20: 5000 | W20: 15000 | AB20: chs,sth,pm,skr,… | AC20: Y | AD20: Apr-Sept | AE20: reaches | AF20: DO uw | AG20: Cat III ? | AH20: Pres-Abs, log regr | AI20: Y | AJ20: Y | AL20: Y | AN20: adj vel | AP20: United States Fish and Wildlife Service. 2005. Flow-habitat relationships for chinook salmon rearing in the Sacramento River between Keswick Dam and Battle Creek. Final report by Energy Planning and Instream Flow Branch, Sacramento, California. 242pp.
A21: Y | B21: 16 | C21: SacW | D21: chinook | E21: winter | F21: fry | H21: 60 | I21: 266 | K21: USA | L21: CA | M21: Sacramento | V21: 6000 | W21: 15000 | AB21: chs,sth,pm,skr,… | AC21: Y | AD21: July-Jan | AE21: reaches | AF21: DO uw | AG21: Cat III ? | AH21: Pres-Abs, log regr | AI21: Y | AJ21: Y | AL21: Y | AN21: adj vel | AP21: United States Fish and Wildlife Service. 2005. Flow-habitat relationships for chinook salmon rearing in the Sacramento River between Keswick Dam and Battle Creek. Final report by Energy Planning and Instream Flow Branch, Sacramento, California. 242pp.
A22: Y | B22: 17 | C22: Cedar Feb | D22: chinook | E22: fall | F22: fry | J22: 1407 | K22: USA | L22: WA | M22: Cedar | V22: 300 | W22: 800 | AC22: Y | AD22: Feb | AE22: reaches | AF22: DO uw | AG22: Cat III | AH22: kernel smoother | AI22: Y | AJ22: Y | AL22: Y | AM22: Y | AO22: 7 | AP22: Peters & Leavy, FWS data
A23: Y | B23: 18 | C23: Cedar Apr | D23: chinook | E23: fall | F23: fry/juv | J23: 1510 | K23: USA | L23: WA | M23: Cedar | V23: 300 | W23: 800 | AC23: Y | AD23: Apr | AE23: reaches | AF23: DO uw | AG23: Cat III | AH23: kernel smoother | AI23: Y | AJ23: Y | AL23: Y | AM23: Y | AO23: 7 | AP23: Peters & Leavy, FWS data
A24: Y | B24: 19 | C24: Tuolumne FWS | D24: chinook | E24: fall | F24: fry | K24: USA | L24: CA | M24: Tuolumne | AC24: Y | AI24: Y | AJ24: Y | AO24: 8 | AP24: United States Fish and Wildlife Service. 1994. The relationship between instream flow and physical habitat availability for chinook salmon in the lower Tuolumne River, California. September 1994 draft report prepared by the Ecological Services Branch of the Sacramento Field Office for the Turlock and Modesto Irrigation Districts. 76pp.
A25: Y | B25: 20 | C25: Yuba FWS | D25: chinook | E25: fall+spring | F25: fry | H25: 60 | I25: 178 | K25: USA | L25: CA | M25: Yuba | U25: Oct-June | V25: 522 | W25: 2450 | AC25: Y | AF25: DO uw | AG25: Cat III ? | AH25: Pres-Abs, log regr | AI25: Y | AJ25: Y | AL25: Y | AN25: adj vel | AP25: United States Fish and Wildlife Service. 2010. Flow-habitat relationships for juvenile spring/fall-run Chinook salmon and steelhead/rainbow trout rearing in the Yuba River. Final Report, United States Fish and Wildlife Service, SFWO, Energy Planning and Instream Flow Branch, Sacramento, CA. 309pp.
A26: Y | B26: 21 | C26: Clear | D26: chinook | E26: spring | F26: fry | H26: 80 | I26: 202 | K26: USA | L26: CA | M26: Clear | V26: 89 | W26: 378 | AC26: Y | AD26: all year | AE26: reaches? | AF26: DO uw | AG26: Cat III ? | AH26: Pres-Abs, log regr | AI26: Y | AJ26: Y | AL26: Y | AN26: adj vel | AP26: United States Fish and Wildlife Service. 2011. Flow-habitat relationships for juvenile spring-run Chinook salmon and steelhead/rainbow trout rearing in Clear Creek between Whiskeytown Dam and Clear Creek Road. Final Report, United States Fish and Wildlife Service, SFWO, Energy Planning and Instream Flow Branch, Sacramento, CA. 309pp
A27: Y | B27: 22 | C27: Tuol TRTAC | D27: chinook | F27: fry | K27: USA | L27: CA | M27: Tuolumne | AC27: N | AG27: Cat I | AH27: envelope | AI27: Y | AJ27: Y | AO27: 9 | AP27: data from Tuolumne Tech Review Team HSC notes (20 Oct 2010)
B29: Keys:
B30: 1 | C30: # HSC observations is number of independent measurements at fish positions, # fish is total number of fish seen at the measurement locations
B31: 2 | C31: stream habitat characteristics DURING THE PERIOD OF SAMPLING FOR HSC
B32: 3 | C32: species abbreviations: chs=chinook salmon, coh=coho salmon, sth=steelhead, rbt=rainbow trout (resident), brn=brown trout, brk=brook trout, bul=bull trout, cut=cutthroat trout, wtf=whitefish, skr=suckers, scp=sculpin, pkm=pikeminnow, hdh=hardhead, dac=dace, rch=roach, cyp=other cyprinids, lmb=largemouth bass, smb=smallmouth bass, spb=spotted bass
B33: 4 | C33: survey design: sampling design used to collect hsc data, i.e. reaches - samples collected in representative reach(es), proportional - samples collected within mesohabitat types with effort in proportion to availability, equal-area - samples collected within mesohabitat types with effort equalized in each type, other (see comments)
B34: 5 | C34: observation method: DOuw-direct observation underwater (snorkeling/scuba), DOow-direct observation out-of-water (wading, boat, or bank observation), EF-electrofishing, VID-underwater video, NET-seining or other net capture, Other (see comments)
B35: 6 | C35: curve type: Cat I - hand-drawn or a composite of various curves based on professional judgment, Cat II - based on habitat use data, Cat III - based on habitat use data adjusted by habitat availability data, Bio - bioenergetics hsc
B36: 7 | C36: curve smoothing: method used (if any) to smooth raw observation or frequency histogram data
B37: 8 | C37: see hsc data sets for cover and substrate coding details
B39: Comments:
B40: 1 | C40: histogram frequencies also given for cover, focal velocity, focal depth, and distance to bank
B41: 2 | C41: Cat III rearing with cover and substrate HSC were originally reported in "Hampton, M. 1988. Development of habitat preference criteria for anadromous salmonids of the Trinity River. U.S. Fish & Wildlife Service, Sacramento, California, May 1988", but those HSC were not recommended for use in the 1997 final report
B42: 3 | C42: 2 types of cover hsc were created (only functional hsc entered), cover and sub w/in 0.5m, nose vels, nose hts, and dist to bank also recorded (see sheet for dist to bank)
...

Sheet CHS fry.vel Yuba
P1: New HSC Curve:
P2: MCVel | Q2: Yuba New
P3: 0 | Q3: 0
P4: 0 | Q4: 0
P5: 0 | Q5: 0
P6: 0 | Q6: 0
P7: 0 | Q7: 0

Sheet CHS fry.dep Yuba
P1: New HSC Curve:
P2: Depth | Q2: Yuba New
P3: 0 | Q3: 0
P4: 0 | Q4: 0
P5: 0 | Q5: 0
P6: 0 | Q6: 0
P7: 0 | Q7: 0

Sheet chsjuv.info
B1: CHINOOK SALMON JUVENILES
G2: cm | H2: cm | N2: ft msl | O2: ft msl | P2: N / W Deg Min.min | R2: ft | S2: ft | T2: ft | U2: cfs | V2: cfs | W2: cfs | X2: % | Y2: oC | Z2: oC | AA2: oC
B3: Curve ID | D3: Fish Characteristics | I3: Sample Size1 | K3: Stream Location | R3: Stream Characteristics 2 | AC3: Sampling Info | AI3: Available HSC Data
F4: Life- | G4: Length | I4: No. HSC | J4: No. | N4: Elevation | P4: GPS Coordinates | S4: Width | V4: Streamflow | X4: Mean | Z4: Water Temperature | AB4: Species | AC4: Site - | AD4: Sampling | AE4: Survey | AF4: Observ | AG4: Curve | AH4: Curve | AI4: Total | AJ4: Velocity | AM4: Sub-
A5: Plot? | B5: No. | C5: Name | D5: Species | E5: Race | F5: stage | G5: Min | H5: Max | I5: Obs | J5: Fish | K5: Country | L5: State | M5: River | N5: Min | O5: Max | P5: Downstream | Q5: Upstream | R5: Mean | S5: Min | T5: Max | U5: Mean | V5: Min | W5: Max | X5: Slope | Y5: Mean | Z5: Min | AA5: Max | AB5: Composition3 | AC5: Specific? | AD5: Season | AE5: Design4 | AF5: Method5 | AG5: Type6 | AH5: Smoothing7 | AI5: Depth | AJ5: Mean Col | AK5: Focal | AL5: Cover8 | AM5: strate8 | AN5: Other | AO5: Comments | AP5: Reference
A6: Y | B6: 1 | C6: Bovee | D6: chinook | E6: spring,fall? | K6: USA | L6: OR,ID | M6: various | AC6: N | AG6: Cat I | AI6: Y | AJ6: Y | AM6: Y | AP6: Bovee, K.D. 1978. Probability-of-use criteria for the family Salmonidae. Instream Flow Information Paper No. 4. Cooperative Instream Flow Service Group, U.S. fish & Wildlife Service, Fort Collins, CO.
A7: Y | B7: 2 | C7: Raleigh | D7: chinook | K7: USA,NZ | L7: AL,NZ,CA | M7: various | AC7: N | AG7: Cat I | AI7: Y | AJ7: Y | AP7: Raleigh, R.F., W.J. Miller, and P.C. Nelson. 1986. Habitat suitability index models and instream flow suitability curves: Chinook salmon. United States Fish and Wildlife Service, Biological Report 82(10.122). 64pp.
A8: Y | B8: 3 | C8: Rubin | D8: chinook | E8: spring | F8: juv(sml) | G8: avg 6 | I8: 179 fish in 688 cells | K8: USA | L8: ID | M8: 2 small streams | N8: 5000 | O8: 6500 | R8: 33-52 | U8: 20-26 | Y8: 8 to 13 | AC8: Y | AD8: summer | AE8: cells | AF8: DO uw | AG8: density | AH8: poisson regr | AI8: Y | AJ8: Y | AO8: 1 | AP8: Rubin, S.P., T.C. Bjornn, and B. Dennis. 1991. Habitat suitability curves for juvenile chinook salmon and steelhead development using a habitat-oriented sampling approach. Rivers 2(1):12-29.
A9: Y | B9: 4 | C9: YakimaS | D9: chinook | E9: spring | F9: juv | G9: 5 | H9: 12 | I9: 403 | K9: USA | L9: WA | M9: Yakima, Naches | V9: 810 | W9: 2360 | Z9: 12 | AA9: 17 | AB9: chs,sth,rbt,cut,bul,wtf,skr,pkm,scp,cyp | AC9: Y | AD9: summer | AE9: equal-area | AF9: DO uw | AG9: Cat II | AH9: polynomial regr | AI9: Y | AJ9: Y | AM9: Y | AO9: 2 | AP9: Allen, M.A. 2000. Seasonal microhabitat use by juvenile spring chinook salmon in the Yakima River Basin, Washington. Rivers 7(4):314-332.
A10: Y | B10: 5 | C10: YakimaF | D10: chinook | E10: spring | F10: juv | G10: 7 | H10: 11 | I10: 249 | K10: USA | L10: WA | M10: Yakima | V10: 375 | W10: 450 | Z10: 9 | AA10: 15 | AB10: chs,sth,rbt,cut,bul,wtf,skr,pkm,scp,cyp | AC10: Y | AD10: fall | AE10: equal-area | AF10: DO uw | AG10: Cat II | AH10: polynomial regr | AI10: Y | AJ10: Y | AM10: Y | AO10: 2 | AP10: Allen, M.A. 2000. Seasonal microhabitat use by juvenile spring chinook salmon in the Yakima River Basin, Washington. Rivers 7(4):314-332.
A11: Y | B11: 6 | C11: YakimaW | D11: chinook | E11: spring | F11: juv | G11: >5 | I11: 90 | K11: USA | L11: WA | M11: Yakima | V11: 126 | W11: 1774 | Z11: 1 | AA11: 3 | AB11: chs,sth,rbt,cut,bul,wtf,skr,pkm,scp,cyp | AC11: Y | AD11: winter | AE11: equal-area | AF11: DO uw | AG11: Cat II | AH11: polynomial regr | AI11: Y | AJ11: Y | AM11: Y | AO11: 2 | AP11: Allen, M.A. 2000. Seasonal microhabitat use by juvenile spring chinook salmon in the Yakima River Basin, Washington. Rivers 7(4):314-332.
A12: Y | B12: 7 | C12: Yakima2 | D12: chinook | E12: spring | F12: fry/juv | G12: 2.5 | H12: 7.6 | I12: 202 | K12: USA | L12: WA | M12: Yakima,American | AB12: chs,sth,rbt,cut,bul,wtf,skr,pkm,scp,cyp | AC12: Y | AF12: DO uw | AG12: Cat II | AI12: Y | AJ12: Y | AO12: 3 | AP12: Stempel, J. M. 1984. Development of fish preference curves for spring chinook and rainbow trout in the Yakima River Basin. U.S. fish & Wildlife Service, Moses Lake, WA.
A13: Y | B13: 8 | C13: Yakima2P | D13: chinook | E13: spring | F13: fry/juv | G13: 2.5 | H13: 7.6 | I13: 202 | K13: USA | L13: WA | M13: Yakima,American | AB13: chs,sth,rbt,cut,bul,wtf,skr,pkm,scp,cyp | AC13: Y | AF13: DO uw | AG13: Cat III | AI13: Y | AJ13: Y | AP13: Stempel, J. M. 1984. Development of fish preference curves for spring chinook and rainbow trout in the Yakima River Basin. U.S. fish & Wildlife Service, Moses Lake, WA.
A14: Y | B14: 9 | C14: TrinityU | D14: chinook | E14: fall | F14: juv | G14: 6 | I14: 251 | K14: USA | L14: CA | M14: Trinity | AB14: chs,coh,sth,brn,skr,scp,dac | AC14: Y | AD14: spr,sum | AE14: reaches | AF14: DO uw | AG14: Cat II | AH14: 3pt running mean | AI14: Y | AJ14: Y | AO14: 4 | AP14: Hampton, M. 1997. Microhabitat suitability criteria for anadromous salmonids of the Trinity River. U.S. Fish & Wildlife Service, Arcata, CA.
A15: Y | B15: 10 | C15: Battle | D15: chinook | E15: fall | F15: juv | G15: 6 | H15: 8 | I15: 155 | K15: USA | L15: CA | M15: Battle | R15: 72-194 | V15: 268 | W15: 823 | X15: 0.2-0.5 | Z15: 6 | AA15: 19 | AC15: Y | AD15: Feb-May | AE15: equal-area | AF15: DO uw | AG15: Cat II | AH15: polynomial regr | AI15: Y | AJ15: Y | AL15: Y | AO15: 5 | AP15: TRPA. 1998. Battle Creek fisheries studies. Task 2: habitat suitability criteria. Draft report to CDFG, Redding, CA.
A16: Y | B16: 11 | C16: American | D16: chinook | E16: fall | F16: juv | G16: 5 | H16: 10 | K16: USA | L16: CA | M16: American | AG16: Cat I | AI16: Y | AJ16: Y | AP16: United States Fish and Wildlife Service. 1985. Flow needs of chinook salmon in the lower American River. Final report on the 1981 lower American River flow study. Sacramento, California. 22pp.
A17: Y | B17: 12 | C17: Alaska3 | D17: chinook | F17: juv | G17: 5 | H17: 10 | I17: 947 | K17: USA | L17: AL | M17: Kenai | AB17: coh,pnk,sok,dol,rbt,stk | AC17: Y | AD17: April-Oct | AF17: DO / EF | AG17: Cat II | AI17: N | AJ17: Y | AO17: 3 | AP17: Burger, C.V., D.B. Wangaard, R.L. Wilmot, and A.N. Palisano. 1982. Salmon investigations in the Kenai River, Alaska, 1979-81. U.s. Fish & Wildlife Service, National Fisheries Research Center, Seattle, Washington. 178pp.
A18: Y | B18: 13 | C18: Clearwater | D18: chinook | F18: juv | K18: USA | L18: ID | M18: Clearwater | AI18: Y | AJ18: Y | AP18: Arnsberg, B.D., W.P. Connor, and E. Connor. 1992. Mainsten Clearwater River study: assessment for salmonid spawning, incubation, and rearing. Final Report. United States Department of Energy, Bonneville Power Administration, DOE/BP- 37474-3. 201pp.
A19: Y | B19: 14 | C19: IDFG | D19: chinook | F19: juv | K19: USA | L19: ID | AI19: Y | AJ19: Y | AP19: Cochnauer & Elms-Cochran 1986.
A20: Y | B20: 15 | C20: NFLewis | D20: chinook | E20: fall | F20: juv | G20: 5.5 | H20: 11 | I20: 325 | J20: 2401 | K20: USA | L20: WA | M20: NF Lewis | V20: 2000 | W20: 6000 | Z20: 8 | AA20: 14 | AC20: Y | AD20: May-July | AF20: DO uw | AG20: Cat II | AH20: histogram clustering | AI20: Y | AJ20: Y | AL20: Y | AM20: Y | AO20: 6 | AP20: NESCO. 1984. Verification of habitat utilization criteria for juvenile fall chinook salmon in the North Fork of the Lewis River, Washington. Report to Puget Power.
A21: Y | B21: 16 | C21: Alaska2 | D21: chinook | F21: juv(sml?) | K21: USA | L21: AL | M21: Susitna Basin | AD21: May-Oct | AE21: cells (lrg) | AF21: EF / nets | AG21: density | AH21: regression | AI21: Y | AJ21: Y | AO21: 7 | AP21: Suchanek, P.M., R.P. Marshall, S.S. Hale, and D.C. Schmidt. 1984. Juvenile salmon rearing suitability criteria. Part 3 in D.C. Schmidt, S.S. Hale, D.L. Crawford, and P.M. Suchanek, editors. Resident and juvenile anadromous fish investigations (May-October 1983). Alaska Department of Fish & Game, Susitna Hydro Aquatic Studies Report No. 2, Anchorage, Alaska.
A22: Y | B22: 17 | C22: KlamathSS | D22: chinook | E22: fall | F22: juv | G22: 5.5 | I22: 94 | J22: 392 | K22: USA | L22: CA | M22: Klamath | V22: 1385 | W22: 1825 | AC22: Y | AF22: DOuw/VID | AG22: Cat II | AH22: NPTL | AI22: Y | AJ22: Y | AK22: Y | AL22: Y | AN22: Y | AO22: 8 | AP22: Hardin-Davis Inc., RTG Fishery Research & Photography, Terraqua Inc., and CDFG. 2002 DRAFT. Habitat suitability criteria for anadromous salmonids in the Klamath River, Iron Gate Dam to Scott River, California. California Department of Fish & Game Stream Evaluation Report 01-1, 2001.
A23: Y | B23: 18 | C23: KlamathENV | D23: chinook | E23: fall | F23: juv | G23: 5.5 | K23: USA | L23: CA | M23: various | AG23: Cat I | AI23: Y | AJ23: Y | AP23: Hardy, T.B. and R.C. Addley. 2001. Evaluation of interim instream flow needs in the Klamath River. Phase II Final Report. Prepared for U.S. Department of the Interior by Institute for Natural Systems Engineering, Utah Water Research Laboratory, Utah State University, Logan, UT.
A24: Y | B24: 19 | C24: Yuba Beak | D24: chinook | E24: fall | F24: juv | G24: 5 | I24: 500 | K24: USA | L24: CA | M24: Yuba | N24: 45 | O24: 282 | V24: 346 | W24: 416 | AC24: Y | AD24: Apr-May | AE24: reaches | AF24: DO uw | AG24: Cat II | AH24: NPTL | AI24: Y | AJ24: Y | AP24: Beak Consultants, Inc. 1989??. Yuba River fisheries investigations, 1986-88. Appendix D: Evaluation of microhabitat utilzation for fall run chinook salmon (Oncorhynchus tshawytscha) in the lower Yuba River California. Final report prepared for California Department of Fish & Game, Sacramento, California.
A25: Y | B25: 20 | C25: Stanislaus | D25: chinook | E25: fall | F25: juv | G25: 5 | H25: 15 | I25: 434 | K25: USA | L25: CA | M25: Stanislaus | N25: ~50 | O25: 300 | V25: 125 | W25: 1250 | AC25: Y | AD25: Jan-April | AE25: reaches | AF25: DO uw | AG25: Cat III ? | AH25: 3pt running mean | AI25: Y | AJ25: Y | AK25: Y | AL25: Y | AM25: Y | AN25: %fines | AO25: 9 | AP25: Aceituno, M.E. 1990. Habitat preference criteria for chinook salmon of the Stanislaus River, California. USDI Fish & Wildlife Service, Sacramento, California. (as cited w curve pts in Aceituno 1993)
A26: Y | B26: 21 | C26: WDF large & river | D26: chinook | E26: fall+spring | F26: juv | K26: USA | L26: WA | M26: various | R26: 50-150 "river", >150 "large" | AC26: N | AG26: Cat I | AI26: Y | AJ26: Y | AL26: Y | AM26: Y | AO26: 10 | AP26: Washington Department of Fisheries. 1987. Documentation and rationale for preference curves used 1983-1987 for IFIM studies, Washington Department of Fisheries, Habitat Management. Draft report by J. Caldwell and B. Caldwell.
A27: Y | B27: 22 | C27: WDF stream | D27: chinook | E27: fall+spring | F27: juv | K27: USA | L27: WA | M27: various | R27: <50 "stream" | AC27: N | AG27: Cat I | AI27: Y | AJ27: Y | AL27: Y | AM27: Y | AO27: 10 | AP27: Washington Department of Fisheries. 1987. Documentation and rationale for preference curves used 1983-1987 for IFIM studies, Washington Department of Fisheries, Habitat Management. Draft report by J. Caldwell and B. Caldwell.
A28: Y | B28: 23 | C28: Feather | D28: chinook | E28: fall | F28: juv | G28: >5 | I28: 95 | K28: USA | L28: CA | M28: Feather | AC28: Y | AD28: Jan-May | AE28: proportional | AF28: DO uw | AG28: Cat II | AH28: NPTL | AI28: Y | AJ28: Y | AL28: Y | AO28: 13 | AP28: DWR. 2005. Addendum to Phase 2 Report: Evaluation of project effects on instream flows and fish habitat, SP-F16. Oroville Relicensing, FERC Project No. 2100. California Department of Water Resources, Sacramento, CA.
A29: Y | B29: 24 | C29: Sac | D29: chinook | E29: F,LF,W | F29: juv | G29: 60 | I29: 186 | J29: 225 | K29: USA | L29: CA | M29: Sacramento | V29: 4000 | W29: 15000 | AB29: chs,sth,pm,skr,… | AC29: Y | AD29: all year | AE29: reaches | AF29: DO uw | AG29: Cat III ? | AH29: Pres-Abs, log regr | AI29: Y | AJ29: Y | AL29: Y | AN29: adj vel | AO29: 11 | AP29: United States Fish and Wildlife Service. 2005. Flow-habitat relationships for chinook salmon rearing in the Sacramento River between Keswick Dam and Battle Creek. Final report by Energy Planning and Instream Flow Branch, Sacramento, California. 242pp.
A30: Y | B30: 25 | C30: Cedar June | D30: chinook | E30: fall | F30: juv | J30: 256 | K30: USA | L30: WA | M30: Cedar | V30: 300 | W30: 300 | AC30: Y | AD30: June | AE30: reaches | AF30: DO uw | AG30: Cat III | AH30: kernel smoother | AI30: Y | AJ30: Y | AL30: Y | AM30: Y | AO30: 12 | AP30: Peters & Leavy, FWS data
A31: Y | B31: 26 | C31: Tuol TRTAC | D31: chinook | E31: fall | F31: juv | K31: USA | L31: CA | M31: Tuolumne | AC31: N | AI31: Y | AJ31: Y | AO31: 14 | AP31: United States Fish and Wildlife Service. 1994. The relationship between instream flow and physical habitat availability for chinook salmon in the lower Tuolumne River, California. September 1994 draft report prepared by the Ecological Services Branch of the Sacramento Field Office for the Turlock and Modesto Irrigation Districts. 76pp.
A32: Y | B32: 27 | C32: Yuba FWS | D32: chs (sth) | E32: fall+spring | F32: juv (fry) | G32: 60 | I32: 39 (195) | K32: USA | L32: CA | M32: Yuba | U32: Mar-Sept | V32: 508 | W32: 2827 | AC32: Y | AF32: DO uw | AG32: Cat III ? | AH32: Pres-Abs, log regr | AI32: Y | AJ32: Y | AL32: Y | AN32: adj vel | AO32: 15 | AP32: United States Fish and Wildlife Service. 2010. Flow-habitat relationships for juvenile spring/fall-run Chinook salmon and steelhead/rainbow trout rearing in the Yuba River. Final Report, United States Fish and Wildlife Service, SFWO, Energy Planning and Instream Flow Branch, Sacramento, CA. 309pp.
A33: Y | B33: 28 | C33: Clear | D33: chs/sth | E33: spring | F33: juv | G33: 80 chs | I33: 191 | K33: USA | L33: CA | M33: Clear | V33: 89 | W33: 378 | AC33: Y | AD33: all year | AE33: reaches? | AF33: DO uw | AG33: Cat III ? | AH33: Pres-Abs, log regr | AI33: Y | AJ33: Y | AL33: Y | AN33: adj vel | AO33: 16 | AP33: United States Fish and Wildlife Service. 2011. Flow-habitat relationships for juvenile spring-run Chinook salmon and steelhead/rainbow trout rearing in Clear Creek between Whiskeytown Dam and Clear Creek Road. Final Report, United States Fish and Wildlife Service, SFWO, Energy Planning and Instream Flow Branch, Sacramento, CA. 309pp
B36: Keys:
B37: 1 | C37: # HSC observations is number of independent measurements at fish positions, # fish is total number of fish seen at the measurement locations
B38: 2 | C38: stream habitat characteristics DURING THE PERIOD OF SAMPLING FOR HSC
B39: 3 | C39: species abbreviations: chs=chinook salmon, coh=coho salmon, sth=steelhead, rbt=rainbow trout (resident), brn=brown trout, brk=brook trout, bul=bull trout, cut=cutthroat trout, wtf=whitefish, skr=suckers, scp=sculpin, pkm=pikeminnow, hdh=hardhead, dac=dace
B40: 4 | C40: survey design: sampling design used to collect hsc data, i.e. reaches - samples collected in representative reach(es), proportional - samples collected within mesohabitat types with effort in proportion to availability, equal-area - samples collected wit
B41: 5 | C41: observation method: DOuw-direct observation underwater (snorkeling/scuba), DOow-direct observation out-of-water (wading, boat, or bank observation), EF-electrofishing, VID-underwater video, NET-seining or other net capture, Other (see comments)
B42: 6 | C42: curve type: Cat I - hand-drawn or a composite of various curves based on professional judgment, Cat II - based on habitat use data, Cat III - based on habitat use data adjusted by habitat availability data, Bio - bioenergetics hsc
...

Sheet chsjuv.vel Yuba
P1: New HSC Curve:
P2: MCVel | Q2: Yuba New
P3: 0 | Q3: 0
P4: 0 | Q4: 0
P5: 0 | Q5: 0
P6: 0 | Q6: 0
P7: 0 | Q7: 0

Sheet chsjuv.dep Yuba
P1: New HSC Curve:
P2: Depth | Q2: Yuba New
P3: 0 | Q3: 0
P4: 0 | Q4: 0
P5: 0 | Q5: 0
P6: 0 | Q6: 0
P7: 0 | Q7: 0

Sheet chs fry Vs juv.Yuba Beak

Sheet chs fry Vs juv.Yuba FWS

Sheet chs fry Vs juv.Tuol

Sheet chsadlt.dat
B1: CHINOOK SALMON ADULT HOLDING
L2: Substrate | O2: Cover
A3: Plot? | B3: Crv # | C3: Velocity | D3: Suitability | E3: Depth | F3: Suitability | G3: Substrate | H3: Suitability | I3: Cover | J3: Suitability | L3: Code | O3: Code
A4: *
A5: =chsadult.info!A$6 -> Y | B5: =chsadult.info!B$6 -> 1 | C5: Velocity | D5: =chsadult.info!$C6 -> Stanislaus | E5: Depth | F5: =chsadult.info!$C6 -> Stanislaus | G5: Substrate | H5: =chsadult.info!$C6 -> Stanislaus | I5: Cover | J5: =chsadult.info!$C6 -> Stanislaus | L5: code | M5: dominant type | N5: size mm | O5: x | P5: object cover | Q5: coded as: xy.z
A6: =chsadult.info!A$6 -> Y | B6: =chsadult.info!B$6 -> 1 | C6: 0 | D6: 0.01 | E6: 0.2 | F6: 0 | G6: 1 | H6: 0 | I6: 0 | J6: 1 | L6: 1 | M6: organics | O6: 0 | P6: none
A7: =chsadult.info!A$6 -> Y | B7: =chsadult.info!B$6 -> 1 | C7: 0.1 | D7: 0.01 | E7: 0.3 | F7: 0.02 | G7: 2 | H7: 0.03 | I7: 0.1 | J7: 0.52 | L7: 2 | M7: mud/clay | O7: 1 | P7: <6"
A8: =chsadult.info!A$6 -> Y | B8: =chsadult.info!B$6 -> 1 | C8: 0.2 | D8: 0.01 | E8: 0.4 | F8: 0.04 | G8: 3 | H8: 0.13 | I8: 0.2 | J8: 0.2 | L8: 3 | M8: silt | N8: <.062 | O8: 2 | P8: 6-12"
A9: =chsadult.info!A$6 -> Y | B9: =chsadult.info!B$6 -> 1 | C9: 0.3 | D9: 0.03 | E9: 0.5 | F9: 0.1 | G9: 4 | H9: 0.36 | I9: 0.3 | J9: 0.09 | L9: 4 | M9: sand | N9: .062-2 | O9: 3 | P9: >12"
A10: =chsadult.info!A$6 -> Y | B10: =chsadult.info!B$6 -> 1 | C10: 0.4 | D10: 0.05 | E10: 0.6 | F10: 0.18 | G10: 5 | H10: 0.67 | I10: 0.4 | J10: 0.11 | L10: 5 | M10: course sand | N10: 2-4 | O10: y | P10: overhead cover
A11: =chsadult.info!A$6 -> Y | B11: =chsadult.info!B$6 -> 1 | C11: 0.5 | D11: 0.08 | E11: 0.7 | F11: 0.29 | G11: 6 | H11: 0.92 | I11: 10 | J11: 0.12 | L11: 6 | M11: sml grav | N11: 4-25 | O11: 0 | P11: none
A12: =chsadult.info!A$6 -> Y | B12: =chsadult.info!B$6 -> 1 | C12: 0.6 | D12: 0.12 | E12: 0.8 | F12: 0.38 | G12: 7 | H12: 1 | I12: 10.1 | J12: 0.11 | L12: 7 | M12: med grav | N12: 25-50 | O12: 1 | P12: instream
A13: =chsadult.info!A$6 -> Y | B13: =chsadult.info!B$6 -> 1 | C13: 0.7 | D13: 0.15 | E13: 0.9 | F13: 0.46 | G13: 8 | H13: 0.9 | I13: 10.2 | J13: 0.05 | L13: 8 | M13: lrg grav | N13: 50-75 | O13: 2 | P13: overhanging
A14: =chsadult.info!A$6 -> Y | B14: =chsadult.info!B$6 -> 1 | C14: 0.8 | D14: 0.17 | E14: 1 | F14: 0.51 | G14: 9 | H14: 0.76 | I14: 10.3 | J14: 0.02 | L14: 9 | M14: sml cob | N14: 75-150 | O14: 3 | P14: both
A15: =chsadult.info!A$6 -> Y | B15: =chsadult.info!B$6 -> 1 | C15: 0.9 | D15: 0.2 | E15: 1.1 | F15: 0.58 | G15: 10 | H15: 0.65 | I15: 10.4 | J15: 0 | L15: 10 | M15: med cob | N15: 150-225 | O15: z | P15: quality
A16: =chsadult.info!A$6 -> Y | B16: =chsadult.info!B$6 -> 1 | C16: 1 | D16: 0.24 | E16: 1.5 | F16: 0.58 | G16: 11 | H16: 0.55 | L16: 11 | M16: lrg cob | N16: 225-300 | O16: 0 | P16: none
A17: =chsadult.info!A$6 -> Y | B17: =chsadult.info!B$6 -> 1 | C17: 1.1 | D17: 0.38 | E17: 1.6 | F17: 0.66 | G17: 12 | H17: 0.4 | L17: 12 | M17: sml bldr | N17: 300-600 | O17: 1 | P17: poor <25%
A18: =chsadult.info!A$6 -> Y | B18: =chsadult.info!B$6 -> 1 | C18: 1.2 | D18: 0.59 | E18: 1.7 | F18: 0.83 | G18: 13 | H18: 0.23 | L18: 13 | M18: med bldr | N18: 600-2000 | O18: 2 | P18: fair 25-50%
A19: =chsadult.info!A$6 -> Y | B19: =chsadult.info!B$6 -> 1 | C19: 1.3 | D19: 0.88 | E19: 1.8 | F19: 0.83 | G19: 14 | H19: 0.09 | L19: 14 | M19: lrg bldr | N19: >2000 | O19: 3 | P19: good 50-75%
A20: =chsadult.info!A$6 -> Y | B20: =chsadult.info!B$6 -> 1 | C20: 1.4 | D20: 1 | E20: 1.9 | F20: 1 | G20: 15 | H20: 0.03 | L20: 15 | M20: bedrock | O20: 4 | P20: excellent >75%
A21: =chsadult.info!A$6 -> Y | B21: =chsadult.info!B$6 -> 1 | C21: 1.5 | D21: 0.98 | E21: 3.6 | F21: 1
A22: =chsadult.info!A$6 -> Y | B22: =chsadult.info!B$6 -> 1 | C22: 1.6 | D22: 0.97 | E22: 3.7 | F22: 0.78
A23: =chsadult.info!A$6 -> Y | B23: =chsadult.info!B$6 -> 1 | C23: 1.7 | D23: 0.95 | E23: 3.8 | F23: 0.53
A24: =chsadult.info!A$6 -> Y | B24: =chsadult.info!B$6 -> 1 | C24: 1.8 | D24: 0.94 | E24: 3.9 | F24: 0.26
A25: =chsadult.info!A$6 -> Y | B25: =chsadult.info!B$6 -> 1 | C25: 1.9 | D25: 0.92 | E25: 4 | F25: 0.14
A26: =chsadult.info!A$6 -> Y | B26: =chsadult.info!B$6 -> 1 | C26: 2 | D26: 0.91 | E26: 4.1 | F26: 0.08
A27: =chsadult.info!A$6 -> Y | B27: =chsadult.info!B$6 -> 1 | C27: 2.1 | D27: 0.89 | E27: 4.2 | F27: 0.07
A28: =chsadult.info!A$6 -> Y | B28: =chsadult.info!B$6 -> 1 | C28: 2.2 | D28: 0.88 | E28: 4.3 | F28: 0.07
A29: =chsadult.info!A$6 -> Y | B29: =chsadult.info!B$6 -> 1 | C29: 2.3 | D29: 0.86 | E29: 4.4 | F29: 0.06
A30: =chsadult.info!A$6 -> Y | B30: =chsadult.info!B$6 -> 1 | C30: 2.4 | D30: 0.85 | E30: 4.5 | F30: 0.05
A31: =chsadult.info!A$6 -> Y | B31: =chsadult.info!B$6 -> 1 | C31: 2.5 | D31: 0.83 | E31: 4.6 | F31: 0.03
A32: =chsadult.info!A$6 -> Y | B32: =chsadult.info!B$6 -> 1 | C32: 2.6 | D32: 0.82 | E32: 4.7 | F32: 0.01
... A34: =chsadult.info!A$6 -> Y | B34: =chsadult.info!B$6 -> 1 | C34: 2.8 | D34: 0.79 | E34: 5 | F34: 0
A35: =chsadult.info!A$6 -> Y | B35: =chsadult.info!B$6 -> 1 | C35: 2.9 | D35: 0.77
A36: =chsadult.info!A$6 -> Y | B36: =chsadult.info!B$6 -> 1 | C36: 3 | D36: 0.76
A37: =chsadult.info!A$6 -> Y | B37: =chsadult.info!B$6 -> 1 | C37: 3.1 | D37: 0.74
A38: =chsadult.info!A$6 -> Y | B38: =chsadult.info!B$6 -> 1 | C38: 3.2 | D38: 0.71
A39: =chsadult.info!A$6 -> Y | B39: =chsadult.info!B$6 -> 1 | C39: 3.3 | D39: 0.51
A40: =chsadult.info!A$6 -> Y | B40: =chsadult.info!B$6 -> 1 | C40: 3.4 | D40: 0.35
A41: =chsadult.info!A$6 -> Y | B41: =chsadult.info!B$6 -> 1 | C41: 3.5 | D41: 0.25
...

Sheet chsspwn.dat
B1: CHINOOK SALMON SPAWNING
L2: Substrate | N2: Cover
A3: Plot? | B3: Crv # | C3: Velocity | D3: Suitability | E3: Depth | F3: Suitability | G3: Substrate | H3: Suitability | I3: Cover | J3: Suitability | L3: Code | N3: Code
A4: *
A5: =chsspwn.info!A$6 -> Y | B5: 1 | C5: Velocity | D5: Bovee-fall | E5: Depth | F5: Bovee- fall | G5: Substrate | H5: Bovee- fall | I5: Cover | L5: code | M5: sub type | N5: mm | O5: inches
A6: =chsspwn.info!A$6 -> Y | B6: 1 | C6: 0.8 | D6: 0 | E6: 0.2 | F6: 0 | G6: 4.5 | H6: 0 | L6: 1 | M6: org matter
A7: =chsspwn.info!A$6 -> Y | B7: 1 | C7: 0.9 | D7: 0.1 | E7: 0.3 | F7: 0.05 | G7: 4.6 | H7: 0.06 | L7: 2 | M7: mud,soft clay
A8: =chsspwn.info!A$6 -> Y | B8: 1 | C8: 1 | D8: 0.25 | E8: 0.4 | F8: 0.11 | G8: 4.65 | H8: 0.09 | L8: 3 | M8: silt | N8: <0.062 | O8: <0.002
