Workbook

Sheet Chinook Summary
A1: File Organization: sheet tabs are color-coded - see below for descriptions
A3: Yellow | B3: this summary tab lists the species life stages and the candidate HSC curves proposed for consideration (see table below)
A4: Lt Blue | B4: NEW: Adult chinook holding curves from 3 sources
A5: Red | B5: proposed candidate HSC curves - "info" table lists metadata for all available curves (candidates highlighted in yellow), figures show proposed candidate HSC curves by lifestage for depth or velocity
B6: the chinook fry rearing figures also show available RMT site-specific data that is overlaid with candidate curves to help with curve selection
B7: the "Yuba new" datapoint and table on each curve figure is a placeholder in the event that we want to create and overlay a new curve with the existing curves
A8: Green | B8: fry vs juvenile comparison curves - are intended to show if specific curve-sets reflect increased suitability of deeper/faster water as fish grow
A9: Blue | B9: ALL HSC curves are plotted together (candidate and non-candidate) - very busy!
A10: Brown | B10: supporting data for figures
A12: Lifestage | B12: Variable | C12: Proposed HSC | D12: Alternate HSC1 | E12: Alternate HSC1
A13: Adult | B13: Velocity | C13: TBD | D13: Stanislaus | E13: Wind
B14: Depth | C14: TBD | D14: Stanislaus | E14: Wind
A15: Spawning | B15: Velocity | C15: Yuba Beak2 | D15: Yuba FWS | E15: Tuol TRTAC
B16: Depth | C16: Yuba Beak2 | D16: Yuba FWS | E16: Tuol TRTAC
B17: Substrate | C17: RMT Site-Spec3 | D17: Yuba FWS | E17: Tuol TRTAC
B18: Cover | C18: N/A4
A20: Fry | B20: Velocity | C20: Yuba Beak | D20: Yuba FWS | E20: Tuol TRTAC5
B21: Depth | C21: Yuba Beak | D21: Yuba FWS | E21: Tuol TRTAC6
B22: Substrate | C22: N/A4
B23: Cover | C23: TBD7 | D23: Yuba FWS7
B24: Adj Velocity | C24: TBD7 | D24: Yuba FWS7
A26: Juvenile | B26: Velocity | C26: Yuba Beak | D26: Yuba FWS8 | E26: Tuol TRTAC10
B27: Depth | C27: Yuba Beak | D27: Yuba FWS9 | E27: Tuol TRTAC11
B28: Substrate | C28: N/A4
B29: Cover | C29: TBD7 | D29: Yuba FWS7
B30: Adj Velocity | C30: TBD7 | D30: Yuba FWS7
A31: Notes:
A32: 1 | B32: alternate HSC curve sets not in any specific order of preference
A33: 2 | B33: HSC curves successfully biovalidated in Yuba River by RMT
A34: 3 | B34: simplified substrate HSC (binary w suit for particles 32-90mm?), as biovalidated in Yuba by RMT
A35: 4 | B35: not proposed for use - fry and juvenile expected to select microhabitat independent of substrate
A36: 5 | B36: based on Yuba FWS, Stanislaus, and Tuolumne DFG curves
A37: 6 | B37: same as above, but concensus was not final on depth curve as of Feb 2011
A38: 7 | B38: use of cover and/or adjacent velocity HSC to be discussed
A39: 8 | B39: velocity based on STH fry curve, also used to represent STH juvenile
A40: 9 | B40: depth based on 39 CHS juveniles
A41: 10 | B41: velocity uses Stanislaus FWS curve, depth is modification thereof
A42: 11 | B42: depth based on modified Stanislaus FWS curve

Sheet chsadult.info
B1: CHINOOK SALMON ADLT HOLDING
G2: cm | H2: cm | N2: ft msl | O2: ft msl | P2: N / W Deg Min.min | R2: ft | S2: ft | T2: ft | U2: cfs | V2: cfs | W2: cfs | X2: % | Y2: oC | Z2: oC | AA2: oC
B3: Curve ID | D3: Fish Characteristics | I3: Sample Size1 | K3: Stream Location | R3: Stream Characteristics 2 | AC3: Sampling Info | AI3: Available HSC Data
F4: Life- | G4: Length | I4: No. HSC | J4: No. | N4: Elevation | P4: GPS Coordinates | S4: Width | V4: Streamflow | X4: Mean | Z4: Water Temperature | AB4: Species | AC4: Site - | AD4: Sampling | AE4: Survey | AF4: Observ | AG4: Curve | AH4: Curve | AI4: Total | AJ4: Velocity | AM4: Sub-
A5: Plot? | B5: No. | C5: Name | D5: Species | E5: Race | F5: stage | G5: Min | H5: Max | I5: Obs | J5: Fish | K5: Country | L5: State | M5: River | N5: Min | O5: Max | P5: Downstream | Q5: Upstream | R5: Mean | S5: Min | T5: Max | U5: Mean | V5: Min | W5: Max | X5: Slope | Y5: Mean | Z5: Min | AA5: Max | AB5: Composition3 | AC5: Specific? | AD5: Season | AE5: Design4 | AF5: Method5 | AG5: Type6 | AH5: Smoothing7 | AI5: Depth | AJ5: Mean Col | AK5: Focal | AL5: Cover8 | AM5: strate8 | AN5: Other | AO5: Notes | AP5: Reference
A6: Y | B6: 1 | C6: Stanislaus | D6: chinook | E6: fall | F6: adult | I6: 205 | K6: USA | L6: CA | M6: Stanislaus | U6: 400 | AC6: Y | AD6: fall | AE6: reaches | AF6: DO uw | AG6: III? | AH6: RM or NPTL? | AI6: Y | AJ6: Y | AK6: Y | AL6: Y | AM6: Y | AN6: fines | AO6: 1 | AP6: Aceituno, M.E. 1990. Habitat preference criteria for fall-run chinook salmon holding, spawning, and rearing in the Stanislaus River, California. U.S. Fish and Wildlife Service Report. Sacramento, CA.
A7: Y | B7: 2 | C7: Wind U/A | D7: chinook | E7: spring | F7: adult | G7: avg 76-98cm | I7: 537 | K7: USA | L7: WA | M7: Wind | AC7: Y | AE7: reaches | AF7: DO uw | AG7: III | AH7: judgement | AI7: Y | AJ7: Y | AK7: Y | AL7: Y | AM7: Y | AN7: shade | AO7: 2,3 | AP7: Wampler, P.L. 1986. Development of habitat preference criteria for holding adult spring Chinook salmon. U.S. Fish & Wildlife Service, Olympia, WA.
A8: Y | B8: 3 | C8: Wind Use | D8: chinook | E8: spring | F8: adult | G8: avg 76-98cm | I8: 537 | K8: USA | L8: WA | M8: Wind | AC8: Y | AE8: reaches | AF8: DO uw | AG8: II | AH8: none | AI8: Y | AJ8: Y | AK8: Y | AL8: Y | AM8: Y | AN8: shade | AO8: 2,3 | AP8: Wampler, P.L. 1986. Development of habitat preference criteria for holding adult spring Chinook salmon. U.S. Fish & Wildlife Service, Olympia, WA.
A9: Y | B9: 4 | C9: Yakima delphi | D9: chinook | E9: spring | F9: adult | K9: USA | L9: WA | M9: Yakima Basin | AC9: N | AG9: I delphi | AI9: Y | AJ9: Y | AO9: 4 | AP9: Yakima river Decision support system, Delphi round 4 results
B13: Keys:
B14: 1 | C14: # HSC observations is number of independent measurements at fish positions, # fish is total number of fish seen at the measurement locations
B15: 2 | C15: stream habitat characteristics DURING THE PERIOD OF SAMPLING FOR HSC
B16: 3 | C16: species abbreviations: chs=chinook salmon, coh=coho salmon, sth=steelhead, rbt=rainbow trout (resident), brn=brown trout, brk=brook trout, bul=bull trout, cut=cutthroat trout, wtf=whitefish, skr=suckers, scp=sculpin, pkm=pikeminnow, hdh=hardhead, dac=dace
B17: 4 | C17: survey design: sampling design used to collect hsc data, i.e. reaches - samples collected in representative reach(es), proportional - samples collected within mesohabitat types with effort in proportion to availability, equal-area - samples collected wit
B18: 5 | C18: observation method: DOuw-direct observation underwater (snorkeling/scuba), DOow-direct observation out-of-water (wading, boat, or bank observation), EF-electrofishing, VID-underwater video, NET-seining or other net capture, Other (see comments)
B19: 6 | C19: curve type: Cat I - hand-drawn or a composite of various curves based on professional judgment, Cat II - based on habitat use data, Cat III - based on habitat use data adjusted by habitat availability data, Bio - bioenergetics hsc
B20: 7 | C20: curve smoothing: method used (if any) to smooth raw observation or frequency histogram data
B21: 8 | C21: see hsc data sets for cover and substrate coding details
B23: Comments:
B24: 1 | C24: report states U/A curves based first on RM, then NPTL applied (but curve shape does not appear consistent with this description)
B25: 2 | C25: final depth curve showed discrpancy between plot and curve-pts, this file used the plotted curve
B26: 3 | C26: availability of deep water subjectively estimated
B27: 4 | C27: binary curves for "suitable" range based on 25th percentile for depth/velocity minimums, and 75th percentile for D/V maximums

Sheet chsadlt.vel ALL
P1: New HSC Curve:
P2: Veloc | Q2: Yuba New
P3: 0 | Q3: 0
P4: 0 | Q4: 0
P5: 0 | Q5: 0
P6: 0 | Q6: 0
P7: 0 | Q7: 0

Sheet chsadlt.dep ALL
P1: New HSC Curve:
P2: Depth | Q2: Yuba New
P3: 0 | Q3: 0
P4: 0 | Q4: 0
P5: 0 | Q5: 0
P6: 0 | Q6: 0
P7: 0 | Q7: 0

Sheet chsspwn.info
B1: CHINOOK SALMON SPAWNING
G2: cm | H2: cm | N2: ft msl | O2: ft msl | P2: N / W Deg Min.min | R2: ft | S2: ft | T2: ft | U2: cfs | V2: cfs | W2: cfs | X2: % | Y2: oC | Z2: oC | AA2: oC
B3: Curve ID | D3: Fish Characteristics | I3: Sample Size1 | K3: Stream Location | R3: Stream Characteristics 2 | AC3: Sampling Info | AI3: Available HSC Data
F4: Life- | G4: Length | I4: No. HSC | J4: No. | N4: Elevation | P4: GPS Coordinates | S4: Width | V4: Streamflow | X4: Mean | Z4: Water Temperature | AB4: Species | AC4: Site - | AD4: Sampling | AE4: Survey | AF4: Observ | AG4: Curve | AH4: Curve | AI4: Total | AJ4: Velocity | AM4: Sub-
A5: Plot? | B5: No. | C5: Name | D5: Species | E5: Race | F5: stage | G5: Min | H5: Max | I5: Obs | J5: Fish | K5: Country | L5: State | M5: River | N5: Min | O5: Max | P5: Downstream | Q5: Upstream | R5: Mean | S5: Min | T5: Max | U5: Mean | V5: Low | W5: High | X5: Slope | Y5: Mean | Z5: Min | AA5: Max | AB5: Composition3 | AC5: Specific? | AD5: Season | AE5: Design4 | AF5: Method5 | AG5: Type6 | AH5: Smoothing7 | AI5: Depth | AJ5: Mean Col | AK5: Focal | AL5: Cover8 | AM5: strate8 | AN5: Other | AO5: Comments | AP5: Reference
A6: Y | B6: 1 | C6: BoveeF | D6: chinook | E6: fall | F6: spwning | K6: USA | L6: OR,ID | M6: various | AC6: N | AG6: Cat I | AI6: Y | AJ6: Y | AM6: Y | AP6: Bovee, K.D. 1978. Probability-of-use criteria for the family Salmonidae. Instream Flow Information Paper No. 4. Cooperative Instream Flow Service Group, U.S. fish & Wildlife Service, Fort Collins, CO.
A7: Y | B7: 2 | C7: BoveeS | D7: chinook | E7: spring | F7: spwning | K7: USA | L7: OR | M7: various | AC7: N | AG7: Cat I | AI7: Y | AJ7: Y | AM7: Y | AP7: Bovee, K.D. 1978. Probability-of-use criteria for the family Salmonidae. Instream Flow Information Paper No. 4. Cooperative Instream Flow Service Group, U.S. fish & Wildlife Service, Fort Collins, CO.
A8: Y | B8: 3 | C8: Raleigh | D8: chinook | E8: fall+spring | F8: spwning | K8: USA,NZ | L8: AL,WA,CA | M8: various | AC8: N | AG8: Cat I | AI8: Y | AJ8: Y | AM8: Y | AP8: Raleigh, R.F., W.J. Miller, and P.C. Nelson. 1986. Habitat suitability index models and instream flow suitability curves: Chinook salmon. United States Fish and Wildlife Service, Biological Report 82(10.122). 64pp.
A9: Y | B9: 4 | C9: Yakima2 | D9: chinook | E9: spring | F9: spwning | I9: 118 | K9: USA | L9: WA | M9: Yakima/American | U9: 250 | AC9: Y | AG9: Cat II | AI9: Y | AJ9: Y | AP9: Stempel, J. M. 1984. Development of fish preference curves for spring chinook and rainbow trout in the Yakima River Basin. U.S. fish & Wildlife Service, Moses Lake, WA.
A10: Y | B10: 5 | C10: TrinityU | D10: chinook | E10: fall | F10: spwning | I10: 311 | K10: USA | L10: CA | M10: Trinity | V10: 300 | W10: 450 | AC10: Y | AG10: Cat II | AH10: 3-pt running means | AI10: Y | AJ10: Y | AP10: Hampton, M. 1997. Microhabitat suitability criteria for anadromous salmonids of the Trinity River. U.S. Fish & Wildlife Service, Arcata, CA.
A11: Y | B11: 6 | C11: KlamathSS | D11: chinook | E11: fall | F11: spwning | I11: 290 | K11: USA | L11: CA | M11: Klamath | V11: 1385 | W11: 1825 | AC11: Y | AD11: Oct | AG11: Cat II | AH11: NPTL | AI11: Y | AJ11: Y | AK11: Y | AN11: % fines | AP11: Hardin-Davis Inc., RTG Fishery Research & Photography, Terraqua Inc., and CDFG. 2002 DRAFT. Habitat suitability criteria for anadromous salmonids in the Klamath River, Iron Gate Dam to Scott River, California. California Department of Fish & Game Stream Evaluation Report 01-1, 2001.
A12: Y | B12: 7 | C12: Feather (DWR) | D12: chinook | E12: fall | F12: spwning | I12: 417 | K12: USA | L12: CA | M12: Feather | V12: 600 | W12: 2500 | AC12: Y | AD12: Oct-Dec | AG12: Cat II | AH12: NPTL / binary | AI12: Y | AJ12: Y | AM12: Y | AO12: cite for binary: | AP12: Sommer, T., D. McEwan, and R. Brown. 2001. Factors affecting chinook salmon spawning in the lower Feather River. Pages 269-297 in R.L. Brown, editor. Contributions to the biology of Central Valley salmonids. California Department of Fish and Game Fish Bulletin 179.
A13: Y | B13: 8 | C13: SacF | D13: chinook | E13: fall | F13: spwning | I13: 437 | K13: USA | L13: CA | M13: Sacramento | V13: 3000 | W13: 15000 | AC13: Y | AD13: Feb-Nov | AG13: Cat II | AM13: Y | AO13: 1 | AP13: USFWS. 2003. Flow-habitat relationships for steelhead and fall, late-fall and winter-run chinook salmon spawning in the Sacramento River between Keswick Dam and Battle Creek. U.S. Fish & Wildlife Service, Sacramento Fish & Wildlife Office, Sacramento, CA.79 pp.
A14: Y | B14: 9 | C14: SacLF | D14: chinook | E14: late-fall | F14: spwning | I14: 156 | K14: USA | L14: CA | M14: Sacramento | V14: 3000 | W14: 15000 | AC14: Y | AD14: Feb-Nov | AG14: Cat II | AM14: Y | AO14: 1 | AP14: USFWS. 2003. Flow-habitat relationships for steelhead and fall, late-fall and winter-run chinook salmon spawning in the Sacramento River between Keswick Dam and Battle Creek. U.S. Fish & Wildlife Service, Sacramento Fish & Wildlife Office, Sacramento, CA.79 pp.
A15: Y | B15: 10 | C15: SacW | D15: chinook | E15: winter | F15: spwning | I15: 227 | K15: USA | L15: CA | M15: Sacramento | V15: 3000 | W15: 15000 | AC15: Y | AD15: Feb-Nov | AG15: Cat II | AM15: Y | AO15: 1 | AP15: USFWS. 2003. Flow-habitat relationships for steelhead and fall, late-fall and winter-run chinook salmon spawning in the Sacramento River between Keswick Dam and Battle Creek. U.S. Fish & Wildlife Service, Sacramento Fish & Wildlife Office, Sacramento, CA.79 pp.
A16: Y | B16: 11 | C16: BattleV | D16: chinook | E16: fall | F16: spwning | I16: 216 | K16: USA | L16: CA | M16: Battle | AC16: Y | AD16: Oct | AI16: Y | AK16: Y | AP16: Vogel, D.A. 1982. Preferred spawning velocities, depths, and substrates for fall chinook salmon in Battle Creek, California. U.S. Fish & Wildlife Service, Red bluff, California.
A17: Y | B17: 12 | C17: Eel | D17: chinook | E17: fall | F17: spwning | I17: 399 | K17: USA | L17: CA | M17: Eel | V17: 20 | W17: 285 | AC17: Y | AD17: Nov-Dec | AE17: reaches | AG17: Cat II | AH17: polynomial regr | AI17: Y | AJ17: Y | AO17: 6 | AP17: Steiner Environmental Consulting. 1990. Potter Valley Project monitoring program (FERC No. 77, Article 39). Effects of operations on upper Eel River anadromous salmonids. 1988-89 progress report. Report prepared for Pacific Gas and Electric Company, San Ramon, CA.
A18: Y | B18: 13 | C18: Merced | D18: chinook | E18: fall | F18: spwning | I18: 186 | K18: USA | L18: CA | M18: Merced | AP18: United States Fish and Wildlife Service. 1997. Identification of the instream flow requirements for fall-run Chinook salmon spawning in the Merced River. Final Report, USFWS, Energy Planning and Instream Flow Branch, Sacramento, California. 66pp.
A19: Y | B19: 14 | C19: American | D19: chinook | E19: fall | F19: spwning | I19: 218 | K19: USA | L19: CA | M19: American | AP19: United States Fish and Wildlife Service. 1997. Supplimental report on the instream flow requirements for fall-run Chinook salmon spawning in the lower American River. USFWS, Energy Planning and Instream Flow Branch, Sacramento, California.
A20: Y | B20: 15 | C20: Clearwater | D20: chinook | F20: spwning | K20: USA | L20: ID | M20: Clearwater | AP20: Arnsberg, B.D., W.P. Connor, and E. Connor. 1992. Mainsten Clearwater River study: assessment for salmonid spawning, incubation, and rearing. Final Report. United States Department of Energy, Bonneville Power Administration, DOE/BP- 37474-3. 201pp.
A21: Y | B21: 16 | C21: OregonF | D21: chinook | E21: fall | F21: spwning | I21: 107 | K21: USA | L21: OR | M21: various | AP21: Sams, R.E., and L.S. Pearson. 1963. Methods for determining spawning flows for anadromous salmonids. Oregon Fish Commision Draft Report.
A22: Y | B22: 17 | C22: OregonS | D22: chinook | E22: spring | F22: spwning | I22: 252 | K22: USA | L22: OR | M22: various | V22: 25 | W22: 230 | AP22: Sams, R.E., and L.S. Pearson. 1963. Methods for determining spawning flows for anadromous salmonids. Oregon Fish Commision Draft Report.
A23: Y | B23: 18 | C23: Oregon2 | D23: chinook | F23: spwning | K23: USA | L23: OR | M23: various | AP23: Beak (possibly Sandy River data??)
A24: Y | B24: 19 | C24: Skagit | D24: chinook | F24: spwning | I24: 436 | K24: USA | L24: WA | M24: Skagit | V24: <2,000 | W24: <8,000 | AP24: Kurko, K.W. 1977. Investigations on the amount of potential spawning area available to chinook, pink, and chum salmon in the upper Skagit River, Washington. M.S. Thesis, University of Washington, Seattle, WA.
A25: Y | B25: 20 | C25: Nechacko | D25: chinook | F25: spwning | K25: CAN | L25: BC | M25: Nechacko | R25: 330 | U25: 1060 | AG25: Cat I | AH25: binary | AI25: Y | AJ25: Y | AM25: Y | AP25: Shirvell, C.S. 1989. Ability of PHABSIM to predict chinook salmon spawning habitat. Regulated Rivers: Research & Management 3:277-289.
A26: Y | B26: 21 | C26: Alaska1 | D26: chinook | F26: spwning | K26: USA | L26: AL | AP26: Estes
A27: Y | B27: 22 | C27: Alaska2 | D27: chinook | F27: spwning | I27: 262 | K27: USA | L27: AL | M27: Portage Cr & Indian R | V27: 100 | W27: 2000 | AC27: Y | AG27: Cat II | AH27: mod by prof judg | AI27: Y | AJ27: Y | AM27: Y | AO27: 7 | AP27: Vincent-Lang, D., A. Hoffman, A. Bingham, and C. Estes. 1984. Habitat suitability criteria for chinook, coho, and pink salmon spawning in tributaries of the Middle Susitna River. Chapter 9 In C.C. Estes and D.S. Vincent-Lang, editors. Aquatic habitat and instream flow investigations (May-October 1983). Alaska Department of Fish and Game, Susitna Hydro Aquatic Studies Report No. 3, Ancorage, AL.
A28: Y | B28: 23 | C28: SRBA | D28: chinook | F28: spwning | K28: USA | M28: various
A29: Y | B29: 24 | C29: Panther | D29: chinook | E29: spring | F29: spwning | I29: 150 | K29: USA | L29: ID | M29: Panther | AG29: Cat I/II | AI29: Y | AJ29: Y | AM29: Y | AO29: 4,5 | AP29: Reiser, D.W. 1985. Panther Creek, Idaho. Habitat rehabilitation - final report. Contract No. DE-AC79-84BP17449. Bonneville Power Administration, Portland, Oregon.
A30: Y | B30: 25 | C30: KlamathENV | D30: chinook | E30: fall | F30: spwning | K30: USA | L30: CA | M30: various | AG30: Cat I | AI30: Y | AJ30: Y | AP30: Hardy, T.B. and R.C. Addley. 2001. Evaluation of interim instream flow needs in the Klamath River. Phase II Final Report. Prepared for U.S. Department of the Interior by Institute for Natural Systems Engineering, Utah Water Research Laboratory, Utah State University, Logan, UT.
A31: Y | B31: 26 | C31: Yuba Beak | D31: chinook | E31: fall | F31: spwning | I31: 154 | K31: USA | L31: CA | M31: Yuba | N31: 45 | O31: 282 | V31: 616 | W31: 858 | AC31: Y | AD31: Nov | AE31: reaches | AF31: DO ow | AG31: Cat II | AH31: NPTL | AI31: Y | AJ31: Y | AM31: Y | AP31: Beak Consultants, Inc. 1988. Yuba River fisheries investigations, 1986-88. Appendix D: Evaluation of microhabitat utilzation for fall run chinook salmon (Oncorhynchus tshawytscha) in the lower Yuba River California. Final report prepared for California Department of Fish & Game, Sacramento, California.
A32: Y | B32: 27 | C32: Stanislaus | D32: chinook | E32: fall | F32: spwning | I32: 105 | K32: USA | L32: CA | M32: Stanislaus | N32: ~50 | O32: 300 | U32: 400 | AC32: Y | AD32: Nov | AE32: reaches | AF32: DO ow | AG32: Cat III ? | AH32: 3-pt running means | AI32: Y | AJ32: Y | AK32: Y | AL32: Y | AM32: Y | AN32: Y | AO32: 2 | AP32: Aceituno, M.E. 1990. Habitat preference criteria for fall-run chinook salmon holding, spawning, and rearing in the Stanislaus River, California. U.S. Fish and Wildlife Service Report. Sacramento, CA.
A33: Y | B33: 28 | C33: WDF-large | D33: chinook | E33: fall+spring | F33: spwning | K33: USA | L33: WA | M33: various | R33: >150 | V33: "Large" river HSC | AC33: N | AG33: Cat I | AI33: Y | AJ33: Y | AM33: Y | AO33: 3 | AP33: Washington Department of Fisheries. 1987. Documentation and rationale for preference curves used 1983-1987 for IFIM studies, Washington Department of Fisheries, Habitat Management. Draft report by J. Caldwell and B. Caldwell.
A34: Y | B34: 29 | C34: WDF-river | D34: chinook | E34: fall+spring | F34: spwning | K34: USA | L34: WA | M34: various | R34: 50-150 | V34: "River" HSC | AC34: N | AG34: Cat I | AI34: Y | AJ34: Y | AM34: Y | AO34: 3 | AP34: Washington Department of Fisheries. 1987. Documentation and rationale for preference curves used 1983-1987 for IFIM studies, Washington Department of Fisheries, Habitat Management. Draft report by J. Caldwell and B. Caldwell.
A35: Y | B35: 30 | C35: WDF-stream | D35: chinook | E35: fall+spring | F35: spwning | K35: USA | L35: WA | M35: various | R35: <50 | V35: "Stream" HSC | AC35: N | AG35: Cat I | AI35: Y | AJ35: Y | AM35: Y | AO35: 3 | AP35: Washington Department of Fisheries. 1987. Documentation and rationale for preference curves used 1983-1987 for IFIM studies, Washington Department of Fisheries, Habitat Management. Draft report by J. Caldwell and B. Caldwell.
A36: Y | B36: 31 | C36: Feather (TRPA) | D36: chinook | E36: fall | F36: spwning | I36: 417 | K36: USA | L36: CA | M36: Feather | V36: 600 | W36: 2500 | AC36: Y | AD36: Oct-Dec | AG36: Cat II | AH36: polynomial regr | AI36: Y | AJ36: Y | AP36: DWR. 2004. Phase 2 Report: Evaluation of project effects on instream flow and fish habitat SP F-16. Oroville facilities relicensing, FERC Project No. 2100.
A37: Y | B37: 32 | C37: Butte | D37: chinook | E37: spring | F37: spwning | I37: 792 | K37: USA | L37: CA | M37: Butte | V37: 45 | W37: 135 | AC37: Y | AE37: Sept-Oct | AF37: DO ow | AG37: Cat IV? | AH37: pres-abs | AI37: Y | AJ37: Y | AM37: Y | AP37: USFWS. 2003. Flow-habitat relationships for spring-run chinook salmon spawning in Butte Creek. U.S. Fish & Wildlife Service, Sacramento Fish & Wildlife Office, Sacramento, CA.85 pp.
A38: Y | B38: 33 | C38: Mokelumne | D38: chinook | E38: fall | F38: spwning | K38: USA | L38: CA | M38: Mokelumne | AC38: Y | AG38: Cat II? | AI38: Y | AJ38: Y | AO38: 4 | AP38: curves redrawn from Beak 1988, referenced as preliminary data from Envirosphere 1988 (but no full citation given)
A39: Y | B39: 34 | C39: Tuol TRTAC | D39: chinook | E39: fall? | F39: spwning | I39: 318 | K39: USA | L39: CA | M39: Tuolumne | AC39: Y | AG39: Cat II? | AI39: Y | AJ39: Y | AM39: Y | AO39: 8 | AP39: United States Fish and Wildlife Service. 1994. The relationship between instream flow and physical habitat availability for chinook salmon in the lower Tuolumne River, California. September 1994 draft report prepared by the Ecological Services Branch of the Sacramento Field Office for the Turlock and Modesto Irrigation Districts. 76pp.
A40: Y | B40: 35 | C40: Yuba FWS fall | D40: chinook | E40: fall | F40: spwning | I40: 870 | K40: USA | L40: CA | M40: Yuba | V40: 476 | W40: 911 | AC40: Y | AE40: reaches | AG40: Cat III ? | AH40: Pres-Abs, log regr | AI40: Y | AJ40: Y | AM40: Y | AP40: United States Fish and Wildlife Service. 2010. Flow-habitat relationships for spring and fall-run Chinook salmon and steelhead/rainbow trout spawning in the Yuba River. United States Fish and Wildlife Service, SFWO, Energy Planning and Instream Flow Branch, Sacramento, CA. 430pp.
A41: Y | B41: 36 | C41: Yuba FWS spr | D41: chinook | E41: spring | F41: spwning | I41: 168 | K41: USA | L41: CA | M41: Yuba | V41: 471 | W41: 741 | AC41: Y | AE41: reaches | AG41: Cat III ? | AH41: Pres-Abs, log regr | AI41: Y | AJ41: Y | AM41: Y | AP41: United States Fish and Wildlife Service. 2010. Flow-habitat relationships for spring and fall-run Chinook salmon and steelhead/rainbow trout spawning in the Yuba River. United States Fish and Wildlife Service, SFWO, Energy Planning and Instream Flow Branch, Sacramento, CA. 430pp.
A42: Y | B42: 37 | C42: Clear spr | D42: chinook | E42: spring | F42: spwning | I42: 180 | K42: USA | L42: CA | M42: Clear | AC42: Y | AE42: reaches | AG42: Cat III ? | AH42: Pres-Abs, log regr | AI42: Y | AJ42: Y | AM42: Y | AP42: United States Fish and Wildlife Service. 2007. Flow-habitat relationships for spring-run Chinook salmon and steelhead/rainbow trout spawning in Clear Creek between Whiskeytown Dam and Clear Creek Road. Final Report, United States Fish and Wildlife Service, SFWO, Energy Planning and Instream Flow Branch, Sacramento, CA.
A43: Y | B43: 38 | C43: Clear fall | D43: chinook | E43: fall | F43: spwning | I43: 442 | K43: USA | L43: CA | M43: Clear | AC43: Y | AE43: reaches | AG43: Cat III ? | AH43: Pres-Abs, log regr | AI43: Y | AJ43: Y | AM43: Y | AO43: 9 | AP43: United States Fish and Wildlife Service. 2011. Flow-habitat relationships for spring-run Chinook salmon and steelhead/rainbow trout spawning in Clear Creek between Clear Creek Road and the Sacramento river. Final Report, United States Fish and Wildlife Service, SFWO, Energy Planning and Instream Flow Branch, Sacramento, CA. 119pp.
B45: Keys:
B46: 1 | C46: # HSC observations is number of independent measurements at fish positions, # fish is total number of fish seen at the measurement locations
B47: 2 | C47: stream habitat characteristics DURING THE PERIOD OF SAMPLING FOR HSC
B48: 3 | C48: species abbreviations: chs=chinook salmon, coh=coho salmon, sth=steelhead, rbt=rainbow trout (resident), brn=brown trout, brk=brook trout, bul=bull trout, cut=cutthroat trout, wtf=whitefish, skr=suckers, scp=sculpin, pkm=pikeminnow, hdh=hardhead, dac=dace
B49: 4 | C49: survey design: sampling design used to collect hsc data, i.e. reaches - samples collected in representative reach(es), proportional - samples collected within mesohabitat types with effort in proportion to availability, equal-area - samples collected wit
B50: 5 | C50: observation method: DOuw-direct observation underwater (snorkeling/scuba), DOow-direct observation out-of-water (wading, boat, or bank observation), EF-electrofishing, VID-underwater video, NET-seining or other net capture, Other (see comments)
B51: 6 | C51: curve type: Cat I - hand-drawn or a composite of various curves based on professional judgment, Cat II - based on habitat use data, Cat III - based on habitat use data adjusted by habitat availability data, Bio - bioenergetics hsc
B52: 7 | C52: curve smoothing: method used (if any) to smooth raw observation or frequency histogram data
B53: 8 | C53: orig HSC from DFG study, see hsc data sets for cover and substrate coding details
B55: Comments:
B56: 1 | C56: depth curves use Gard (1997) technique for estimating deep-water suitability
B57: 2 | C57: author claims to have used NPTL following U/A adjustment, but only the adult holding depth curve is flat-topped
B58: 3 | C58: a handwritten note dated 3-5-87 on the first page says that WDF is now using open-ended depth curves for large rivers (and I have assumed that referred to all large river curves)
B59: 4 | C59: curve points approximated from graphs
B60: 5 | C60: curves based on Bovee and field data from [Reiser, D.W., and R.G. White. 1981. Influence of streamflow reductions on salmonid embryo development and fry quality. Idaho Water and Energy Resources Research Institute Research Technical Completion Report Project A-058-IDA. University of Idaho, Moscow, Idaho. 154p.]
B61: 6 | C61: data collected at several flows, obs at flows <75 cfs (n=212) given 1/2 weighting versus obs from 75-175 cfs (n=69) or obs from >175 cfs (n=118), which were each weighted at 1.0
B62: 7 | C62: sites were clearwater tribs to Susitna R
B63: 8 | C63: HSC from 1981 DFG study, revised substrate criteria mod from original in order to add suitability for 1-2" gravel (from 20 Sept 2010 TRTAC mtg)
B64: 9 | C64: velocity HSC was based on use data only (not on log regression of occ/unocc data)

Sheet chsspwn.vel Yuba
P1: New HSC Curve:
P2: MCVel | Q2: Yuba New
P3: 0 | Q3: 0
P4: 0 | Q4: 0
P5: 0 | Q5: 0
P6: 0 | Q6: 0
P7: 0 | Q7: 0

Sheet chsspwn.dep Yuba
P1: New HSC Curve:
P2: Depth | Q2: Yuba New
P3: 0 | Q3: 0
P4: 0 | Q4: 0
P5: 0 | Q5: 0
P6: 0 | Q6: 0
P7: 0 | Q7: 0

Sheet chsfry.info
B1: CHINOOK SALMON FRY
G2: cm | H2: cm | N2: ft msl | O2: ft msl | P2: N / W Deg Min.min | R2: ft | S2: ft | T2: ft | U2: cfs | V2: cfs | W2: cfs | X2: % | Y2: oC | Z2: oC | AA2: oC
B3: Curve ID | D3: Fish Characteristics | I3: Sample Size1 | K3: Stream Location | R3: Stream Characteristics 2 | AC3: Sampling Info | AI3: Available HSC Data
F4: Life- | G4: Length | I4: No. HSC | J4: No. | N4: Elevation | P4: GPS Coordinates | S4: Width | V4: Streamflow | X4: Mean | Z4: Water Temperature | AB4: Species | AC4: Site - | AD4: Sampling | AE4: Survey | AF4: Observ | AG4: Curve | AH4: Curve | AI4: Total | AJ4: Velocity | AM4: Sub-
A5: Plot? | B5: No. | C5: Name | D5: Species | E5: Race | F5: stage | G5: Min | H5: Max | I5: Obs | J5: Fish | K5: Country | L5: State | M5: River | N5: Min | O5: Max | P5: Downstream | Q5: Upstream | R5: Mean | S5: Min | T5: Max | U5: Mean | V5: Min | W5: Max | X5: Slope | Y5: Mean | Z5: Min | AA5: Max | AB5: Composition3 | AC5: Specific? | AD5: Season | AE5: Design4 | AF5: Method5 | AG5: Type6 | AH5: Smoothing7 | AI5: Depth | AJ5: Mean Col | AK5: Focal | AL5: Cover8 | AM5: strate8 | AN5: Other | AO5: Comments | AP5: Reference
A6: Y | B6: 1 | C6: Raleigh | D6: chinook | E6: fall+spring | K6: USA,NZ | L6: AL,WA,CA | M6: various | AC6: N | AG6: Cat I | AI6: Y | AJ6: Y | AP6: Raleigh, R.F., W.J. Miller, and P.C. Nelson. 1986. Habitat suitability index models and instream flow suitability curves: Chinook salmon. United States Fish and Wildlife Service, Biological Report 82(10.122). 64pp.
A7: Y | B7: 2 | C7: YakimaSP | D7: chinook | E7: spring | F7: fry | G7: 2 | H7: 4 | I7: 345 | K7: USA | L7: WA | M7: Yakima, Cle Elum | V7: 132 | W7: 483 | Z7: 5 | AA7: 8 | AB7: chs,sth,rbt,cut,bul,wtf,skr,pkm,scp,cyp | AC7: Y | AD7: April | AE7: equal-area | AF7: DO uw | AG7: Cat II | AH7: polynomial regr | AI7: Y | AJ7: Y | AM7: Y | AO7: 1 | AP7: Allen, M.A. 2000. Seasonal microhabitat use by juvenile spring chinook salmon in the Yakima River Basin, Washington. Rivers 7(4):314-332.
A8: Y | B8: 3 | C8: Trinity | D8: chinook | E8: fall+spring | F8: fry | H8: 5 | I8: 345 | J8: 5988 | K8: USA | L8: CA | M8: Trinity | AB8: chs,coh,sth,brn,skr,scp,dac | AC8: Y | AD8: spr,sum | AE8: reaches | AF8: DO uw | AG8: Cat II | AH8: 3pt running mean | AI8: Y | AJ8: Y | AO8: 2 | AP8: Hampton, M. 1997. Microhabitat suitability criteria for anadromous salmonids of the Trinity River. U.S. Fish & Wildlife Service, Arcata, CA.
A9: Y | B9: 4 | C9: NFLewis | D9: chinook | E9: fall | F9: fry | G9: 2.5 | H9: 5 | I9: 227 | J9: 1967 | K9: USA | L9: WA | M9: NF Lewis | V9: 2000 | W9: 6000 | Z9: 8 | AA9: 14 | AD9: May-July | AF9: DO uw | AG9: Cat II | AH9: histogram clustering | AI9: Y | AJ9: Y | AL9: Y | AM9: Y | AO9: 3 | AP9: NESCO. 1984. Verification of habitat utilization criteria for juvenile fall chinook salmon in the North Fork of the Lewis River, Washington. Report to Puget Power.
A10: Y | B10: 5 | C10: Battle | D10: chinook | E10: fall | F10: fry | G10: 2 | H10: 4 | I10: 353 | K10: USA | L10: CA | M10: Battle | R10: 72-194 | V10: 268 | W10: 823 | X10: 0.2-0.5 | Z10: 6 | AA10: 19 | AC10: Y | AD10: Feb-May | AE10: equal-area | AF10: DO uw | AG10: Cat II | AH10: polynomial regr | AI10: Y | AJ10: Y | AL10: Y | AO10: 4 | AP10: TRPA. 1998. Battle Creek fisheries studies. Task 2: habitat suitability criteria. Draft report to CDFG, Redding, CA.
A11: Y | B11: 6 | C11: KlamathENV | D11: chinook | E11: fall | F11: fry | H11: <5.5 | K11: USA | M11: various | AG11: Cat I | AI11: Y | AJ11: Y | AP11: Hardy, T.B. and R.C. Addley. 2001. Evaluation of interim instream flow needs in the Klamath River. Phase II Final Report. Prepared for U.S. Department of the Interior by Institute for Natural Systems Engineering, Utah Water Research Laboratory, Utah State University, Logan, UT.
A12: Y | B12: 7 | C12: American | D12: chinook | E12: fall | F12: fry | G12: 3.5 | H12: 5 | K12: USA | L12: CA | M12: American | AG12: Cat I | AI12: Y | AJ12: Y | AP12: United States Fish and Wildlife Service. 1985. Flow needs of chinook salmon in the lower American River. Final report on the 1981 lower American River flow study. Sacramento, California. 22pp.
A13: Y | B13: 8 | C13: Clearwater | D13: chinook | F13: fry | K13: USA | L13: ID | M13: Clearwater | AI13: Y | AJ13: Y | AP13: Arnsberg, B.D., W.P. Connor, and E. Connor. 1992. Mainsten Clearwater River study: assessment for salmonid spawning, incubation, and rearing. Final Report. United States Department of Energy, Bonneville Power Administration, DOE/BP- 37474-3. 201pp.
A14: Y | B14: 9 | C14: Alaska3 | D14: chinook | F14: fry | G14: 3.6 | H14: 5 | I14: 948 | K14: USA | L14: AL | M14: Kenai | AB14: coh,pnk,sok,dol,rbt,stk | AC14: Y | AD14: April-Oct | AF14: DO / EF | AG14: Cat II | AI14: N | AJ14: Y | AO14: 6 | AP14: Burger, C.V., D.B. Wangaard, R.L. Wilmot, and A.N. Palisano. 1982. Salmon investigations in the Kenai River, Alaska, 1979-81. U.s. Fish & Wildlife Service, National Fisheries Research Center, Seattle, Washington. 178pp.
A15: Y | B15: 10 | C15: Yuba Beak | D15: chinook | E15: fall | F15: fry | H15: <5 | I15: 180 | K15: USA | L15: CA | M15: Yuba | N15: 45 | O15: 282 | V15: 697 | W15: 697 | AC15: Y | AD15: Feb | AE15: reaches | AF15: DO uw | AG15: Cat II | AH15: NPTL | AI15: Y | AJ15: Y | AP15: Beak Consultants, Inc. 1989??. Yuba River fisheries investigations, 1986-88. Appendix D: Evaluation of microhabitat utilzation for fall run chinook salmon (Oncorhynchus tshawytscha) in the lower Yuba River California. Final report prepared for California Department of Fish & Game, Sacramento, California.
A16: Y | B16: 11 | C16: Stanislaus | D16: chinook | E16: fall | F16: fry | H16: <5 | I16: 417 | K16: USA | L16: CA | M16: Stanislaus | N16: ~50 | O16: 300 | V16: 125 | W16: 1250 | AC16: Y | AD16: Jan-April | AE16: reaches | AF16: DO uw | AG16: Cat III ? | AH16: 3pt running mean | AI16: Y | AJ16: Y | AK16: Y | AL16: Y | AM16: Y | AN16: %fines | AO16: 5 | AP16: Aceituno, M.E. 1990. Habitat preference criteria for chinook salmon of the Stanislaus River, California. USDI Fish & Wildlife Service, Sacramento, California. (as cited w curve pts in Aceituno 1993)
A17: Y | B17: 12 | C17: Feather | D17: chinook | E17: fall | F17: fry | H17: < 5 | I17: 369 | K17: USA | L17: CA | M17: Feather | AC17: Y | AD17: Jan-May | AE17: proportional | AF17: DO uw | AG17: Cat II | AH17: running means | AI17: Y | AJ17: Y | AP17: California Department of Water Resources. 2005. Addendum to Phase 2 report: Evaluation of project effects on instream flows and fish habitat SP F-16. Oroville Facilities Relicensing FERC Project No. 2100. Sacramento, California.
A18: Y | B18: 13 | C18: KlamathSS | D18: chinook | E18: fall | F18: fry | H18: <5.5 | J18: ~2500 | K18: USA | L18: CA | M18: Klamath | AC18: Y | AF18: EF | AG18: Cat II | AH18: none | AI18: Y | AJ18: Y | AL18: Y | AM18: Y | AN18: bank dist | AP18: Hardy, T.B. and R.C. Addley. 2001. Evaluation of interim instream flow needs in the Klamath River. Phase II Final Report. Prepared for U.S. Department of the Interior by Institute for Natural Systems Engineering, Utah Water Research Laboratory, Utah State University, Logan, UT.
A19: Y | B19: 14 | C19: SacF | D19: chinook | E19: fall | F19: fry | H19: 60 | I19: 408 | K19: USA | L19: CA | M19: Sacramento | V19: 4000 | W19: 14000 | AB19: chs,sth,pm,skr,… | AC19: Y | AD19: Dec-June | AE19: reaches | AF19: DO uw | AG19: Cat III ? | AH19: Pres-Abs, log regr | AI19: Y | AJ19: Y | AL19: Y | AN19: adj vel | AP19: United States Fish and Wildlife Service. 2005. Flow-habitat relationships for chinook salmon rearing in the Sacramento River between Keswick Dam and Battle Creek. Final report by Energy Planning and Instream Flow Branch, Sacramento, California. 242pp.
A20: Y | B20: 15 | C20: SacLF | D20: chinook | E20: late fall | F20: fry | H20: 60 | I20: 440 | K20: USA | L20: CA | M20: Sacramento | V20: 5000 | W20: 15000 | AB20: chs,sth,pm,skr,… | AC20: Y | AD20: Apr-Sept | AE20: reaches | AF20: DO uw | AG20: Cat III ? | AH20: Pres-Abs, log regr | AI20: Y | AJ20: Y | AL20: Y | AN20: adj vel | AP20: United States Fish and Wildlife Service. 2005. Flow-habitat relationships for chinook salmon rearing in the Sacramento River between Keswick Dam and Battle Creek. Final report by Energy Planning and Instream Flow Branch, Sacramento, California. 242pp.
A21: Y | B21: 16 | C21: SacW | D21: chinook | E21: winter | F21: fry | H21: 60 | I21: 266 | K21: USA | L21: CA | M21: Sacramento | V21: 6000 | W21: 15000 | AB21: chs,sth,pm,skr,… | AC21: Y | AD21: July-Jan | AE21: reaches | AF21: DO uw | AG21: Cat III ? | AH21: Pres-Abs, log regr | AI21: Y | AJ21: Y | AL21: Y | AN21: adj vel | AP21: United States Fish and Wildlife Service. 2005. Flow-habitat relationships for chinook salmon rearing in the Sacramento River between Keswick Dam and Battle Creek. Final report by Energy Planning and Instream Flow Branch, Sacramento, California. 242pp.
A22: Y | B22: 17 | C22: Cedar Feb | D22: chinook | E22: fall | F22: fry | J22: 1407 | K22: USA | L22: WA | M22: Cedar | V22: 300 | W22: 800 | AC22: Y | AD22: Feb | AE22: reaches | AF22: DO uw | AG22: Cat III | AH22: kernel smoother | AI22: Y | AJ22: Y | AL22: Y | AM22: Y | AO22: 7 | AP22: Peters & Leavy, FWS data
A23: Y | B23: 18 | C23: Cedar Apr | D23: chinook | E23: fall | F23: fry/juv | J23: 1510 | K23: USA | L23: WA | M23: Cedar | V23: 300 | W23: 800 | AC23: Y | AD23: Apr | AE23: reaches | AF23: DO uw | AG23: Cat III | AH23: kernel smoother | AI23: Y | AJ23: Y | AL23: Y | AM23: Y | AO23: 7 | AP23: Peters & Leavy, FWS data
A24: Y | B24: 19 | C24: Tuolumne FWS | D24: chinook | E24: fall | F24: fry | K24: USA | L24: CA | M24: Tuolumne | AC24: Y | AI24: Y | AJ24: Y | AO24: 8 | AP24: United States Fish and Wildlife Service. 1994. The relationship between instream flow and physical habitat availability for chinook salmon in the lower Tuolumne River, California. September 1994 draft report prepared by the Ecological Services Branch of the Sacramento Field Office for the Turlock and Modesto Irrigation Districts. 76pp.
A25: Y | B25: 20 | C25: Yuba FWS | D25: chinook | E25: fall+spring | F25: fry | H25: 60 | I25: 178 | K25: USA | L25: CA | M25: Yuba | U25: Oct-June | V25: 522 | W25: 2450 | AC25: Y | AF25: DO uw | AG25: Cat III ? | AH25: Pres-Abs, log regr | AI25: Y | AJ25: Y | AL25: Y | AN25: adj vel | AP25: United States Fish and Wildlife Service. 2010. Flow-habitat relationships for juvenile spring/fall-run Chinook salmon and steelhead/rainbow trout rearing in the Yuba River. Final Report, United States Fish and Wildlife Service, SFWO, Energy Planning and Instream Flow Branch, Sacramento, CA. 309pp.
A26: Y | B26: 21 | C26: Clear | D26: chinook | E26: spring | F26: fry | H26: 80 | I26: 202 | K26: USA | L26: CA | M26: Clear | V26: 89 | W26: 378 | AC26: Y | AD26: all year | AE26: reaches? | AF26: DO uw | AG26: Cat III ? | AH26: Pres-Abs, log regr | AI26: Y | AJ26: Y | AL26: Y | AN26: adj vel | AP26: United States Fish and Wildlife Service. 2011. Flow-habitat relationships for juvenile spring-run Chinook salmon and steelhead/rainbow trout rearing in Clear Creek between Whiskeytown Dam and Clear Creek Road. Final Report, United States Fish and Wildlife Service, SFWO, Energy Planning and Instream Flow Branch, Sacramento, CA. 309pp
A27: Y | B27: 22 | C27: Tuol TRTAC | D27: chinook | F27: fry | K27: USA | L27: CA | M27: Tuolumne | AC27: N | AG27: Cat I | AH27: envelope | AI27: Y | AJ27: Y | AO27: 9 | AP27: data from Tuolumne Tech Review Team HSC notes (20 Oct 2010)
B29: Keys:
B30: 1 | C30: # HSC observations is number of independent measurements at fish positions, # fish is total number of fish seen at the measurement locations
B31: 2 | C31: stream habitat characteristics DURING THE PERIOD OF SAMPLING FOR HSC
B32: 3 | C32: species abbreviations: chs=chinook salmon, coh=coho salmon, sth=steelhead, rbt=rainbow trout (resident), brn=brown trout, brk=brook trout, bul=bull trout, cut=cutthroat trout, wtf=whitefish, skr=suckers, scp=sculpin, pkm=pikeminnow, hdh=hardhead, dac=dace, rch=roach, cyp=other cyprinids, lmb=largemouth bass, smb=smallmouth bass, spb=spotted bass
B33: 4 | C33: survey design: sampling design used to collect hsc data, i.e. reaches - samples collected in representative reach(es), proportional - samples collected within mesohabitat types with effort in proportion to availability, equal-area - samples collected within mesohabitat types with effort equalized in each type, other (see comments)
B34: 5 | C34: observation method: DOuw-direct observation underwater (snorkeling/scuba), DOow-direct observation out-of-water (wading, boat, or bank observation), EF-electrofishing, VID-underwater video, NET-seining or other net capture, Other (see comments)
B35: 6 | C35: curve type: Cat I - hand-drawn or a composite of various curves based on professional judgment, Cat II - based on habitat use data, Cat III - based on habitat use data adjusted by habitat availability data, Bio - bioenergetics hsc
B36: 7 | C36: curve smoothing: method used (if any) to smooth raw observation or frequency histogram data
B37: 8 | C37: see hsc data sets for cover and substrate coding details
B39: Comments:
B40: 1 | C40: histogram frequencies also given for cover, focal velocity, focal depth, and distance to bank
B41: 2 | C41: Cat III rearing with cover and substrate HSC were originally reported in "Hampton, M. 1988. Development of habitat preference criteria for anadromous salmonids of the Trinity River. U.S. Fish & Wildlife Service, Sacramento, California, May 1988", but those HSC were not recommended for use in the 1997 final report
B42: 3 | C42: 2 types of cover hsc were created (only functional hsc entered), cover and sub w/in 0.5m, nose vels, nose hts, and dist to bank also recorded (see sheet for dist to bank)
B43: 4 | C43: data also collected for substrate type and percent fines
B44: 5 | C44: author claims to have used NPTL following U/A adjustment, but only the adult holding depth curve is flat-topped
B45: 6 | C45: curve points taken from Raleigh et al. 1986
B46: 7 | C46: cover HSC not created
B47: 8 | C47: HSC from FWS 1988 HSC study (report n/a), substrate modified from original study
B48: 9 | C48: vel curve is modified from Yuba FWS curve, depth curve (w/o concensus) is modified from Yuba FWS, Stanislaus, & Tuolumne SS curves

Sheet CHS fry.vel Yuba
P1: New HSC Curve:
P2: MCVel | Q2: Yuba New
P3: 0 | Q3: 0
P4: 0 | Q4: 0
P5: 0 | Q5: 0
P6: 0 | Q6: 0
P7: 0 | Q7: 0

Sheet CHS fry.dep Yuba
P1: New HSC Curve:
P2: Depth | Q2: Yuba New
P3: 0 | Q3: 0
P4: 0 | Q4: 0
P5: 0 | Q5: 0
P6: 0 | Q6: 0
P7: 0 | Q7: 0

Sheet chsjuv.info
B1: CHINOOK SALMON JUVENILES
G2: cm | H2: cm | N2: ft msl | O2: ft msl | P2: N / W Deg Min.min | R2: ft | S2: ft | T2: ft | U2: cfs | V2: cfs | W2: cfs | X2: % | Y2: oC | Z2: oC | AA2: oC
B3: Curve ID | D3: Fish Characteristics | I3: Sample Size1 | K3: Stream Location | R3: Stream Characteristics 2 | AC3: Sampling Info | AI3: Available HSC Data
F4: Life- | G4: Length | I4: No. HSC | J4: No. | N4: Elevation | P4: GPS Coordinates | S4: Width | V4: Streamflow | X4: Mean | Z4: Water Temperature | AB4: Species | AC4: Site - | AD4: Sampling | AE4: Survey | AF4: Observ | AG4: Curve | AH4: Curve | AI4: Total | AJ4: Velocity | AM4: Sub-
A5: Plot? | B5: No. | C5: Name | D5: Species | E5: Race | F5: stage | G5: Min | H5: Max | I5: Obs | J5: Fish | K5: Country | L5: State | M5: River | N5: Min | O5: Max | P5: Downstream | Q5: Upstream | R5: Mean | S5: Min | T5: Max | U5: Mean | V5: Min | W5: Max | X5: Slope | Y5: Mean | Z5: Min | AA5: Max | AB5: Composition3 | AC5: Specific? | AD5: Season | AE5: Design4 | AF5: Method5 | AG5: Type6 | AH5: Smoothing7 | AI5: Depth | AJ5: Mean Col | AK5: Focal | AL5: Cover8 | AM5: strate8 | AN5: Other | AO5: Comments | AP5: Reference
A6: Y | B6: 1 | C6: Bovee | D6: chinook | E6: spring,fall? | K6: USA | L6: OR,ID | M6: various | AC6: N | AG6: Cat I | AI6: Y | AJ6: Y | AM6: Y | AP6: Bovee, K.D. 1978. Probability-of-use criteria for the family Salmonidae. Instream Flow Information Paper No. 4. Cooperative Instream Flow Service Group, U.S. fish & Wildlife Service, Fort Collins, CO.
A7: Y | B7: 2 | C7: Raleigh | D7: chinook | K7: USA,NZ | L7: AL,NZ,CA | M7: various | AC7: N | AG7: Cat I | AI7: Y | AJ7: Y | AP7: Raleigh, R.F., W.J. Miller, and P.C. Nelson. 1986. Habitat suitability index models and instream flow suitability curves: Chinook salmon. United States Fish and Wildlife Service, Biological Report 82(10.122). 64pp.
A8: Y | B8: 3 | C8: Rubin | D8: chinook | E8: spring | F8: juv(sml) | G8: avg 6 | I8: 179 fish in 688 cells | K8: USA | L8: ID | M8: 2 small streams | N8: 5000 | O8: 6500 | R8: 33-52 | U8: 20-26 | Y8: 8 to 13 | AC8: Y | AD8: summer | AE8: cells | AF8: DO uw | AG8: density | AH8: poisson regr | AI8: Y | AJ8: Y | AO8: 1 | AP8: Rubin, S.P., T.C. Bjornn, and B. Dennis. 1991. Habitat suitability curves for juvenile chinook salmon and steelhead development using a habitat-oriented sampling approach. Rivers 2(1):12-29.
A9: Y | B9: 4 | C9: YakimaS | D9: chinook | E9: spring | F9: juv | G9: 5 | H9: 12 | I9: 403 | K9: USA | L9: WA | M9: Yakima, Naches | V9: 810 | W9: 2360 | Z9: 12 | AA9: 17 | AB9: chs,sth,rbt,cut,bul,wtf,skr,pkm,scp,cyp | AC9: Y | AD9: summer | AE9: equal-area | AF9: DO uw | AG9: Cat II | AH9: polynomial regr | AI9: Y | AJ9: Y | AM9: Y | AO9: 2 | AP9: Allen, M.A. 2000. Seasonal microhabitat use by juvenile spring chinook salmon in the Yakima River Basin, Washington. Rivers 7(4):314-332.
A10: Y | B10: 5 | C10: YakimaF | D10: chinook | E10: spring | F10: juv | G10: 7 | H10: 11 | I10: 249 | K10: USA | L10: WA | M10: Yakima | V10: 375 | W10: 450 | Z10: 9 | AA10: 15 | AB10: chs,sth,rbt,cut,bul,wtf,skr,pkm,scp,cyp | AC10: Y | AD10: fall | AE10: equal-area | AF10: DO uw | AG10: Cat II | AH10: polynomial regr | AI10: Y | AJ10: Y | AM10: Y | AO10: 2 | AP10: Allen, M.A. 2000. Seasonal microhabitat use by juvenile spring chinook salmon in the Yakima River Basin, Washington. Rivers 7(4):314-332.
A11: Y | B11: 6 | C11: YakimaW | D11: chinook | E11: spring | F11: juv | G11: >5 | I11: 90 | K11: USA | L11: WA | M11: Yakima | V11: 126 | W11: 1774 | Z11: 1 | AA11: 3 | AB11: chs,sth,rbt,cut,bul,wtf,skr,pkm,scp,cyp | AC11: Y | AD11: winter | AE11: equal-area | AF11: DO uw | AG11: Cat II | AH11: polynomial regr | AI11: Y | AJ11: Y | AM11: Y | AO11: 2 | AP11: Allen, M.A. 2000. Seasonal microhabitat use by juvenile spring chinook salmon in the Yakima River Basin, Washington. Rivers 7(4):314-332.
A12: Y | B12: 7 | C12: Yakima2 | D12: chinook | E12: spring | F12: fry/juv | G12: 2.5 | H12: 7.6 | I12: 202 | K12: USA | L12: WA | M12: Yakima,American | AB12: chs,sth,rbt,cut,bul,wtf,skr,pkm,scp,cyp | AC12: Y | AF12: DO uw | AG12: Cat II | AI12: Y | AJ12: Y | AO12: 3 | AP12: Stempel, J. M. 1984. Development of fish preference curves for spring chinook and rainbow trout in the Yakima River Basin. U.S. fish & Wildlife Service, Moses Lake, WA.
A13: Y | B13: 8 | C13: Yakima2P | D13: chinook | E13: spring | F13: fry/juv | G13: 2.5 | H13: 7.6 | I13: 202 | K13: USA | L13: WA | M13: Yakima,American | AB13: chs,sth,rbt,cut,bul,wtf,skr,pkm,scp,cyp | AC13: Y | AF13: DO uw | AG13: Cat III | AI13: Y | AJ13: Y | AP13: Stempel, J. M. 1984. Development of fish preference curves for spring chinook and rainbow trout in the Yakima River Basin. U.S. fish & Wildlife Service, Moses Lake, WA.
A14: Y | B14: 9 | C14: TrinityU | D14: chinook | E14: fall | F14: juv | G14: 6 | I14: 251 | K14: USA | L14: CA | M14: Trinity | AB14: chs,coh,sth,brn,skr,scp,dac | AC14: Y | AD14: spr,sum | AE14: reaches | AF14: DO uw | AG14: Cat II | AH14: 3pt running mean | AI14: Y | AJ14: Y | AO14: 4 | AP14: Hampton, M. 1997. Microhabitat suitability criteria for anadromous salmonids of the Trinity River. U.S. Fish & Wildlife Service, Arcata, CA.
A15: Y | B15: 10 | C15: Battle | D15: chinook | E15: fall | F15: juv | G15: 6 | H15: 8 | I15: 155 | K15: USA | L15: CA | M15: Battle | R15: 72-194 | V15: 268 | W15: 823 | X15: 0.2-0.5 | Z15: 6 | AA15: 19 | AC15: Y | AD15: Feb-May | AE15: equal-area | AF15: DO uw | AG15: Cat II | AH15: polynomial regr | AI15: Y | AJ15: Y | AL15: Y | AO15: 5 | AP15: TRPA. 1998. Battle Creek fisheries studies. Task 2: habitat suitability criteria. Draft report to CDFG, Redding, CA.
A16: Y | B16: 11 | C16: American | D16: chinook | E16: fall | F16: juv | G16: 5 | H16: 10 | K16: USA | L16: CA | M16: American | AG16: Cat I | AI16: Y | AJ16: Y | AP16: United States Fish and Wildlife Service. 1985. Flow needs of chinook salmon in the lower American River. Final report on the 1981 lower American River flow study. Sacramento, California. 22pp.
A17: Y | B17: 12 | C17: Alaska3 | D17: chinook | F17: juv | G17: 5 | H17: 10 | I17: 947 | K17: USA | L17: AL | M17: Kenai | AB17: coh,pnk,sok,dol,rbt,stk | AC17: Y | AD17: April-Oct | AF17: DO / EF | AG17: Cat II | AI17: N | AJ17: Y | AO17: 3 | AP17: Burger, C.V., D.B. Wangaard, R.L. Wilmot, and A.N. Palisano. 1982. Salmon investigations in the Kenai River, Alaska, 1979-81. U.s. Fish & Wildlife Service, National Fisheries Research Center, Seattle, Washington. 178pp.
A18: Y | B18: 13 | C18: Clearwater | D18: chinook | F18: juv | K18: USA | L18: ID | M18: Clearwater | AI18: Y | AJ18: Y | AP18: Arnsberg, B.D., W.P. Connor, and E. Connor. 1992. Mainsten Clearwater River study: assessment for salmonid spawning, incubation, and rearing. Final Report. United States Department of Energy, Bonneville Power Administration, DOE/BP- 37474-3. 201pp.
A19: Y | B19: 14 | C19: IDFG | D19: chinook | F19: juv | K19: USA | L19: ID | AI19: Y | AJ19: Y | AP19: Cochnauer & Elms-Cochran 1986.
A20: Y | B20: 15 | C20: NFLewis | D20: chinook | E20: fall | F20: juv | G20: 5.5 | H20: 11 | I20: 325 | J20: 2401 | K20: USA | L20: WA | M20: NF Lewis | V20: 2000 | W20: 6000 | Z20: 8 | AA20: 14 | AC20: Y | AD20: May-July | AF20: DO uw | AG20: Cat II | AH20: histogram clustering | AI20: Y | AJ20: Y | AL20: Y | AM20: Y | AO20: 6 | AP20: NESCO. 1984. Verification of habitat utilization criteria for juvenile fall chinook salmon in the North Fork of the Lewis River, Washington. Report to Puget Power.
A21: Y | B21: 16 | C21: Alaska2 | D21: chinook | F21: juv(sml?) | K21: USA | L21: AL | M21: Susitna Basin | AD21: May-Oct | AE21: cells (lrg) | AF21: EF / nets | AG21: density | AH21: regression | AI21: Y | AJ21: Y | AO21: 7 | AP21: Suchanek, P.M., R.P. Marshall, S.S. Hale, and D.C. Schmidt. 1984. Juvenile salmon rearing suitability criteria. Part 3 in D.C. Schmidt, S.S. Hale, D.L. Crawford, and P.M. Suchanek, editors. Resident and juvenile anadromous fish investigations (May-October 1983). Alaska Department of Fish & Game, Susitna Hydro Aquatic Studies Report No. 2, Anchorage, Alaska.
A22: Y | B22: 17 | C22: KlamathSS | D22: chinook | E22: fall | F22: juv | G22: 5.5 | I22: 94 | J22: 392 | K22: USA | L22: CA | M22: Klamath | V22: 1385 | W22: 1825 | AC22: Y | AF22: DOuw/VID | AG22: Cat II | AH22: NPTL | AI22: Y | AJ22: Y | AK22: Y | AL22: Y | AN22: Y | AO22: 8 | AP22: Hardin-Davis Inc., RTG Fishery Research & Photography, Terraqua Inc., and CDFG. 2002 DRAFT. Habitat suitability criteria for anadromous salmonids in the Klamath River, Iron Gate Dam to Scott River, California. California Department of Fish & Game Stream Evaluation Report 01-1, 2001.
A23: Y | B23: 18 | C23: KlamathENV | D23: chinook | E23: fall | F23: juv | G23: 5.5 | K23: USA | L23: CA | M23: various | AG23: Cat I | AI23: Y | AJ23: Y | AP23: Hardy, T.B. and R.C. Addley. 2001. Evaluation of interim instream flow needs in the Klamath River. Phase II Final Report. Prepared for U.S. Department of the Interior by Institute for Natural Systems Engineering, Utah Water Research Laboratory, Utah State University, Logan, UT.
A24: Y | B24: 19 | C24: Yuba Beak | D24: chinook | E24: fall | F24: juv | G24: 5 | I24: 500 | K24: USA | L24: CA | M24: Yuba | N24: 45 | O24: 282 | V24: 346 | W24: 416 | AC24: Y | AD24: Apr-May | AE24: reaches | AF24: DO uw | AG24: Cat II | AH24: NPTL | AI24: Y | AJ24: Y | AP24: Beak Consultants, Inc. 1989??. Yuba River fisheries investigations, 1986-88. Appendix D: Evaluation of microhabitat utilzation for fall run chinook salmon (Oncorhynchus tshawytscha) in the lower Yuba River California. Final report prepared for California Department of Fish & Game, Sacramento, California.
A25: Y | B25: 20 | C25: Stanislaus | D25: chinook | E25: fall | F25: juv | G25: 5 | H25: 15 | I25: 434 | K25: USA | L25: CA | M25: Stanislaus | N25: ~50 | O25: 300 | V25: 125 | W25: 1250 | AC25: Y | AD25: Jan-April | AE25: reaches | AF25: DO uw | AG25: Cat III ? | AH25: 3pt running mean | AI25: Y | AJ25: Y | AK25: Y | AL25: Y | AM25: Y | AN25: %fines | AO25: 9 | AP25: Aceituno, M.E. 1990. Habitat preference criteria for chinook salmon of the Stanislaus River, California. USDI Fish & Wildlife Service, Sacramento, California. (as cited w curve pts in Aceituno 1993)
A26: Y | B26: 21 | C26: WDF large & river | D26: chinook | E26: fall+spring | F26: juv | K26: USA | L26: WA | M26: various | R26: 50-150 "river", >150 "large" | AC26: N | AG26: Cat I | AI26: Y | AJ26: Y | AL26: Y | AM26: Y | AO26: 10 | AP26: Washington Department of Fisheries. 1987. Documentation and rationale for preference curves used 1983-1987 for IFIM studies, Washington Department of Fisheries, Habitat Management. Draft report by J. Caldwell and B. Caldwell.
A27: Y | B27: 22 | C27: WDF stream | D27: chinook | E27: fall+spring | F27: juv | K27: USA | L27: WA | M27: various | R27: <50 "stream" | AC27: N | AG27: Cat I | AI27: Y | AJ27: Y | AL27: Y | AM27: Y | AO27: 10 | AP27: Washington Department of Fisheries. 1987. Documentation and rationale for preference curves used 1983-1987 for IFIM studies, Washington Department of Fisheries, Habitat Management. Draft report by J. Caldwell and B. Caldwell.
A28: Y | B28: 23 | C28: Feather | D28: chinook | E28: fall | F28: juv | G28: >5 | I28: 95 | K28: USA | L28: CA | M28: Feather | AC28: Y | AD28: Jan-May | AE28: proportional | AF28: DO uw | AG28: Cat II | AH28: NPTL | AI28: Y | AJ28: Y | AL28: Y | AO28: 13 | AP28: DWR. 2005. Addendum to Phase 2 Report: Evaluation of project effects on instream flows and fish habitat, SP-F16. Oroville Relicensing, FERC Project No. 2100. California Department of Water Resources, Sacramento, CA.
A29: Y | B29: 24 | C29: Sac | D29: chinook | E29: F,LF,W | F29: juv | G29: 60 | I29: 186 | J29: 225 | K29: USA | L29: CA | M29: Sacramento | V29: 4000 | W29: 15000 | AB29: chs,sth,pm,skr,… | AC29: Y | AD29: all year | AE29: reaches | AF29: DO uw | AG29: Cat III ? | AH29: Pres-Abs, log regr | AI29: Y | AJ29: Y | AL29: Y | AN29: adj vel | AO29: 11 | AP29: United States Fish and Wildlife Service. 2005. Flow-habitat relationships for chinook salmon rearing in the Sacramento River between Keswick Dam and Battle Creek. Final report by Energy Planning and Instream Flow Branch, Sacramento, California. 242pp.
A30: Y | B30: 25 | C30: Cedar June | D30: chinook | E30: fall | F30: juv | J30: 256 | K30: USA | L30: WA | M30: Cedar | V30: 300 | W30: 300 | AC30: Y | AD30: June | AE30: reaches | AF30: DO uw | AG30: Cat III | AH30: kernel smoother | AI30: Y | AJ30: Y | AL30: Y | AM30: Y | AO30: 12 | AP30: Peters & Leavy, FWS data
A31: Y | B31: 26 | C31: Tuol TRTAC | D31: chinook | E31: fall | F31: juv | K31: USA | L31: CA | M31: Tuolumne | AC31: N | AI31: Y | AJ31: Y | AO31: 14 | AP31: United States Fish and Wildlife Service. 1994. The relationship between instream flow and physical habitat availability for chinook salmon in the lower Tuolumne River, California. September 1994 draft report prepared by the Ecological Services Branch of the Sacramento Field Office for the Turlock and Modesto Irrigation Districts. 76pp.
A32: Y | B32: 27 | C32: Yuba FWS | D32: chs (sth) | E32: fall+spring | F32: juv (fry) | G32: 60 | I32: 39 (195) | K32: USA | L32: CA | M32: Yuba | U32: Mar-Sept | V32: 508 | W32: 2827 | AC32: Y | AF32: DO uw | AG32: Cat III ? | AH32: Pres-Abs, log regr | AI32: Y | AJ32: Y | AL32: Y | AN32: adj vel | AO32: 15 | AP32: United States Fish and Wildlife Service. 2010. Flow-habitat relationships for juvenile spring/fall-run Chinook salmon and steelhead/rainbow trout rearing in the Yuba River. Final Report, United States Fish and Wildlife Service, SFWO, Energy Planning and Instream Flow Branch, Sacramento, CA. 309pp.
A33: Y | B33: 28 | C33: Clear | D33: chs/sth | E33: spring | F33: juv | G33: 80 chs | I33: 191 | K33: USA | L33: CA | M33: Clear | V33: 89 | W33: 378 | AC33: Y | AD33: all year | AE33: reaches? | AF33: DO uw | AG33: Cat III ? | AH33: Pres-Abs, log regr | AI33: Y | AJ33: Y | AL33: Y | AN33: adj vel | AO33: 16 | AP33: United States Fish and Wildlife Service. 2011. Flow-habitat relationships for juvenile spring-run Chinook salmon and steelhead/rainbow trout rearing in Clear Creek between Whiskeytown Dam and Clear Creek Road. Final Report, United States Fish and Wildlife Service, SFWO, Energy Planning and Instream Flow Branch, Sacramento, CA. 309pp
B36: Keys:
B37: 1 | C37: # HSC observations is number of independent measurements at fish positions, # fish is total number of fish seen at the measurement locations
B38: 2 | C38: stream habitat characteristics DURING THE PERIOD OF SAMPLING FOR HSC
B39: 3 | C39: species abbreviations: chs=chinook salmon, coh=coho salmon, sth=steelhead, rbt=rainbow trout (resident), brn=brown trout, brk=brook trout, bul=bull trout, cut=cutthroat trout, wtf=whitefish, skr=suckers, scp=sculpin, pkm=pikeminnow, hdh=hardhead, dac=dace
B40: 4 | C40: survey design: sampling design used to collect hsc data, i.e. reaches - samples collected in representative reach(es), proportional - samples collected within mesohabitat types with effort in proportion to availability, equal-area - samples collected wit
B41: 5 | C41: observation method: DOuw-direct observation underwater (snorkeling/scuba), DOow-direct observation out-of-water (wading, boat, or bank observation), EF-electrofishing, VID-underwater video, NET-seining or other net capture, Other (see comments)
B42: 6 | C42: curve type: Cat I - hand-drawn or a composite of various curves based on professional judgment, Cat II - based on habitat use data, Cat III - based on habitat use data adjusted by habitat availability data, Bio - bioenergetics hsc
B43: 7 | C43: curve smoothing: method used (if any) to smooth raw observation or frequency histogram data
B44: 8 | C44: see hsc data sets for cover and substrate coding details
B46: Comments:
B47: 1 | C47: substrate data also collected
B48: 2 | C48: histogram frequencies also given for cover, focal velocity, focal depth, and distance to bank
B49: 3 | C49: curve points taken from Raleigh et al. 1986
B50: 4 | C50: Cat III rearing with cover and substrate HSC were originally reported in "Hampton, M. 1988. Development of habitat preference criteria for anadromous salmonids of the Trinity River. U.S. Fish & Wildlife Service, Sacramento, California, May 1988", but those HSC were not recommended for use in the 1997 final report
B51: 5 | C51: data also collected for substrate type and percent fines
B52: 6 | C52: 2 types of cover hsc were created (only functional hsc entered), cover and sub w/in 0.5m, nose vels, nose hts, and dist to bank also recorded
B53: 7 | C53: clear water curves shown, a turbid water curve is also available (curves from Raleigh et al. 1986)
B54: 8 | C54: distance to bank HSC also developed
B55: 9 | C55: author claims to have used NPTL following U/A adjustment, but only the adult holding depth curve is flat-topped
B56: 10 | C56: same curves used for coho, maybe also used for fry ??
B57: 11 | C57: cover HSC differed for F, LF, and W races
B58: 12 | C58: cover HSC not created
... B62: 16 | C62: data combines juv CHS and STH/RBT (relative n's unspecified)

Sheet chsjuv.vel Yuba
P1: New HSC Curve:
P2: MCVel | Q2: Yuba New
P3: 0 | Q3: 0
P4: 0 | Q4: 0
P5: 0 | Q5: 0
P6: 0 | Q6: 0
P7: 0 | Q7: 0

Sheet chsjuv.dep Yuba
P1: New HSC Curve:
P2: Depth | Q2: Yuba New
P3: 0 | Q3: 0
P4: 0 | Q4: 0
P5: 0 | Q5: 0
P6: 0 | Q6: 0
P7: 0 | Q7: 0

Sheet chs fry Vs juv.Yuba Beak

Sheet chs fry Vs juv.Yuba FWS

Sheet chs fry Vs juv.Tuol

Sheet chsadlt.dat
B1: CHINOOK SALMON ADULT HOLDING
L2: Substrate | O2: Cover
A3: Plot? | B3: Crv # | C3: Velocity | D3: Suitability | E3: Depth | F3: Suitability | G3: Substrate | H3: Suitability | I3: Cover | J3: Suitability | L3: Code | O3: Code
A4: *
A5: =chsadult.info!A$6 -> Y | B5: =chsadult.info!B$6 -> 1 | C5: Velocity | D5: =chsadult.info!$C6 -> Stanislaus | E5: Depth | F5: =chsadult.info!$C6 -> Stanislaus | G5: Substrate | H5: =chsadult.info!$C6 -> Stanislaus | I5: Cover | J5: =chsadult.info!$C6 -> Stanislaus | L5: code | M5: dominant type | N5: size mm | O5: x | P5: object cover | Q5: coded as: xy.z
A6: =chsadult.info!A$6 -> Y | B6: =chsadult.info!B$6 -> 1 | C6: 0 | D6: 0.01 | E6: 0.2 | F6: 0 | G6: 1 | H6: 0 | I6: 0 | J6: 1 | L6: 1 | M6: organics | O6: 0 | P6: none
A7: =chsadult.info!A$6 -> Y | B7: =chsadult.info!B$6 -> 1 | C7: 0.1 | D7: 0.01 | E7: 0.3 | F7: 0.02 | G7: 2 | H7: 0.03 | I7: 0.1 | J7: 0.52 | L7: 2 | M7: mud/clay | O7: 1 | P7: <6"
A8: =chsadult.info!A$6 -> Y | B8: =chsadult.info!B$6 -> 1 | C8: 0.2 | D8: 0.01 | E8: 0.4 | F8: 0.04 | G8: 3 | H8: 0.13 | I8: 0.2 | J8: 0.2 | L8: 3 | M8: silt | N8: <.062 | O8: 2 | P8: 6-12"
A9: =chsadult.info!A$6 -> Y | B9: =chsadult.info!B$6 -> 1 | C9: 0.3 | D9: 0.03 | E9: 0.5 | F9: 0.1 | G9: 4 | H9: 0.36 | I9: 0.3 | J9: 0.09 | L9: 4 | M9: sand | N9: .062-2 | O9: 3 | P9: >12"
A10: =chsadult.info!A$6 -> Y | B10: =chsadult.info!B$6 -> 1 | C10: 0.4 | D10: 0.05 | E10: 0.6 | F10: 0.18 | G10: 5 | H10: 0.67 | I10: 0.4 | J10: 0.11 | L10: 5 | M10: course sand | N10: 2-4 | O10: y | P10: overhead cover
A11: =chsadult.info!A$6 -> Y | B11: =chsadult.info!B$6 -> 1 | C11: 0.5 | D11: 0.08 | E11: 0.7 | F11: 0.29 | G11: 6 | H11: 0.92 | I11: 10 | J11: 0.12 | L11: 6 | M11: sml grav | N11: 4-25 | O11: 0 | P11: none
A12: =chsadult.info!A$6 -> Y | B12: =chsadult.info!B$6 -> 1 | C12: 0.6 | D12: 0.12 | E12: 0.8 | F12: 0.38 | G12: 7 | H12: 1 | I12: 10.1 | J12: 0.11 | L12: 7 | M12: med grav | N12: 25-50 | O12: 1 | P12: instream
A13: =chsadult.info!A$6 -> Y | B13: =chsadult.info!B$6 -> 1 | C13: 0.7 | D13: 0.15 | E13: 0.9 | F13: 0.46 | G13: 8 | H13: 0.9 | I13: 10.2 | J13: 0.05 | L13: 8 | M13: lrg grav | N13: 50-75 | O13: 2 | P13: overhanging
A14: =chsadult.info!A$6 -> Y | B14: =chsadult.info!B$6 -> 1 | C14: 0.8 | D14: 0.17 | E14: 1 | F14: 0.51 | G14: 9 | H14: 0.76 | I14: 10.3 | J14: 0.02 | L14: 9 | M14: sml cob | N14: 75-150 | O14: 3 | P14: both
A15: =chsadult.info!A$6 -> Y | B15: =chsadult.info!B$6 -> 1 | C15: 0.9 | D15: 0.2 | E15: 1.1 | F15: 0.58 | G15: 10 | H15: 0.65 | I15: 10.4 | J15: 0 | L15: 10 | M15: med cob | N15: 150-225 | O15: z | P15: quality
A16: =chsadult.info!A$6 -> Y | B16: =chsadult.info!B$6 -> 1 | C16: 1 | D16: 0.24 | E16: 1.5 | F16: 0.58 | G16: 11 | H16: 0.55 | L16: 11 | M16: lrg cob | N16: 225-300 | O16: 0 | P16: none
A17: =chsadult.info!A$6 -> Y | B17: =chsadult.info!B$6 -> 1 | C17: 1.1 | D17: 0.38 | E17: 1.6 | F17: 0.66 | G17: 12 | H17: 0.4 | L17: 12 | M17: sml bldr | N17: 300-600 | O17: 1 | P17: poor <25%
A18: =chsadult.info!A$6 -> Y | B18: =chsadult.info!B$6 -> 1 | C18: 1.2 | D18: 0.59 | E18: 1.7 | F18: 0.83 | G18: 13 | H18: 0.23 | L18: 13 | M18: med bldr | N18: 600-2000 | O18: 2 | P18: fair 25-50%
A19: =chsadult.info!A$6 -> Y | B19: =chsadult.info!B$6 -> 1 | C19: 1.3 | D19: 0.88 | E19: 1.8 | F19: 0.83 | G19: 14 | H19: 0.09 | L19: 14 | M19: lrg bldr | N19: >2000 | O19: 3 | P19: good 50-75%
A20: =chsadult.info!A$6 -> Y | B20: =chsadult.info!B$6 -> 1 | C20: 1.4 | D20: 1 | E20: 1.9 | F20: 1 | G20: 15 | H20: 0.03 | L20: 15 | M20: bedrock | O20: 4 | P20: excellent >75%
A21: =chsadult.info!A$6 -> Y | B21: =chsadult.info!B$6 -> 1 | C21: 1.5 | D21: 0.98 | E21: 3.6 | F21: 1
A22: =chsadult.info!A$6 -> Y | B22: =chsadult.info!B$6 -> 1 | C22: 1.6 | D22: 0.97 | E22: 3.7 | F22: 0.78
A23: =chsadult.info!A$6 -> Y | B23: =chsadult.info!B$6 -> 1 | C23: 1.7 | D23: 0.95 | E23: 3.8 | F23: 0.53
A24: =chsadult.info!A$6 -> Y | B24: =chsadult.info!B$6 -> 1 | C24: 1.8 | D24: 0.94 | E24: 3.9 | F24: 0.26
A25: =chsadult.info!A$6 -> Y | B25: =chsadult.info!B$6 -> 1 | C25: 1.9 | D25: 0.92 | E25: 4 | F25: 0.14
A26: =chsadult.info!A$6 -> Y | B26: =chsadult.info!B$6 -> 1 | C26: 2 | D26: 0.91 | E26: 4.1 | F26: 0.08
A27: =chsadult.info!A$6 -> Y | B27: =chsadult.info!B$6 -> 1 | C27: 2.1 | D27: 0.89 | E27: 4.2 | F27: 0.07
A28: =chsadult.info!A$6 -> Y | B28: =chsadult.info!B$6 -> 1 | C28: 2.2 | D28: 0.88 | E28: 4.3 | F28: 0.07
A29: =chsadult.info!A$6 -> Y | B29: =chsadult.info!B$6 -> 1 | C29: 2.3 | D29: 0.86 | E29: 4.4 | F29: 0.06
A30: =chsadult.info!A$6 -> Y | B30: =chsadult.info!B$6 -> 1 | C30: 2.4 | D30: 0.85 | E30: 4.5 | F30: 0.05
A31: =chsadult.info!A$6 -> Y | B31: =chsadult.info!B$6 -> 1 | C31: 2.5 | D31: 0.83 | E31: 4.6 | F31: 0.03
A32: =chsadult.info!A$6 -> Y | B32: =chsadult.info!B$6 -> 1 | C32: 2.6 | D32: 0.82 | E32: 4.7 | F32: 0.01
... A34: =chsadult.info!A$6 -> Y | B34: =chsadult.info!B$6 -> 1 | C34: 2.8 | D34: 0.79 | E34: 5 | F34: 0
A35: =chsadult.info!A$6 -> Y | B35: =chsadult.info!B$6 -> 1 | C35: 2.9 | D35: 0.77
A36: =chsadult.info!A$6 -> Y | B36: =chsadult.info!B$6 -> 1 | C36: 3 | D36: 0.76
A37: =chsadult.info!A$6 -> Y | B37: =chsadult.info!B$6 -> 1 | C37: 3.1 | D37: 0.74
A38: =chsadult.info!A$6 -> Y | B38: =chsadult.info!B$6 -> 1 | C38: 3.2 | D38: 0.71
A39: =chsadult.info!A$6 -> Y | B39: =chsadult.info!B$6 -> 1 | C39: 3.3 | D39: 0.51
A40: =chsadult.info!A$6 -> Y | B40: =chsadult.info!B$6 -> 1 | C40: 3.4 | D40: 0.35
A41: =chsadult.info!A$6 -> Y | B41: =chsadult.info!B$6 -> 1 | C41: 3.5 | D41: 0.25
A42: =chsadult.info!A$6 -> Y | B42: =chsadult.info!B$6 -> 1 | C42: 3.6 | D42: 0.24
A43: =chsadult.info!A$6 -> Y | B43: =chsadult.info!B$6 -> 1 | C43: 3.7 | D43: 0.23
A44: =chsadult.info!A$6 -> Y | B44: =chsadult.info!B$6 -> 1 | C44: 3.8 | D44: 0.22
A45: =chsadult.info!A$6 -> Y | B45: =chsadult.info!B$6 -> 1 | C45: 3.9 | D45: 0.21
A46: =chsadult.info!A$6 -> Y | B46: =chsadult.info!B$6 -> 1 | C46: 4 | D46: 0.2
... A54: =chsadult.info!A$6 -> Y | B54: =chsadult.info!B$6 -> 1 | C54: 4.8 | D54: 0
A55: =chsadult.info!A$6 -> Y | B55: =chsadult.info!B$6 -> 1 | L55: Substrate | N55: size
A56: =chsadult.info!A$7 -> Y | B56: =chsadult.info!B$7 -> 2 | C56: Velocity | D56: =chsadult.info!$C7 -> Wind U/A | E56: Depth | F56: =chsadult.info!$C7 -> Wind U/A | G56: Substrate | H56: =chsadult.info!$C7 -> Wind U/A | I56: Cover | J56: =chsadult.info!$C7 -> Wind U/A | L56: code | M56: dominant type | N56: mm/in
A57: =chsadult.info!A$7 -> Y | B57: =chsadult.info!B$7 -> 2 | C57: 0 | D57: 1 | E57: 1 | F57: 0 | G57: 0 | H57: 0.29 | I57: none | J57: 0 | L57: 0 | M57: organics
A58: =chsadult.info!A$7 -> Y | B58: =chsadult.info!B$7 -> 2 | C58: 3.7 | D58: 1 | E58: 6.5 | F58: 0.34 | G58: 1 | H58: 0.34 | I58: turbulence | J58: 0.16 | L58: 1 | M58: silt/clay | N58: <2mm
A59: =chsadult.info!A$7 -> Y | B59: =chsadult.info!B$7 -> 2 | C59: 5.3 | D59: 0.79 | E59: 14.1 | F59: 1 | G59: 2 | H59: 0.35 | I59: rock | J59: 0.13 | L59: 2 | M59: sand | N59: <2mm
A60: =chsadult.info!A$7 -> Y | B60: =chsadult.info!B$7 -> 2 | C60: 5.5 | D60: 0.11 | E60: 50 | F60: 1 | G60: 3 | H60: 0.42 | I60: wood | J60: 1 | L60: 3 | M60: sml grav | N60: 2mm-0.5"
A61: =chsadult.info!A$7 -> Y | B61: =chsadult.info!B$7 -> 2 | C61: 5.7 | D61: 0 | E61: 51 | F61: 0 | G61: 4 | H61: 0.73 | I61: stream bank | J61: 0.12 | L61: 4 | M61: med grav | N61: 0.5-1.5"
A62: =chsadult.info!A$7 -> Y | B62: =chsadult.info!B$7 -> 2 | G62: 5 | H62: 0.5 | I62: vegetation | J62: 0 | L62: 5 | M62: lrg grav | N62: 1.5-3.0"
A63: =chsadult.info!A$7 -> Y | B63: =chsadult.info!B$7 -> 2 | G63: 6 | H63: 1 | L63: 6 | M63: sml cob | N63: 3-6"
A64: =chsadult.info!A$7 -> Y | B64: =chsadult.info!B$7 -> 2 | G64: 7 | H64: 0.61 | L64: 7 | M64: lrg cob | N64: 6-12"
A65: =chsadult.info!A$7 -> Y | B65: =chsadult.info!B$7 -> 2 | G65: 8 | H65: 0.39 | L65: 8 | M65: boulder | N65: >12"
A66: =chsadult.info!A$7 -> Y | B66: =chsadult.info!B$7 -> 2 | G66: 9 | H66: 0.8 | L66: 9 | M66: bedrock
A67: =chsadult.info!A$7 -> Y | B67: =chsadult.info!B$7 -> 2
A68: =chsadult.info!A$8 -> Y | B68: =chsadult.info!B$8 -> 3 | C68: Velocity | D68: =chsadult.info!$C8 -> Wind Use | E68: Depth | F68: =chsadult.info!$C8 -> Wind Use | G68: Substrate | H68: =chsadult.info!$C8 -> Wind Use | I68: Cover | J68: =chsadult.info!$C8 -> Wind Use | L68: code | M68: dominant type | N68: mm/in
A69: =chsadult.info!A$8 -> Y | B69: =chsadult.info!B$8 -> 3 | C69: 0 | D69: 1 | E69: 0 | F69: 0 | G69: 0 | H69: 0.02 | I69: none | J69: 0.014 | L69: 0 | M69: organics
A70: =chsadult.info!A$8 -> Y | B70: =chsadult.info!B$8 -> 3 | C70: 0.1 | D70: 1 | E70: 0.7 | F70: 0.06 | G70: 1 | H70: 0.025 | I70: turbulence | J70: 1 | L70: 1 | M70: silt/clay | N70: <2mm
A71: =chsadult.info!A$8 -> Y | B71: =chsadult.info!B$8 -> 3 | C71: 0.5 | D71: 0.46 | E71: 1.5 | F71: 0.59 | G71: 2 | H71: 0.025 | I71: rock | J71: 0.374 | L71: 2 | M71: sand | N71: <2mm
A72: =chsadult.info!A$8 -> Y | B72: =chsadult.info!B$8 -> 3 | C72: 1.7 | D72: 0.25 | E72: 2.5 | F72: 1 | G72: 3 | H72: 0.012 | I72: wood | J72: 0.922 | L72: 3 | M72: sml grav | N72: 2mm-0.5"
A73: =chsadult.info!A$8 -> Y | B73: =chsadult.info!B$8 -> 3 | C73: 3.1 | D73: 0.1 | E73: 3.5 | F73: 0.96 | G73: 4 | H73: 0.045 | I73: stream bank | J73: 0.142 | L73: 4 | M73: med grav | N73: 0.5-1.5"
A74: =chsadult.info!A$8 -> Y | B74: =chsadult.info!B$8 -> 3 | C74: 4.7 | D74: 0.02 | E74: 4.5 | F74: 0.73 | G74: 5 | H74: 0.172 | I74: vegetation | J74: 0 | L74: 5 | M74: lrg grav | N74: 1.5-3.0"
A75: =chsadult.info!A$8 -> Y | B75: =chsadult.info!B$8 -> 3 | C75: 5.6 | D75: 0 | E75: 5.5 | F75: 0.59 | G75: 6 | H75: 0.508 | L75: 6 | M75: sml cob | N75: 3-6"
A76: =chsadult.info!A$8 -> Y | B76: =chsadult.info!B$8 -> 3 | E76: 6.5 | F76: 0.44 | G76: 7 | H76: 1 | L76: 7 | M76: lrg cob | N76: 6-12"
A77: =chsadult.info!A$8 -> Y | B77: =chsadult.info!B$8 -> 3 | E77: 7.5 | F77: 0.08 | G77: 8 | H77: 0.336 | L77: 8 | M77: boulder | N77: >12"
A78: =chsadult.info!A$8 -> Y | B78: =chsadult.info!B$8 -> 3 | E78: 8.5 | F78: 0.03 | G78: 9 | H78: 0.057 | L78: 9 | M78: bedrock
A79: =chsadult.info!A$8 -> Y | B79: =chsadult.info!B$8 -> 3 | E79: 9.5 | F79: 0.01
A80: =chsadult.info!A$8 -> Y | B80: =chsadult.info!B$8 -> 3 | E80: 10.5 | F80: 0
A81: =chsadult.info!A$8 -> Y | B81: =chsadult.info!B$8 -> 3 | E81: 11.5 | F81: 0.28
A82: =chsadult.info!A$8 -> Y | B82: =chsadult.info!B$8 -> 3 | E82: 12.5 | F82: 0
A83: =chsadult.info!A$8 -> Y | B83: =chsadult.info!B$8 -> 3 | E83: 13.5 | F83: 0.03
A84: =chsadult.info!A$8 -> Y | B84: =chsadult.info!B$8 -> 3 | E84: 14.5 | F84: 0.14
A85: =chsadult.info!A$8 -> Y | B85: =chsadult.info!B$8 -> 3 | E85: 15.1 | F85: 0
A86: =chsadult.info!A$8 -> Y | B86: =chsadult.info!B$8 -> 3
A87: =chsadult.info!A$9 -> Y | B87: =chsadult.info!B$9 -> 4 | C87: Velocity | D87: =chsadult.info!$C9 -> Yakima delphi | E87: Depth | F87: =chsadult.info!$C9 -> Yakima delphi
A88: =chsadult.info!A$9 -> Y | B88: =chsadult.info!B$9 -> 4 | C88: 0.3 | D88: 0 | E88: 3.3 | F88: 0
A89: =chsadult.info!A$9 -> Y | B89: =chsadult.info!B$9 -> 4 | C89: 0.3 | D89: 1 | E89: 3.3 | F89: 1
A90: =chsadult.info!A$9 -> Y | B90: =chsadult.info!B$9 -> 4 | C90: 3.3 | D90: 1 | E90: 16 | F90: 1
A91: =chsadult.info!A$9 -> Y | B91: =chsadult.info!B$9 -> 4 | C91: 3.3 | D91: 0 | E91: 16 | F91: 0
A92: =chsadult.info!A$9 -> Y | B92: =chsadult.info!B$9 -> 4

Sheet chsspwn.dat
B1: CHINOOK SALMON SPAWNING
L2: Substrate | N2: Cover
A3: Plot? | B3: Crv # | C3: Velocity | D3: Suitability | E3: Depth | F3: Suitability | G3: Substrate | H3: Suitability | I3: Cover | J3: Suitability | L3: Code | N3: Code
A4: *
A5: =chsspwn.info!A$6 -> Y | B5: 1 | C5: Velocity | D5: Bovee-fall | E5: Depth | F5: Bovee- fall | G5: Substrate | H5: Bovee- fall | I5: Cover | L5: code | M5: sub type | N5: mm | O5: inches
A6: =chsspwn.info!A$6 -> Y | B6: 1 | C6: 0.8 | D6: 0 | E6: 0.2 | F6: 0 | G6: 4.5 | H6: 0 | L6: 1 | M6: org matter
A7: =chsspwn.info!A$6 -> Y | B7: 1 | C7: 0.9 | D7: 0.1 | E7: 0.3 | F7: 0.05 | G7: 4.6 | H7: 0.06 | L7: 2 | M7: mud,soft clay
A8: =chsspwn.info!A$6 -> Y | B8: 1 | C8: 1 | D8: 0.25 | E8: 0.4 | F8: 0.11 | G8: 4.65 | H8: 0.09 | L8: 3 | M8: silt | N8: <0.062 | O8: <0.002
A9: =chsspwn.info!A$6 -> Y | B9: 1 | C9: 1.05 | D9: 0.34 | E9: 0.45 | F9: 0.18 | G9: 4.7 | H9: 0.14 | L9: 4 | M9: sand | N9: 0.062-2 | O9: 0.002-0.1
A10: =chsspwn.info!A$6 -> Y | B10: 1 | C10: 1.15 | D10: 0.58 | E10: 0.5 | F10: 0.3 | G10: 4.75 | H10: 0.18 | L10: 5 | M10: gravel | N10: 2-64 | O10: 0.1-2.5
A11: =chsspwn.info!A$6 -> Y | B11: 1 | C11: 1.25 | D11: 0.85 | E11: 0.55 | F11: 0.55 | G11: 4.85 | H11: 0.33 | L11: 6 | M11: cobble / rubble | N11: 64-250 | O11: 2.5-10
A12: =chsspwn.info!A$6 -> Y | B12: 1 | C12: 1.3 | D12: 0.93 | E12: 0.58 | F12: 0.9 | G12: 4.9 | H12: 0.41 | L12: 7 | M12: boulder | N12: >250 | O12: >10
A13: =chsspwn.info!A$6 -> Y | B13: 1 | C13: 1.35 | D13: 0.97 | E13: 0.6 | F13: 0.92 | G13: 4.95 | H13: 0.57 | L13: 8 | M13: bedrock
A14: =chsspwn.info!A$6 -> Y | B14: 1 | C14: 1.4 | D14: 0.98 | E14: 0.65 | F14: 0.97 | G14: 5 | H14: 0.88
A15: =chsspwn.info!A$6 -> Y | B15: 1 | C15: 1.45 | D15: 1 | E15: 0.75 | F15: 1 | G15: 5.05 | H15: 0.95
A16: =chsspwn.info!A$6 -> Y | B16: 1 | C16: 1.7 | D16: 1 | E16: 0.95 | F16: 1 | G16: 5.1 | H16: 0.98
A17: =chsspwn.info!A$6 -> Y | B17: 1 | C17: 1.75 | D17: 0.99 | E17: 1 | F17: 0.99 | G17: 5.15 | H17: 0.99
A18: =chsspwn.info!A$6 -> Y | B18: 1 | C18: 1.8 | D18: 0.97 | E18: 1.05 | F18: 0.97 | G18: 5.2 | H18: 1
A19: =chsspwn.info!A$6 -> Y | B19: 1 | C19: 1.85 | D19: 0.92 | E19: 1.1 | F19: 0.94 | G19: 5.3 | H19: 1
A20: =chsspwn.info!A$6 -> Y | B20: 1 | C20: 1.95 | D20: 0.72 | E20: 1.15 | F20: 0.76 | G20: 5.35 | H20: 0.99
A21: =chsspwn.info!A$6 -> Y | B21: 1 | C21: 2 | D21: 0.64 | E21: 1.2 | F21: 0.58 | G21: 5.4 | H21: 0.97
A22: =chsspwn.info!A$6 -> Y | B22: 1 | C22: 2.1 | D22: 0.55 | E22: 1.25 | F22: 0.46 | G22: 5.45 | H22: 0.94
A23: =chsspwn.info!A$6 -> Y | B23: 1 | C23: 2.15 | D23: 0.52 | E23: 1.35 | F23: 0.33 | G23: 5.5 | H23: 0.9
A24: =chsspwn.info!A$6 -> Y | B24: 1 | C24: 2.25 | D24: 0.46 | E24: 1.4 | F24: 0.27 | G24: 5.55 | H24: 0.55
A25: =chsspwn.info!A$6 -> Y | B25: 1 | C25: 2.35 | D25: 0.41 | E25: 1.45 | F25: 0.24 | G25: 5.6 | H25: 0.34
... A32: =chsspwn.info!A$6 -> Y | B32: 1 | C32: 4.25 | D32: 0.02 | E32: 3.5 | F32: 0.03 | G32: 6 | H32: 0
A33: =chsspwn.info!A$6 -> Y | B33: 1 | C33: 4.5 | D33: 0 | E33: 4 | F33: 0.02
A34: =chsspwn.info!A$6 -> Y | B34: 1 | E34: 5 | F34: 0
A35: =chsspwn.info!A$6 -> Y
A36: =chsspwn.info!A$7 -> Y | B36: 2 | C36: Velocity | D36: Bovee-spr | E36: Depth | F36: Bovee-spr | G36: Substrate | H36: Bovee-spr | I36: Cover | L36: code | M36: sub type | N36: mm | O36: inches
A37: =chsspwn.info!A$7 -> Y | B37: 2 | C37: 0.3 | D37: 0 | E37: 0.2 | F37: 0 | G37: 4.5 | H37: 0 | L37: 1 | M37: org matter
A38: =chsspwn.info!A$7 -> Y | B38: 2 | C38: 0.4 | D38: 0.06 | E38: 0.25 | F38: 0.1 | G38: 4.6 | H38: 0.05 | L38: 2 | M38: mud,soft clay
A39: =chsspwn.info!A$7 -> Y | B39: 2 | C39: 0.55 | D39: 0.18 | E39: 0.3 | F39: 0.16 | G39: 4.65 | H39: 0.08 | L39: 3 | M39: silt | N39: <0.062 | O39: <0.002
A40: =chsspwn.info!A$7 -> Y | B40: 2 | C40: 0.6 | D40: 0.24 | E40: 0.35 | F40: 0.21 | G40: 4.7 | H40: 0.11 | L40: 4 | M40: sand | N40: 0.062-2 | O40: 0.002-0.1
A41: =chsspwn.info!A$7 -> Y | B41: 2 | C41: 0.65 | D41: 0.35 | E41: 0.45 | F41: 0.26 | G41: 4.75 | H41: 0.15 | L41: 5 | M41: gravel | N41: 2-64 | O41: 0.1-2.5
A42: =chsspwn.info!A$7 -> Y | B42: 2 | C42: 0.75 | D42: 0.53 | E42: 0.5 | F42: 0.31 | G42: 4.8 | H42: 0.2 | L42: 6 | M42: cobble / rubble | N42: 64-250 | O42: 2.5-10
A43: =chsspwn.info!A$7 -> Y | B43: 2 | C43: 0.85 | D43: 0.85 | E43: 0.55 | F43: 0.5 | G43: 4.85 | H43: 0.27 | L43: 7 | M43: boulder | N43: >250 | O43: >10
A44: =chsspwn.info!A$7 -> Y | B44: 2 | C44: 0.9 | D44: 0.95 | E44: 0.6 | F44: 0.62 | G44: 4.9 | H44: 0.34 | L44: 8 | M44: bedrock
A45: =chsspwn.info!A$7 -> Y | B45: 2 | C45: 0.95 | D45: 0.98 | E45: 0.8 | F45: 0.82 | G45: 4.95 | H45: 0.45
A46: =chsspwn.info!A$7 -> Y | B46: 2 | C46: 1.05 | D46: 1 | E46: 0.9 | F46: 1 | G46: 5 | H46: 0.66
A47: =chsspwn.info!A$7 -> Y | B47: 2 | C47: 1.7 | D47: 1 | E47: 1 | F47: 1 | G47: 5.05 | H47: 0.75
A48: =chsspwn.info!A$7 -> Y | B48: 2 | C48: 1.75 | D48: 0.99 | E48: 1.05 | F48: 0.76 | G48: 5.1 | H48: 0.81
A49: =chsspwn.info!A$7 -> Y | B49: 2 | C49: 1.8 | D49: 0.98 | E49: 1.15 | F49: 0.54 | G49: 5.15 | H49: 0.86
A50: =chsspwn.info!A$7 -> Y | B50: 2 | C50: 1.85 | D50: 0.95 | E50: 1.25 | F50: 0.43 | G50: 5.2 | H50: 0.89
A51: =chsspwn.info!A$7 -> Y | B51: 2 | C51: 1.9 | D51: 0.77 | E51: 1.35 | F51: 0.34 | G51: 5.25 | H51: 0.92
A52: =chsspwn.info!A$7 -> Y | B52: 2 | C52: 1.95 | D52: 0.6 | E52: 1.5 | F52: 0.24 | G52: 5.3 | H52: 0.94
A53: =chsspwn.info!A$7 -> Y | B53: 2 | C53: 2 | D53: 0.49 | E53: 1.65 | F53: 0.18 | G53: 5.4 | H53: 0.98
A54: =chsspwn.info!A$7 -> Y | B54: 2 | C54: 2.1 | D54: 0.36 | E54: 1.75 | F54: 0.15 | G54: 5.45 | H54: 1
A55: =chsspwn.info!A$7 -> Y | B55: 2 | C55: 2.15 | D55: 0.31 | E55: 1.95 | F55: 0.12 | G55: 5.5 | H55: 1
A56: =chsspwn.info!A$7 -> Y | B56: 2 | C56: 2.25 | D56: 0.24 | E56: 2.05 | F56: 0.09 | G56: 5.55 | H56: 0.88
... A59: =chsspwn.info!A$7 -> Y | B59: 2 | C59: 2.55 | D59: 0.11 | E59: 2.35 | F59: 0 | G59: 5.7 | H59: 0.51
A60: =chsspwn.info!A$7 -> Y | B60: 2 | C60: 2.75 | D60: 0.06 | G60: 5.75 | H60: 0.42
A61: =chsspwn.info!A$7 -> Y | B61: 2 | C61: 2.9 | D61: 0.04 | G61: 5.8 | H61: 0.35
A62: =chsspwn.info!A$7 -> Y | B62: 2 | C62: 3.1 | D62: 0.03 | G62: 5.9 | H62: 0.24
A63: =chsspwn.info!A$7 -> Y | B63: 2 | C63: 4 | D63: 0 | G63: 6 | H63: 0.16
A64: =chsspwn.info!A$7 -> Y | B64: 2 | G64: 6.1 | H64: 0.11
A65: =chsspwn.info!A$7 -> Y | B65: 2 | G65: 6.2 | H65: 0.08
A66: =chsspwn.info!A$7 -> Y | B66: 2 | G66: 6.3 | H66: 0.05
A67: =chsspwn.info!A$7 -> Y | B67: 2 | G67: 6.5 | H67: 0
A68: =chsspwn.info!A$7 -> Y
A69: =chsspwn.info!A$8 -> Y | B69: 3 | C69: Velocity | D69: Raleigh | E69: Depth | F69: Raleigh | G69: Substrate (cm) | H69: Raleigh | I69: Substrate (in) | J69: Raleigh
A70: =chsspwn.info!A$8 -> Y | B70: 3 | C70: 0.4 | D70: 0 | E70: 0.5 | F70: 0 | G70: 0.4 | H70: 0 | I70: 0.16 | J70: 0 | L70: mean
A71: =chsspwn.info!A$8 -> Y | B71: 3 | C71: 1.5 | D71: 1 | E71: 1 | F71: 1 | G71: 2 | H71: 1 | I71: 0.79 | J71: 1 | L71: particle
A72: =chsspwn.info!A$8 -> Y | B72: 3 | C72: 2.4 | D72: 1 | E72: 9 | F72: 1 | G72: 11 | H72: 1 | I72: 4.33 | J72: 1 | L72: size
A73: =chsspwn.info!A$8 -> Y | B73: 3 | C73: 4.3 | D73: 0 | E73: 10 | F73: 1 | G73: 13 | H73: 0.7 | I73: 5.12 | J73: 0.7
A74: =chsspwn.info!A$8 -> Y | B74: 3 | G74: 15 | H74: 0.2 | I74: 5.91 | J74: 0.2
A75: =chsspwn.info!A$8 -> Y | B75: 3 | G75: 17 | H75: 0 | I75: 6.69 | J75: 0
A76: =chsspwn.info!A$8 -> Y
A77: =chsspwn.info!A$8 -> Y
A78: =chsspwn.info!A$9 -> Y | B78: 4 | C78: Velocity | D78: Yakima2 | E78: Depth | F78: Yakima2 | G78: Substrate | H78: Yakima2 | I78: Cover
A79: =chsspwn.info!A$9 -> Y | B79: 4 | C79: 0.5 | D79: 0 | E79: 0.4 | F79: 0
A80: =chsspwn.info!A$9 -> Y | B80: 4 | C80: 1.1 | D80: 0.1 | E80: 0.9 | F80: 1
A81: =chsspwn.info!A$9 -> Y | B81: 4 | C81: 1.9 | D81: 1 | E81: 1.2 | F81: 1
A82: =chsspwn.info!A$9 -> Y | B82: 4 | C82: 2.8 | D82: 1 | E82: 2 | F82: 0.1
A83: =chsspwn.info!A$9 -> Y | B83: 4 | C83: 4 | D83: 0 | E83: 3 | F83: 0
A84: =chsspwn.info!A$9 -> Y | H84: not sure of source for sub ?
A85: =chsspwn.info!A$10 -> Y | B85: 5 | C85: Velocity | D85: TrinityU | E85: Depth | F85: TrinityU | G85: Substrate | H85: TrinityU | I85: Cover | L85: Dominant particle size (in) | N85: sub mdpt | O85: TrinityU
A86: =chsspwn.info!A$10 -> Y | B86: 5 | C86: 0 | D86: 0 | E86: 0 | F86: 0 | G86: <0.2 | H86: 0 | L86: code = 0 | M86: fines | N86: 0.1 | O86: 0
A87: =chsspwn.info!A$10 -> Y | B87: 5 | C87: 0.1 | D87: 0.03 | E87: 0.4 | F87: 0.24 | G87: 0.2-1.0 | H87: 0.01 | L87: 1 | M87: sml grav | N87: 0.6 | O87: 0.01
A88: =chsspwn.info!A$10 -> Y | B88: 5 | C88: 0.3 | D88: 0.11 | E88: 0.5 | F88: 0.37 | G88: 1-2 | H88: 0.02 | L88: 2 | M88: med grav | N88: 1.5 | O88: 0.02
A89: =chsspwn.info!A$10 -> Y | B89: 5 | C89: 0.5 | D89: 0.23 | E89: 0.6 | F89: 0.51 | G89: 2-3 | H89: 0.2 | L89: 3 | M89: lrg grav | N89: 2.5 | O89: 0.2
A90: =chsspwn.info!A$10 -> Y | B90: 5 | C90: 0.7 | D90: 0.39 | E90: 0.7 | F90: 0.64 | G90: 3-6 | H90: 1 | L90: 4 | M90: sml cob | N90: 4.5 | O90: 1
A91: =chsspwn.info!A$10 -> Y | B91: 5 | C91: 0.9 | D91: 0.59 | E91: 0.8 | F91: 0.75 | G91: 6-9 | H91: 0.35 | L91: 5 | M91: med cob | N91: 7.5 | O91: 0.35
A92: =chsspwn.info!A$10 -> Y | B92: 5 | C92: 1.1 | D92: 0.83 | E92: 0.9 | F92: 0.83 | G92: 9-12 | H92: 0.05 | L92: 6 | M92: lrg cob | N92: 10.5 | O92: 0.05
A93: =chsspwn.info!A$10 -> Y | B93: 5 | C93: 1.2 | D93: 0.94 | E93: 1.1 | F93: 0.94 | G93: 12-24 | H93: 0 | L93: 7 | M93: sml bldr | N93: 18 | O93: 0
A94: =chsspwn.info!A$10 -> Y | B94: 5 | C94: 1.3 | D94: 1 | E94: 1.2 | F94: 0.98 | G94: >24 | H94: 0 | L94: 8 | M94: lrg bldr
A95: =chsspwn.info!A$10 -> Y | B95: 5 | C95: 1.4 | D95: 1 | E95: 1.3 | F95: 1 | G95: bedrock | H95: 0 | L95: 9 | M95: bedrock
A96: =chsspwn.info!A$10 -> Y | B96: 5 | C96: 1.5 | D96: 0.96 | E96: 1.4 | F96: 0.98
A97: =chsspwn.info!A$10 -> Y | B97: 5 | C97: 1.8 | D97: 0.78 | E97: 1.5 | F97: 0.94
A98: =chsspwn.info!A$10 -> Y | B98: 5 | C98: 2.2 | D98: 0.5 | E98: 2.3 | F98: 0.5
A99: =chsspwn.info!A$10 -> Y | B99: 5 | C99: 2.3 | D99: 0.44 | E99: 2.7 | F99: 0.24
A100: =chsspwn.info!A$10 -> Y | B100: 5 | C100: 2.6 | D100: 0.3 | E100: 2.8 | F100: 0.19
A101: =chsspwn.info!A$10 -> Y | B101: 5 | C101: 2.9 | D101: 0.2 | E101: 2.9 | F101: 0.16
A102: =chsspwn.info!A$10 -> Y | B102: 5 | C102: 3.1 | D102: 0.16 | E102: 3.1 | F102: 0.12
A103: =chsspwn.info!A$10 -> Y | B103: 5 | C103: 3.9 | D103: 0.04 | E103: 3.2 | F103: 0.11
A104: =chsspwn.info!A$10 -> Y | B104: 5 | C104: 4 | D104: 0.04 | E104: 3.3 | F104: 0.09
A105: =chsspwn.info!A$10 -> Y | B105: 5 | C105: 4.1 | D105: 0.03 | E105: 3.5 | F105: 0.07
A106: =chsspwn.info!A$10 -> Y | B106: 5 | C106: 4.2 | D106: 0.02 | E106: 3.6 | F106: 0.05
A107: =chsspwn.info!A$10 -> Y | B107: 5 | C107: 4.4 | D107: 0.01 | E107: 3.9 | F107: 0.02
A108: =chsspwn.info!A$10 -> Y | B108: 5 | C108: 5.6 | D108: 0 | E108: 4.1 | F108: 0.01
...

Sheet chsfry.dat
B1: CHINOOK SALMON FRY
L2: Substrate | N2: Cover
A3: Plot? | B3: Crv # | C3: Velocity | D3: Suitability | E3: Depth | F3: Suitability | G3: Substrate | H3: Suitability | I3: Cover | J3: Suitability | L3: Code | N3: Code
A4: *
A5: =chsfry.info!A$6 -> Y | B5: 1 | C5: Velocity | D5: Raleigh | E5: Depth | F5: Raleigh | G5: Substrate | H5: Raleigh | I5: Cover | J5: Raleigh
A6: =chsfry.info!A$6 -> Y | B6: 1 | C6: 0 | D6: 0.25 | E6: 0.1 | F6: 0
A7: =chsfry.info!A$6 -> Y | B7: 1 | C7: 0.2 | D7: 1 | E7: 0.9 | F7: 1
A8: =chsfry.info!A$6 -> Y | B8: 1 | C8: 0.3 | D8: 1 | E8: 2 | F8: 1
A9: =chsfry.info!A$6 -> Y | B9: 1 | C9: 0.6 | D9: 0.5 | E9: 3 | F9: 0.2
A10: =chsfry.info!A$6 -> Y | B10: 1 | C10: 1.3 | D10: 0.1 | E10: 5 | F10: 0
A11: =chsfry.info!A$6 -> Y | B11: 1 | C11: 2.5 | D11: 0
A12: =chsfry.info!A$6 -> Y | L12: Substrate | N12: Cover
A13: =chsfry.info!A$7 -> Y | B13: 2 | C13: Velocity | D13: YakimaSP | E13: Depth | F13: YakimaSP | G13: Substrate | H13: YakimaSP | I13: Cover | J13: YakimaSP | L13: Code | N13: Code
A14: =chsfry.info!A$7 -> Y | B14: 2 | C14: 0 | D14: 1 | E14: 0 | F14: 0 | G14: 1 | H14: 0.61 | L14: Bovee code (see sheet "Bovee.substrate")
A15: =chsfry.info!A$7 -> Y | B15: 2 | C15: 0.1 | D15: 1 | E15: 0.1 | F15: 0.5 | G15: 1.5 | H15: 0.02
A16: =chsfry.info!A$7 -> Y | B16: 2 | C16: 0.3 | D16: 0.41 | E16: 0.3 | F16: 1 | G16: 2 | H16: 0
A17: =chsfry.info!A$7 -> Y | B17: 2 | C17: 0.5 | D17: 0.19 | E17: 0.5 | F17: 0.73 | G17: 2.5 | H17: 0
A18: =chsfry.info!A$7 -> Y | B18: 2 | C18: 0.7 | D18: 0.15 | E18: 0.7 | F18: 0.53 | G18: 3 | H18: 0.19
A19: =chsfry.info!A$7 -> Y | B19: 2 | C19: 0.9 | D19: 0.1 | E19: 0.9 | F19: 0.38 | G19: 3.5 | H19: 0.48
A20: =chsfry.info!A$7 -> Y | B20: 2 | C20: 1.1 | D20: 0.06 | E20: 1.1 | F20: 0.28 | G20: 4 | H20: 0.75
A21: =chsfry.info!A$7 -> Y | B21: 2 | C21: 1.3 | D21: 0.01 | E21: 1.3 | F21: 0.2 | G21: 4.5 | H21: 0.93
A22: =chsfry.info!A$7 -> Y | B22: 2 | C22: 1.5 | D22: 0 | E22: 1.5 | F22: 0.19 | G22: 5 | H22: 1
A23: =chsfry.info!A$7 -> Y | B23: 2 | E23: 1.7 | F23: 0.18 | G23: 5.5 | H23: 0.95
A24: =chsfry.info!A$7 -> Y | B24: 2 | E24: 1.9 | F24: 0.16 | G24: 6 | H24: 0.8
A25: =chsfry.info!A$7 -> Y | B25: 2 | E25: 2.1 | F25: 0.15 | G25: 6.5 | H25: 0.59
A26: =chsfry.info!A$7 -> Y | B26: 2 | E26: 2.3 | F26: 0.14 | G26: 7 | H26: 0.37
A27: =chsfry.info!A$7 -> Y | B27: 2 | E27: 2.5 | F27: 0.13 | G27: 7.5 | H27: 0.21
A28: =chsfry.info!A$7 -> Y | B28: 2 | E28: 2.7 | F28: 0.12 | G28: 8 | H28: 0.05
A29: =chsfry.info!A$7 -> Y | B29: 2 | E29: 2.9 | F29: 0.1
A30: =chsfry.info!A$7 -> Y | B30: 2 | E30: 3.1 | F30: 0.09
A31: =chsfry.info!A$7 -> Y | B31: 2 | E31: 3.3 | F31: 0.08
A32: =chsfry.info!A$7 -> Y | B32: 2 | E32: 3.5 | F32: 0.07
A33: =chsfry.info!A$7 -> Y | B33: 2 | E33: 3.7 | F33: 0.06
A34: =chsfry.info!A$7 -> Y | B34: 2 | E34: 3.9 | F34: 0.04
A35: =chsfry.info!A$7 -> Y | B35: 2 | E35: 4.1 | F35: 0.03
A36: =chsfry.info!A$7 -> Y | B36: 2 | E36: 4.3 | F36: 0.02
A37: =chsfry.info!A$7 -> Y | B37: 2 | E37: 4.5 | F37: 0.01
A38: =chsfry.info!A$7 -> Y | B38: 2 | E38: 4.7 | F38: 0
A39: =chsfry.info!A$7 -> Y
A40: =chsfry.info!A$8 -> Y | B40: 3 | C40: Velocity | D40: TrinityU | E40: Depth | F40: TrinityU | G40: Substrate | H40: TrinityU | I40: Cover | J40: TrinityU
A41: =chsfry.info!A$8 -> Y | B41: 3 | C41: 0 | D41: 1 | E41: 0 | F41: 0
A42: =chsfry.info!A$8 -> Y | B42: 3 | C42: 0.1 | D42: 0.91 | E42: 0.2 | F42: 0.3
A43: =chsfry.info!A$8 -> Y | B43: 3 | C43: 0.2 | D43: 0.75 | E43: 0.5 | F43: 0.64
A44: =chsfry.info!A$8 -> Y | B44: 3 | C44: 0.3 | D44: 0.59 | E44: 0.6 | F44: 0.74
A45: =chsfry.info!A$8 -> Y | B45: 3 | C45: 0.4 | D45: 0.44 | E45: 0.7 | F45: 0.83
A46: =chsfry.info!A$8 -> Y | B46: 3 | C46: 0.5 | D46: 0.33 | E46: 0.8 | F46: 0.91
A47: =chsfry.info!A$8 -> Y | B47: 3 | C47: 0.6 | D47: 0.25 | E47: 1.2 | F47: 1
A48: =chsfry.info!A$8 -> Y | B48: 3 | C48: 0.7 | D48: 0.18 | E48: 1.3 | F48: 0.99
A49: =chsfry.info!A$8 -> Y | B49: 3 | C49: 0.8 | D49: 0.14 | E49: 1.5 | F49: 0.95
A50: =chsfry.info!A$8 -> Y | B50: 3 | C50: 0.9 | D50: 0.1 | E50: 1.7 | F50: 0.84
A51: =chsfry.info!A$8 -> Y | B51: 3 | C51: 1 | D51: 0.08 | E51: 1.8 | F51: 0.77
A52: =chsfry.info!A$8 -> Y | B52: 3 | C52: 1.1 | D52: 0.05 | E52: 1.9 | F52: 0.7
... A57: =chsfry.info!A$8 -> Y | B57: 3 | C57: 1.6 | D57: 0 | E57: 3 | F57: 0.3
A58: =chsfry.info!A$8 -> Y | B58: 3 | E58: 3.1 | F58: 0.27
A59: =chsfry.info!A$8 -> Y | B59: 3 | E59: 3.6 | F59: 0.16
A60: =chsfry.info!A$8 -> Y | B60: 3 | E60: 3.7 | F60: 0.15
A61: =chsfry.info!A$8 -> Y | B61: 3 | E61: 3.8 | F61: 0.13
A62: =chsfry.info!A$8 -> Y | B62: 3 | E62: 3.9 | F62: 0.12
A63: =chsfry.info!A$8 -> Y | B63: 3 | E63: 4 | F63: 0.1
A64: =chsfry.info!A$8 -> Y | B64: 3 | E64: 4.1 | F64: 0.08
A65: =chsfry.info!A$8 -> Y | B65: 3 | E65: 4.2 | F65: 0.07
A66: =chsfry.info!A$8 -> Y | B66: 3 | E66: 4.3 | F66: 0.05
A67: =chsfry.info!A$8 -> Y | B67: 3 | E67: 4.4 | F67: 0.03
A68: =chsfry.info!A$8 -> Y | B68: 3 | E68: 4.5 | F68: 0.02
A69: =chsfry.info!A$8 -> Y | B69: 3 | E69: 4.6 | F69: 0.01
... A72: =chsfry.info!A$8 -> Y | B72: 3 | E72: 6.6 | F72: 0.01
A73: =chsfry.info!A$8 -> Y | E73: 6.7 | F73: 0
A74: =chsfry.info!A$8 -> Y
A75: =chsfry.info!A$9 -> Y | B75: 4 | C75: Velocity | D75: NFLewis | E75: Depth | F75: NFLewis | G75: Substrate | H75: NFLewis | I75: Cover | J75: NFLewis | M75: (inches)
A76: =chsfry.info!A$9 -> Y | B76: 4 | C76: 0 | D76: 1 | E76: 0.25 | F76: 0 | G76: 0 | H76: 0.56 | I76: V0 | J76: 0 | L76: 0 | M76: organics | N76: V0 | O76: vel shelter none
A77: =chsfry.info!A$9 -> Y | B77: 4 | C77: 0.2 | D77: 1 | E77: 0.5 | F77: 0.25 | G77: 1 | H77: 0.67 | I77: V1 | J77: 1 | L77: 1 | M77: silt,clay | N77: V1 | O77: vel mod
A78: =chsfry.info!A$9 -> Y | B78: 4 | C78: 0.5 | D78: 0.43 | E78: 1 | F78: 0.44 | G78: 2 | H78: 0.69 | I78: V2 | J78: 0.8 | L78: 2 | M78: sand | N78: V2 | O78: vel high
A79: =chsfry.info!A$9 -> Y | B79: 4 | C79: 1.21 | D79: 0.17 | E79: 1.25 | F79: 1 | G79: 3 | H79: 0.12 | I79: I0 | J79: 0.55 | L79: 3 | M79: sml grav 0.1-0.5 | N79: I0 | O79: visual isolation none
A80: =chsfry.info!A$9 -> Y | B80: 4 | C80: 2.2 | D80: 0.02 | E80: 1.75 | F80: 1 | G80: 4 | H80: 0.5 | I80: I1 | J80: 1 | L80: 4 | M80: med grav 0.5-1.5 | N80: I1 | O80: isolation mod
A81: =chsfry.info!A$9 -> Y | B81: 4 | C81: 2.7 | D81: 0 | E81: 2 | F81: 0.58 | G81: 5 | H81: 1 | I81: I2 | J81: 0.31 | L81: 5 | M81: lrg grav 1.5-3 | N81: I2 | O81: isolation high
A82: =chsfry.info!A$9 -> Y | B82: 4 | E82: 2.5 | F82: 0.35 | G82: 6 | H82: 0.29 | I82: L0 | J82: 1 | L82: 6 | M82: sml cob 3-6 | N82: L0 | O82: light reduction none
A83: =chsfry.info!A$9 -> Y | B83: 4 | E83: 3 | F83: 0.14 | G83: 7 | H83: 0.04 | I83: L1 | J83: 0.69 | L83: 7 | M83: lrg cob 6-12 | N83: L1 | O83: light mod
A84: =chsfry.info!A$9 -> Y | B84: 4 | E84: 4.5 | F84: 0.02 | G84: 8 | H84: 0 | I84: L2 | J84: 0.3 | L84: 8 | M84: boulder | N84: L2 | O84: light high (dark)
A85: =chsfry.info!A$9 -> Y | B85: 4 | E85: 7.25 | F85: 0 | G85: 9 | H85: 0.5 | L85: 9 | M85: bedrock
A86: =chsfry.info!A$9 -> Y
A87: =chsfry.info!A$10 -> Y | B87: 5 | C87: Velocity | D87: Battle | E87: Depth | F87: Battle | G87: Substrate | H87: Battle | I87: Cover | J87: Battle
A88: =chsfry.info!A$10 -> Y | B88: 5 | C88: 0 | D88: 0.61 | E88: 0 | F88: 0 | I88: Object Present | J88: 1
A89: =chsfry.info!A$10 -> Y | B89: 5 | C89: 0.02 | D89: 0.68 | E89: 0.05 | F89: 0.1 | I89: Object Absent | J89: 0.15
A90: =chsfry.info!A$10 -> Y | B90: 5 | C90: 0.07 | D90: 0.81 | E90: 0.15 | F90: 0.29
A91: =chsfry.info!A$10 -> Y | B91: 5 | C91: 0.12 | D91: 0.9 | E91: 0.25 | F91: 0.45
A92: =chsfry.info!A$10 -> Y | B92: 5 | C92: 0.17 | D92: 0.96 | E92: 0.35 | F92: 0.59
A93: =chsfry.info!A$10 -> Y | B93: 5 | C93: 0.22 | D93: 0.99 | E93: 0.45 | F93: 0.71
A94: =chsfry.info!A$10 -> Y | B94: 5 | C94: 0.27 | D94: 1 | E94: 0.55 | F94: 0.8
A95: =chsfry.info!A$10 -> Y | B95: 5 | C95: 0.32 | D95: 0.98 | E95: 0.65 | F95: 0.88
A96: =chsfry.info!A$10 -> Y | B96: 5 | C96: 0.37 | D96: 0.95 | E96: 0.75 | F96: 0.93
A97: =chsfry.info!A$10 -> Y | B97: 5 | C97: 0.42 | D97: 0.91 | E97: 0.85 | F97: 0.97
A98: =chsfry.info!A$10 -> Y | B98: 5 | C98: 0.47 | D98: 0.85 | E98: 0.95 | F98: 0.99
A99: =chsfry.info!A$10 -> Y | B99: 5 | C99: 0.52 | D99: 0.78 | E99: 1.05 | F99: 1
A100: =chsfry.info!A$10 -> Y | B100: 5 | C100: 0.57 | D100: 0.71 | E100: 1.15 | F100: 0.99
A101: =chsfry.info!A$10 -> Y | B101: 5 | C101: 0.62 | D101: 0.64 | E101: 1.25 | F101: 0.98
... A116: =chsfry.info!A$10 -> Y | B116: 5 | C116: 1.87 | D116: 0 | E116: 2.75 | F116: 0.1
A117: =chsfry.info!A$10 -> Y | B117: 5 | E117: 2.85 | F117: 0.06
A118: =chsfry.info!A$10 -> Y | B118: 5 | E118: 3.45 | F118: 0.06
A119: =chsfry.info!A$10 -> Y | B119: 5 | E119: 3.55 | F119: 0
A120: =chsfry.info!A$10 -> Y
...

Sheet chsjuv.dat
B1: CHINOOK SALMON JUVENILES
L2: Substrate | N2: Cover
B3: Crv # | C3: Velocity | D3: Suitability | E3: Depth | F3: Suitability | G3: Substrate | H3: Suitability | I3: Cover | J3: Suitability | L3: Code | N3: Code
A4: *
A5: =chsjuv.info!A$6 -> Y | B5: 1 | C5: Velocity | D5: Bovee | E5: Depth | F5: Bovee | G5: Substrate | H5: Bovee | I5: Cover | L5: code | M5: sub type | N5: mm | O5: inches
A6: =chsjuv.info!A$6 -> Y | B6: 1 | C6: 0 | D6: 0 | E6: 0 | F6: 0 | G6: 2 | H6: 0 | L6: 1 | M6: org matter
A7: =chsjuv.info!A$6 -> Y | B7: 1 | C7: 0.1 | D7: 0.12 | E7: 0.3 | F7: 0.1 | G7: 3 | H7: 0.02 | L7: 2 | M7: mud,soft clay
A8: =chsjuv.info!A$6 -> Y | B8: 1 | C8: 0.2 | D8: 0.34 | E8: 0.5 | F8: 0.15 | G8: 3.5 | H8: 0.04 | L8: 3 | M8: silt | N8: <0.062 | O8: <0.002
A9: =chsjuv.info!A$6 -> Y | B9: 1 | C9: 0.3 | D9: 0.58 | E9: 0.6 | F9: 0.19 | G9: 3.8 | H9: 0.05 | L9: 4 | M9: sand | N9: 0.062-2 | O9: 0.002-0.1
A10: =chsjuv.info!A$6 -> Y | B10: 1 | C10: 0.35 | D10: 0.69 | E10: 0.7 | F10: 0.24 | G10: 4 | H10: 0.06 | L10: 5 | M10: gravel | N10: 2-64 | O10: 0.1-2.5
A11: =chsjuv.info!A$6 -> Y | B11: 1 | C11: 0.45 | D11: 0.88 | E11: 0.8 | F11: 0.32 | G11: 4.1 | H11: 0.07 | L11: 6 | M11: cobble / rubble | N11: 64-250 | O11: 2.5-10
A12: =chsjuv.info!A$6 -> Y | B12: 1 | C12: 0.5 | D12: 0.93 | E12: 0.9 | F12: 0.39 | G12: 4.2 | H12: 0.08 | L12: 7 | M12: boulder | N12: >250 | O12: >10
A13: =chsjuv.info!A$6 -> Y | B13: 1 | C13: 0.55 | D13: 0.98 | E13: 1 | F13: 0.47 | G13: 4.3 | H13: 0.1 | L13: 8 | M13: bedrock
A14: =chsjuv.info!A$6 -> Y | B14: 1 | C14: 0.6 | D14: 1 | E14: 1.1 | F14: 0.7 | G14: 4.4 | H14: 0.12
A15: =chsjuv.info!A$6 -> Y | B15: 1 | C15: 0.65 | D15: 0.98 | E15: 1.15 | F15: 0.99 | G15: 4.5 | H15: 0.14
A16: =chsjuv.info!A$6 -> Y | B16: 1 | C16: 0.75 | D16: 0.91 | E16: 1.2 | F16: 1 | G16: 4.6 | H16: 0.17
A17: =chsjuv.info!A$6 -> Y | B17: 1 | C17: 1.1 | D17: 0.61 | E17: 1.25 | F17: 1 | G17: 4.7 | H17: 0.23
A18: =chsjuv.info!A$6 -> Y | B18: 1 | C18: 1.25 | D18: 0.46 | E18: 5.5 | F18: 1 | G18: 4.8 | H18: 0.33
A19: =chsjuv.info!A$6 -> Y | B19: 1 | C19: 1.3 | D19: 0.42 | E19: 10 | F19: 1 | G19: 4.9 | H19: 0.49
A20: =chsjuv.info!A$6 -> Y | B20: 1 | C20: 1.35 | D20: 0.38 | G20: 5 | H20: 0.92
A21: =chsjuv.info!A$6 -> Y | B21: 1 | C21: 1.4 | D21: 0.35 | G21: 5.1 | H21: 0.97
A22: =chsjuv.info!A$6 -> Y | B22: 1 | C22: 1.5 | D22: 0.3 | G22: 5.2 | H22: 0.99
A23: =chsjuv.info!A$6 -> Y | B23: 1 | C23: 1.6 | D23: 0.24 | G23: 5.3 | H23: 1
A24: =chsjuv.info!A$6 -> Y | B24: 1 | C24: 1.65 | D24: 0.23 | G24: 6.5 | H24: 1
A25: =chsjuv.info!A$6 -> Y | B25: 1 | C25: 1.75 | D25: 0.19 | G25: 6.8 | H25: 0.98
A26: =chsjuv.info!A$6 -> Y | B26: 1 | C26: 1.9 | D26: 0.15 | G26: 7 | H26: 0.95
A27: =chsjuv.info!A$6 -> Y | B27: 1 | C27: 2.05 | D27: 0.12 | G27: 7.2 | H27: 0.91
A28: =chsjuv.info!A$6 -> Y | B28: 1 | C28: 3.1 | D28: 0 | G28: 7.4 | H28: 0.86
A29: =chsjuv.info!A$6 -> Y | B29: 1 | G29: 7.6 | H29: 0.79
A30: =chsjuv.info!A$6 -> Y | B30: 1 | G30: 7.8 | H30: 0.72
A31: =chsjuv.info!A$6 -> Y | B31: 1 | G31: 8 | H31: 0.64
A32: =chsjuv.info!A$6 -> Y | B32: 1 | G32: 9 | H32: 0
A33: =chsjuv.info!A$6 -> Y
A34: =chsjuv.info!A$7 -> Y | B34: 2 | C34: Velocity | D34: Raleigh | E34: Depth | F34: Raleigh | G34: Substrate | I34: Cover
A35: =chsjuv.info!A$7 -> Y | B35: 2 | C35: 0 | D35: 0.2 | E35: 0 | F35: 0
A36: =chsjuv.info!A$7 -> Y | B36: 2 | C36: 0.2 | D36: 0.7 | E36: 0.3 | F36: 0.4
A37: =chsjuv.info!A$7 -> Y | B37: 2 | C37: 0.4 | D37: 1 | E37: 0.8 | F37: 0.9
A38: =chsjuv.info!A$7 -> Y | B38: 2 | C38: 0.7 | D38: 1 | E38: 1 | F38: 1
A39: =chsjuv.info!A$7 -> Y | B39: 2 | C39: 0.8 | D39: 0.7 | E39: 2 | F39: 1
A40: =chsjuv.info!A$7 -> Y | B40: 2 | C40: 1 | D40: 0.5 | E40: 3 | F40: 0.5
A41: =chsjuv.info!A$7 -> Y | B41: 2 | C41: 1.3 | D41: 0.2 | E41: 5 | F41: 0.1
A42: =chsjuv.info!A$7 -> Y | B42: 2 | C42: 1.5 | D42: 0.1 | E42: 10 | F42: 0.1
A43: =chsjuv.info!A$7 -> Y | B43: 2 | C43: 3 | D43: 0
A44: =chsjuv.info!A$7 -> Y
A45: =chsjuv.info!A$8 -> Y | B45: 3 | C45: Velocity | D45: Rubin | E45: Depth | F45: Rubin
A46: =chsjuv.info!A$8 -> Y | B46: 3 | C46: 0 | D46: 0.88 | E46: 0 | F46: 0
A47: =chsjuv.info!A$8 -> Y | B47: 3 | C47: 0.16 | D47: 0.97 | E47: 0.15 | F47: 0.02
A48: =chsjuv.info!A$8 -> Y | B48: 3 | C48: 0.32 | D48: 1 | E48: 0.3 | F48: 0.06
A49: =chsjuv.info!A$8 -> Y | B49: 3 | C49: 0.49 | D49: 0.97 | E49: 0.65 | F49: 0.2
A50: =chsjuv.info!A$8 -> Y | B50: 3 | C50: 0.65 | D50: 0.85 | E50: 1.31 | F50: 0.51
A51: =chsjuv.info!A$8 -> Y | B51: 3 | C51: 0.98 | D51: 0.52 | E51: 1.97 | F51: 0.8
A52: =chsjuv.info!A$8 -> Y | B52: 3 | C52: 1.31 | D52: 0.25 | E52: 2.25 | F52: 0.88
A53: =chsjuv.info!A$8 -> Y | B53: 3 | C53: 1.64 | D53: 0.1 | E53: 2.4 | F53: 0.915
A54: =chsjuv.info!A$8 -> Y | B54: 3 | C54: 1.97 | D54: 0.02 | E54: 2.62 | F54: 0.95
A55: =chsjuv.info!A$8 -> Y | B55: 3 | C55: 2.3 | D55: 0 | E55: 2.8 | F55: 0.975
A56: =chsjuv.info!A$8 -> Y | B56: 3 | E56: 3 | F56: 0.99
A57: =chsjuv.info!A$8 -> Y | B57: 3 | E57: 3.3 | F57: 1
A58: =chsjuv.info!A$8 -> Y | B58: 3 | E58: 4.9 | F58: 1
A59: =chsjuv.info!A$8 -> Y | B59: 3 | E59: 5 | F59: 1
A60: =chsjuv.info!A$8 -> Y
A61: =chsjuv.info!A$9 -> Y | B61: 4 | C61: Velocity | D61: YakimaS | E61: Depth | F61: YakimaS | G61: Substrate | H61: YakimaS | L61: Bovee code
A62: =chsjuv.info!A$9 -> Y | B62: 4 | C62: 0 | D62: 0.01 | E62: 0.1 | F62: 0 | G62: 1 | H62: 0.2
A63: =chsjuv.info!A$9 -> Y | B63: 4 | C63: 0.1 | D63: 0.24 | E63: 0.3 | F63: 0.27 | G63: 3 | H63: 0.2
A64: =chsjuv.info!A$9 -> Y | B64: 4 | C64: 0.3 | D64: 0.58 | E64: 0.5 | F64: 0.51 | G64: 3.5 | H64: 0.4
A65: =chsjuv.info!A$9 -> Y | B65: 4 | C65: 0.5 | D65: 0.81 | E65: 0.7 | F65: 0.69 | G65: 4 | H65: 0.67
A66: =chsjuv.info!A$9 -> Y | B66: 4 | C66: 0.7 | D66: 0.94 | E66: 0.9 | F66: 0.83 | G66: 4.5 | H66: 0.88
A67: =chsjuv.info!A$9 -> Y | B67: 4 | C67: 0.9 | D67: 1 | E67: 1.1 | F67: 0.92 | G67: 5 | H67: 0.99
A68: =chsjuv.info!A$9 -> Y | B68: 4 | C68: 1.1 | D68: 1 | E68: 1.3 | F68: 0.98 | G68: 5.5 | H68: 1
A69: =chsjuv.info!A$9 -> Y | B69: 4 | C69: 1.3 | D69: 0.94 | E69: 1.5 | F69: 1 | G69: 6 | H69: 0.9
A70: =chsjuv.info!A$9 -> Y | B70: 4 | C70: 1.5 | D70: 0.86 | E70: 1.7 | F70: 1 | G70: 6.5 | H70: 0.71
A71: =chsjuv.info!A$9 -> Y | B71: 4 | C71: 1.7 | D71: 0.75 | E71: 1.9 | F71: 0.97 | G71: 7 | H71: 0.46
A72: =chsjuv.info!A$9 -> Y | B72: 4 | C72: 1.9 | D72: 0.63 | E72: 2.1 | F72: 0.92 | G72: 7.5 | H72: 0.2
A73: =chsjuv.info!A$9 -> Y | B73: 4 | C73: 2.1 | D73: 0.51 | E73: 2.3 | F73: 0.86 | G73: 8 | H73: 0
A74: =chsjuv.info!A$9 -> Y | B74: 4 | C74: 2.3 | D74: 0.39 | E74: 2.5 | F74: 0.79
A75: =chsjuv.info!A$9 -> Y | B75: 4 | C75: 2.5 | D75: 0.29 | E75: 2.7 | F75: 0.71
A76: =chsjuv.info!A$9 -> Y | B76: 4 | C76: 2.7 | D76: 0.19 | E76: 2.9 | F76: 0.63
A77: =chsjuv.info!A$9 -> Y | B77: 4 | C77: 3.5 | D77: 0.11 | E77: 3.1 | F77: 0.55
A78: =chsjuv.info!A$9 -> Y | B78: 4 | C78: 4.4 | D78: 0 | E78: 3.3 | F78: 0.46
A79: =chsjuv.info!A$9 -> Y | B79: 4 | E79: 3.5 | F79: 0.38
A80: =chsjuv.info!A$9 -> Y | B80: 4 | E80: 3.7 | F80: 0.3
A81: =chsjuv.info!A$9 -> Y | B81: 4 | E81: 3.9 | F81: 0.23
A82: =chsjuv.info!A$9 -> Y | B82: 4 | E82: 4.1 | F82: 0.2
A83: =chsjuv.info!A$9 -> Y | B83: 4 | E83: 4.3 | F83: 0.19
A84: =chsjuv.info!A$9 -> Y | B84: 4 | E84: 4.5 | F84: 0.18
A85: =chsjuv.info!A$9 -> Y | B85: 4 | E85: 4.7 | F85: 0.16
A86: =chsjuv.info!A$9 -> Y | B86: 4 | E86: 4.9 | F86: 0.15
A87: =chsjuv.info!A$9 -> Y | B87: 4 | E87: 5.1 | F87: 0.14
A88: =chsjuv.info!A$9 -> Y | B88: 4 | E88: 5.3 | F88: 0.13
A89: =chsjuv.info!A$9 -> Y | B89: 4 | E89: 5.5 | F89: 0.12
A90: =chsjuv.info!A$9 -> Y | B90: 4 | E90: 5.7 | F90: 0.1
... A92: =chsjuv.info!A$9 -> Y | B92: 4 | E92: 7.3 | F92: 0
A93: =chsjuv.info!A$9 -> Y
A94: =chsjuv.info!A$10 -> Y | B94: 5 | C94: Velocity | D94: YakimaF | E94: Depth | F94: YakimaF | G94: Substrate | H94: YakimaF | L94: Bovee code
A95: =chsjuv.info!A$10 -> Y | B95: 5 | C95: 0 | D95: 0.29 | E95: 0.7 | F95: 0 | G95: 1 | H95: 0.1
A96: =chsjuv.info!A$10 -> Y | B96: 5 | C96: 0.1 | D96: 0.48 | E96: 0.9 | F96: 0.22 | G96: 1.5 | H96: 0.12
A97: =chsjuv.info!A$10 -> Y | B97: 5 | C97: 0.3 | D97: 0.77 | E97: 1.1 | F97: 0.44 | G97: 2 | H97: 0.14
A98: =chsjuv.info!A$10 -> Y | B98: 5 | C98: 0.5 | D98: 0.93 | E98: 1.3 | F98: 0.62 | G98: 2.5 | H98: 0.15
A99: =chsjuv.info!A$10 -> Y | B99: 5 | C99: 0.7 | D99: 1 | E99: 1.5 | F99: 0.76 | G99: 3 | H99: 0.17
A100: =chsjuv.info!A$10 -> Y | B100: 5 | C100: 0.9 | D100: 0.99 | E100: 1.7 | F100: 0.87 | G100: 3.5 | H100: 0.19
A101: =chsjuv.info!A$10 -> Y | B101: 5 | C101: 1.1 | D101: 0.92 | E101: 1.9 | F101: 0.94 | G101: 4 | H101: 0.4
...

Sheet Yuba fry.dat
A1: Juv CHS Habitat Use Frequency Data | F1: RMT Yuba CHS Fry n=162
B3: Depth | C3: 30-50 | D3: 50-70 | E3: Unknown | F3: Fry+Unk | I3: MCVel | J3: 30-50 | K3: 50-70 | L3: Unknown | M3: Fry+Unk
A4: 0.00-0.19 | B4: 0.1 | C4: 2 | D4: 0 | E4: 0 | F4: =C4+E4 -> 2 | H4: 0.00-0.09 | I4: 0.05 | J4: 29 | K4: 11 | L4: 34 | M4: =J4+L4 -> 63
A5: 0.20-0.39 | B5: 0.3 | C5: 1 | D5: 0 | E5: 1 | F5: =C5+E5 -> 2 | H5: 0.10-0.19 | I5: 0.15 | J5: 13 | K5: 0 | L5: 11 | M5: =J5+L5 -> 24
B6: 0.5 | C6: 10 | D6: 0 | E6: 2 | F6: =C6+E6 -> 12 | I6: 0.25 | J6: 8 | K6: 0 | L6: 8 | M6: =J6+L6 -> 16
B7: 0.7 | C7: 16 | D7: 0 | E7: 8 | F7: =C7+E7 -> 24 | I7: 0.35 | J7: 1 | K7: 1 | L7: 5 | M7: =J7+L7 -> 6
B8: 0.9 | C8: 15 | D8: 2 | E8: 13 | F8: =C8+E8 -> 28 | I8: 0.45 | J8: 5 | K8: 0 | L8: 6 | M8: =J8+L8 -> 11
B9: 1.1 | C9: 5 | D9: 0 | E9: 10 | F9: =C9+E9 -> 15 | I9: 0.55 | J9: 1 | K9: 0 | L9: 6 | M9: =J9+L9 -> 7
B10: 1.3 | C10: 4 | D10: 0 | E10: 9 | F10: =C10+E10 -> 13 | I10: 0.65 | J10: 2 | K10: 0 | L10: 5 | M10: =J10+L10 -> 7
B11: 1.5 | C11: 3 | D11: 1 | E11: 12 | F11: =C11+E11 -> 15 | I11: 0.75 | J11: 1 | K11: 0 | L11: 5 | M11: =J11+L11 -> 6
B12: 1.7 | C12: 4 | D12: 1 | E12: 6 | F12: =C12+E12 -> 10 | I12: 0.85 | J12: 1 | K12: 0 | L12: 2 | M12: =J12+L12 -> 3
B13: 1.9 | C13: 2 | D13: 2 | E13: 7 | F13: =C13+E13 -> 9 | I13: 0.95 | J13: 1 | K13: 0 | L13: 3 | M13: =J13+L13 -> 4
B14: 2.1 | C14: 2 | D14: 0 | E14: 3 | F14: =C14+E14 -> 5 | I14: 1.05 | J14: 1 | K14: 0 | L14: 1 | M14: =J14+L14 -> 2
B15: 2.3 | C15: 0 | D15: 0 | E15: 5 | F15: =C15+E15 -> 5 | I15: 1.15 | J15: 0 | K15: 0 | L15: 2 | M15: =J15+L15 -> 2
B16: 2.5 | C16: 0 | D16: 2 | E16: 3 | F16: =C16+E16 -> 3 | I16: 1.25 | J16: 0 | K16: 0 | L16: 1 | M16: =J16+L16 -> 1
B17: 2.7 | C17: 1 | D17: 0 | E17: 4 | F17: =C17+E17 -> 5 | I17: 1.35 | J17: 0 | K17: 0 | L17: 1 | M17: =J17+L17 -> 1
... B38: 6.9 | C38: 0 | D38: 0 | E38: 0 | F38: =C38+E38 -> 0 | I38: 3.45 | J38: 0 | K38: 0 | L38: 0 | M38: =J38+L38 -> 0
C39: =SUM(C4:C38) -> 66 | D39: =SUM(D4:D38) -> 12 | E39: =SUM(E4:E38) -> 96 | F39: =SUM(F4:F38) -> 162 | I39: 3.55 | J39: 0 | K39: 0 | L39: 0 | M39: =J39+L39 -> 0
I40: 3.65 | J40: 0 | K40: 0 | L40: 0 | M40: =J40+L40 -> 0
I41: 3.75 | J41: 0 | K41: 0 | L41: 0 | M41: =J41+L41 -> 0
I42: 3.85 | J42: 0 | K42: 0 | L42: 0 | M42: =J42+L42 -> 0
I43: 3.95 | J43: 0 | K43: 0 | L43: 0 | M43: =J43+L43 -> 0
I44: 4.05 | J44: 0 | K44: 0 | L44: 0 | M44: =J44+L44 -> 0
I45: 4.15 | J45: 0 | K45: 0 | L45: 0 | M45: =J45+L45 -> 0
I46: 4.25 | J46: 0 | K46: 0 | L46: 0 | M46: =J46+L46 -> 0
I47: 4.35 | J47: 0 | K47: 0 | L47: 0 | M47: =J47+L47 -> 0
I48: 4.45 | J48: 0 | K48: 0 | L48: 0 | M48: =J48+L48 -> 0
I49: 4.55 | J49: 0 | K49: 0 | L49: 0 | M49: =J49+L49 -> 0
I50: 4.65 | J50: 0 | K50: 0 | L50: 0 | M50: =J50+L50 -> 0
I51: 4.75 | J51: 0 | K51: 0 | L51: 0 | M51: =J51+L51 -> 0
... I53: 4.95 | J53: 0 | K53: 0 | L53: 0 | M53: =J53+L53 -> 0
J54: =SUM(J4:J53) -> 66 | K54: =SUM(K4:K53) -> 12 | L54: =SUM(L4:L53) -> 96 | M54: =SUM(M4:M53) -> 162
